Workbook

Sheet Overview
B2: This sheet is provided as a tool to calculate salt intrusion in alluvial estuaries. It uses the analytical model as described in Salinity and Tides by H.H.G Savenije 2005
B14: Estuary
B15: ChaoPhy
B17: Geometry
B18: Area at mouth | C18: A0 | D18: 5300 | E18: m2
B19: Area at x1 | C19: A1 | D19: 5300 | E19: m2
B20: Convergence length | C20: a1 | D20: 109000 | E20: m
B21: Convergence length 2 | C21: a2 | D21: 109000 | E21: m
B22: Inflection point | C22: x1 | D22: 0 | E22: m
B23: Depth | C23: h0 | D23: 7.2 | E23: m
B25: Measurements
B26: 22802
B27: 31793
B28: 30370
B29: 30345

Sheet 5-6-1962
A1: STEADY SALT INTRUSION MODEL (TA)
A2: ChaoPhy 5-6-1962
A3: Input | F3: Measurements
A4: Step length | B4: dx | C4: 1000 | D4: m | F4: x (m) | G4: HWS | H4: x (m) | I4: LWS
A5: Sea salinity | B5: S0 | C5: 22 | D5: kg/m3 | F5: 0 | G5: 28.5 | H5: 0 | I5: 15.1
A6: Tidal Excursion | B6: E0 | C6: 22000 | D6: m | F6: 3000 | G6: 26.7 | H6: 3000 | I6: 13.2
A7: Tidal Range | B7: H | C7: 2.2 | D7: m | F7: 6000 | G7: 26.3 | H7: 6000 | I7: 12.2
A8: Fresh water salinity | B8: Cf | C8: 0 | D8: kg/m3 | F8: 9000 | G8: 25.8 | H8: 9000 | I8: 9.7
F9: 12000 | G9: 24.3 | H9: 12000 | I9: 8.1
A10: Calibration parameters | F10: 15000 | G10: 20.9 | H10: 15000 | I10: 5.8
A11: Van Den Burgh | B11: K | C11: 0.8 | F11: 18000 | G11: 18.1 | H11: 18000 | I11: 4.6
A12: Dispersion at mouth | B12: Do | C12: 450 | D12: m2/s | F12: 21000 | G12: 16.6 | H12: 21000 | I12: 3.4
A13: Discharge | B13: Q | C13: 63 | D13: m3/s | F13: 24000 | G13: 14.9 | H13: 24000 | I13: 2.6
A14: Alpha 0 | B14: α0 | C14: =C12/C13 -> 7.1428571 | D14: 1/m | F14: 27000 | G14: 12.9 | H14: 27000 | I14: 1.3
F15: 30000 | G15: 9.9 | H15: 30000 | I15: 0.3
A16: Geometry | F16: 33000 | G16: 9.5 | H16: 33000 | I16: 0
A17: Area at mouth | B17: A0 | C17: =Overview!D18 -> 5300 | D17: m2 | F17: 36000 | G17: 7.5
A18: Area at x1 | B18: A1 | C18: =Overview!D19 -> 5300 | D18: m2 | F18: 39000 | G18: 4.9
A19: Convergence length | B19: a1 | C19: =Overview!D20 -> 109000 | D19: m
A20: Convergence length 2 | B20: a2 | C20: =Overview!D21 -> 109000 | D20: m
A21: Inflection point | B21: x1 | C21: =Overview!D22 -> 0 | D21: m
A22: Depth | B22: h0 | C22: =Overview!D23 -> 7.2 | D22: m
A24: Calculations | F24: REMARKS
A25: Beta | B25: β | C25: =$C$11*$C$19/C$14/$C$17 -> 2.3033962
A26: Alpha 1 | B26: α1 | C26: =C29/C13 -> 7.1428571 | D26: 1/m
A27: Beta1 | B27: β1 | C27: =C11*C20/C26/C18 -> 2.3033962
A28: Salinity at x1 | B28: S1 | C28: =($C$5-$C$8)*(C29/C12)^(1/$C$11)+$C$8 -> 22 | D28: kg/m3
A29: Dispersion at x1 | B29: D1 | C29: =C12*(1-C25*(EXP(C21/C19)-1)) -> 450
A31: x: | B31: Shifted x | E31: A | F31: D | G31: S | H31: xLWS | I31: xHWS
A32: =A33-$C$4-9000 -> -18000 | E32: =IF(A32<=$C$21,$C$17*EXP(-A32/$C$19),$C$18*EXP(-(A32-$C$21)/$C$20)) -> 6251.6438 | F32: =IF(A32<=$C$21,IF($C$12*(1-$C$25*(EXP(A32/$C$19)-1))>0,$C$12*(1-$C$25*(EXP(A32/$C$19)-1)),0),IF($C$29*(1-$C$27*(EXP((A32-$C$21)/$C$20)-1))>0,$C$29*(1-$C$27*(EXP((A32-$C$21)/$C$20)-1)),0)) -> 607.78342 | G32: =IF(A32<=$C$21,($C$5-$C$8)*(F32/$C$12)^(1/$C$11)+$C$8, ($C$28-$C$8)*(F32/$C$29)^(1/$C$11)+$C$8) -> 32.032667 | H32: =A32-$C$6/2 -> -29000 | I32: =A32+$C$6/2 -> -7000
A33: =A34-$C$4 -> -8000 | E33: =IF(A33<=$C$21,$C$17*EXP(-A33/$C$19),$C$18*EXP(-(A33-$C$21)/$C$20)) -> 5703.6215 | F33: =IF(A33<=$C$21,IF($C$12*(1-$C$25*(EXP(A33/$C$19)-1))>0,$C$12*(1-$C$25*(EXP(A33/$C$19)-1)),0),IF($C$29*(1-$C$27*(EXP((A33-$C$21)/$C$20)-1))>0,$C$29*(1-$C$27*(EXP((A33-$C$21)/$C$20)-1)),0)) -> 523.35078 | G33: =IF(A33<=$C$21,($C$5-$C$8)*(F33/$C$12)^(1/$C$11)+$C$8, ($C$28-$C$8)*(F33/$C$29)^(1/$C$11)+$C$8) -> 26.570402 | H33: =A33-$C$6/2 -> -19000 | I33: =A33+$C$6/2 -> 3000
A34: =A35-$C$4 -> -7000 | E34: =IF(A34<=$C$21,$C$17*EXP(-A34/$C$19),$C$18*EXP(-(A34-$C$21)/$C$20)) -> 5651.534 | F34: =IF(A34<=$C$21,IF($C$12*(1-$C$25*(EXP(A34/$C$19)-1))>0,$C$12*(1-$C$25*(EXP(A34/$C$19)-1)),0),IF($C$29*(1-$C$27*(EXP((A34-$C$21)/$C$20)-1))>0,$C$29*(1-$C$27*(EXP((A34-$C$21)/$C$20)-1)),0)) -> 514.47363 | G34: =IF(A34<=$C$21,($C$5-$C$8)*(F34/$C$12)^(1/$C$11)+$C$8, ($C$28-$C$8)*(F34/$C$29)^(1/$C$11)+$C$8) -> 26.008238 | H34: =A34-$C$6/2 -> -18000 | I34: =A34+$C$6/2 -> 4000
A35: =A36-$C$4 -> -6000 | E35: =IF(A35<=$C$21,$C$17*EXP(-A35/$C$19),$C$18*EXP(-(A35-$C$21)/$C$20)) -> 5599.9221 | F35: =IF(A35<=$C$21,IF($C$12*(1-$C$25*(EXP(A35/$C$19)-1))>0,$C$12*(1-$C$25*(EXP(A35/$C$19)-1)),0),IF($C$29*(1-$C$27*(EXP((A35-$C$21)/$C$20)-1))>0,$C$29*(1-$C$27*(EXP((A35-$C$21)/$C$20)-1)),0)) -> 505.51466 | G35: =IF(A35<=$C$21,($C$5-$C$8)*(F35/$C$12)^(1/$C$11)+$C$8, ($C$28-$C$8)*(F35/$C$29)^(1/$C$11)+$C$8) -> 25.443346 | H35: =A35-$C$6/2 -> -17000 | I35: =A35+$C$6/2 -> 5000
A36: =A37-$C$4 -> -5000 | E36: =IF(A36<=$C$21,$C$17*EXP(-A36/$C$19),$C$18*EXP(-(A36-$C$21)/$C$20)) -> 5548.7816 | F36: =IF(A36<=$C$21,IF($C$12*(1-$C$25*(EXP(A36/$C$19)-1))>0,$C$12*(1-$C$25*(EXP(A36/$C$19)-1)),0),IF($C$29*(1-$C$27*(EXP((A36-$C$21)/$C$20)-1))>0,$C$29*(1-$C$27*(EXP((A36-$C$21)/$C$20)-1)),0)) -> 496.47312 | G36: =IF(A36<=$C$21,($C$5-$C$8)*(F36/$C$12)^(1/$C$11)+$C$8, ($C$28-$C$8)*(F36/$C$29)^(1/$C$11)+$C$8) -> 24.875781 | H36: =A36-$C$6/2 -> -16000 | I36: =A36+$C$6/2 -> 6000
A37: =A38-$C$4 -> -4000 | E37: =IF(A37<=$C$21,$C$17*EXP(-A37/$C$19),$C$18*EXP(-(A37-$C$21)/$C$20)) -> 5498.1082 | F37: =IF(A37<=$C$21,IF($C$12*(1-$C$25*(EXP(A37/$C$19)-1))>0,$C$12*(1-$C$25*(EXP(A37/$C$19)-1)),0),IF($C$29*(1-$C$27*(EXP((A37-$C$21)/$C$20)-1))>0,$C$29*(1-$C$27*(EXP((A37-$C$21)/$C$20)-1)),0)) -> 487.34826 | G37: =IF(A37<=$C$21,($C$5-$C$8)*(F37/$C$12)^(1/$C$11)+$C$8, ($C$28-$C$8)*(F37/$C$29)^(1/$C$11)+$C$8) -> 24.305598 | H37: =A37-$C$6/2 -> -15000 | I37: =A37+$C$6/2 -> 7000
A38: =A39-$C$4 -> -3000 | E38: =IF(A38<=$C$21,$C$17*EXP(-A38/$C$19),$C$18*EXP(-(A38-$C$21)/$C$20)) -> 5447.8975 | F38: =IF(A38<=$C$21,IF($C$12*(1-$C$25*(EXP(A38/$C$19)-1))>0,$C$12*(1-$C$25*(EXP(A38/$C$19)-1)),0),IF($C$29*(1-$C$27*(EXP((A38-$C$21)/$C$20)-1))>0,$C$29*(1-$C$27*(EXP((A38-$C$21)/$C$20)-1)),0)) -> 478.13929 | G38: =IF(A38<=$C$21,($C$5-$C$8)*(F38/$C$12)^(1/$C$11)+$C$8, ($C$28-$C$8)*(F38/$C$29)^(1/$C$11)+$C$8) -> 23.73286 | H38: =A38-$C$6/2 -> -14000 | I38: =A38+$C$6/2 -> 8000
A39: =A40-$C$4 -> -2000 | E39: =IF(A39<=$C$21,$C$17*EXP(-A39/$C$19),$C$18*EXP(-(A39-$C$21)/$C$20)) -> 5398.1454 | F39: =IF(A39<=$C$21,IF($C$12*(1-$C$25*(EXP(A39/$C$19)-1))>0,$C$12*(1-$C$25*(EXP(A39/$C$19)-1)),0),IF($C$29*(1-$C$27*(EXP((A39-$C$21)/$C$20)-1))>0,$C$29*(1-$C$27*(EXP((A39-$C$21)/$C$20)-1)),0)) -> 468.84545 | G39: =IF(A39<=$C$21,($C$5-$C$8)*(F39/$C$12)^(1/$C$11)+$C$8, ($C$28-$C$8)*(F39/$C$29)^(1/$C$11)+$C$8) -> 23.157633 | H39: =A39-$C$6/2 -> -13000 | I39: =A39+$C$6/2 -> 9000
A40: =A41-$C$4 -> -1000 | E40: =IF(A40<=$C$21,$C$17*EXP(-A40/$C$19),$C$18*EXP(-(A40-$C$21)/$C$20)) -> 5348.8476 | F40: =IF(A40<=$C$21,IF($C$12*(1-$C$25*(EXP(A40/$C$19)-1))>0,$C$12*(1-$C$25*(EXP(A40/$C$19)-1)),0),IF($C$29*(1-$C$27*(EXP((A40-$C$21)/$C$20)-1))>0,$C$29*(1-$C$27*(EXP((A40-$C$21)/$C$20)-1)),0)) -> 459.46595 | G40: =IF(A40<=$C$21,($C$5-$C$8)*(F40/$C$12)^(1/$C$11)+$C$8, ($C$28-$C$8)*(F40/$C$29)^(1/$C$11)+$C$8) -> 22.579988 | H40: =A40-$C$6/2 -> -12000 | I40: =A40+$C$6/2 -> 10000
A41: 0 | E41: =IF(A41<=$C$21,$C$17*EXP(-A41/$C$19),$C$18*EXP(-(A41-$C$21)/$C$20)) -> 5300 | F41: =IF(A41<=$C$21,IF($C$12*(1-$C$25*(EXP(A41/$C$19)-1))>0,$C$12*(1-$C$25*(EXP(A41/$C$19)-1)),0),IF($C$29*(1-$C$27*(EXP((A41-$C$21)/$C$20)-1))>0,$C$29*(1-$C$27*(EXP((A41-$C$21)/$C$20)-1)),0)) -> 450 | G41: =IF(A41<=$C$21,($C$5-$C$8)*(F41/$C$12)^(1/$C$11)+$C$8, ($C$28-$C$8)*(F41/$C$29)^(1/$C$11)+$C$8) -> 22 | H41: =A41-$C$6/2 -> -11000 | I41: =A41+$C$6/2 -> 11000
A42: =A41+$C$4 -> 1000 | E42: =IF(A42<=$C$21,$C$17*EXP(-A42/$C$19),$C$18*EXP(-(A42-$C$21)/$C$20)) -> 5251.5985 | F42: =IF(A42<=$C$21,IF($C$12*(1-$C$25*(EXP(A42/$C$19)-1))>0,$C$12*(1-$C$25*(EXP(A42/$C$19)-1)),0),IF($C$29*(1-$C$27*(EXP((A42-$C$21)/$C$20)-1))>0,$C$29*(1-$C$27*(EXP((A42-$C$21)/$C$20)-1)),0)) -> 440.44681 | G42: =IF(A42<=$C$21,($C$5-$C$8)*(F42/$C$12)^(1/$C$11)+$C$8, ($C$28-$C$8)*(F42/$C$29)^(1/$C$11)+$C$8) -> 21.417752 | H42: =A42-$C$6/2 -> -10000 | I42: =A42+$C$6/2 -> 12000
A43: =A42+$C$4 -> 2000 | E43: =IF(A43<=$C$21,$C$17*EXP(-A43/$C$19),$C$18*EXP(-(A43-$C$21)/$C$20)) -> 5203.639 | F43: =IF(A43<=$C$21,IF($C$12*(1-$C$25*(EXP(A43/$C$19)-1))>0,$C$12*(1-$C$25*(EXP(A43/$C$19)-1)),0),IF($C$29*(1-$C$27*(EXP((A43-$C$21)/$C$20)-1))>0,$C$29*(1-$C$27*(EXP((A43-$C$21)/$C$20)-1)),0)) -> 430.80557 | G43: =IF(A43<=$C$21,($C$5-$C$8)*(F43/$C$12)^(1/$C$11)+$C$8, ($C$28-$C$8)*(F43/$C$29)^(1/$C$11)+$C$8) -> 20.833329 | H43: =A43-$C$6/2 -> -9000 | I43: =A43+$C$6/2 -> 13000
A44: =A43+$C$4 -> 3000 | E44: =IF(A44<=$C$21,$C$17*EXP(-A44/$C$19),$C$18*EXP(-(A44-$C$21)/$C$20)) -> 5156.1176 | F44: =IF(A44<=$C$21,IF($C$12*(1-$C$25*(EXP(A44/$C$19)-1))>0,$C$12*(1-$C$25*(EXP(A44/$C$19)-1)),0),IF($C$29*(1-$C$27*(EXP((A44-$C$21)/$C$20)-1))>0,$C$29*(1-$C$27*(EXP((A44-$C$21)/$C$20)-1)),0)) -> 421.07548 | G44: =IF(A44<=$C$21,($C$5-$C$8)*(F44/$C$12)^(1/$C$11)+$C$8, ($C$28-$C$8)*(F44/$C$29)^(1/$C$11)+$C$8) -> 20.246827 | H44: =A44-$C$6/2 -> -8000 | I44: =A44+$C$6/2 -> 14000
A45: =A44+$C$4 -> 4000 | E45: =IF(A45<=$C$21,$C$17*EXP(-A45/$C$19),$C$18*EXP(-(A45-$C$21)/$C$20)) -> 5109.0301 | F45: =IF(A45<=$C$21,IF($C$12*(1-$C$25*(EXP(A45/$C$19)-1))>0,$C$12*(1-$C$25*(EXP(A45/$C$19)-1)),0),IF($C$29*(1-$C$27*(EXP((A45-$C$21)/$C$20)-1))>0,$C$29*(1-$C$27*(EXP((A45-$C$21)/$C$20)-1)),0)) -> 411.25571 | G45: =IF(A45<=$C$21,($C$5-$C$8)*(F45/$C$12)^(1/$C$11)+$C$8, ($C$28-$C$8)*(F45/$C$29)^(1/$C$11)+$C$8) -> 19.658345 | H45: =A45-$C$6/2 -> -7000 | I45: =A45+$C$6/2 -> 15000
A46: =A45+$C$4 -> 5000 | E46: =IF(A46<=$C$21,$C$17*EXP(-A46/$C$19),$C$18*EXP(-(A46-$C$21)/$C$20)) -> 5062.3726 | F46: =IF(A46<=$C$21,IF($C$12*(1-$C$25*(EXP(A46/$C$19)-1))>0,$C$12*(1-$C$25*(EXP(A46/$C$19)-1)),0),IF($C$29*(1-$C$27*(EXP((A46-$C$21)/$C$20)-1))>0,$C$29*(1-$C$27*(EXP((A46-$C$21)/$C$20)-1)),0)) -> 401.34543 | G46: =IF(A46<=$C$21,($C$5-$C$8)*(F46/$C$12)^(1/$C$11)+$C$8, ($C$28-$C$8)*(F46/$C$29)^(1/$C$11)+$C$8) -> 19.067991 | H46: =A46-$C$6/2 -> -6000 | I46: =A46+$C$6/2 -> 16000
A47: =A46+$C$4 -> 6000 | E47: =IF(A47<=$C$21,$C$17*EXP(-A47/$C$19),$C$18*EXP(-(A47-$C$21)/$C$20)) -> 5016.1412 | F47: =IF(A47<=$C$21,IF($C$12*(1-$C$25*(EXP(A47/$C$19)-1))>0,$C$12*(1-$C$25*(EXP(A47/$C$19)-1)),0),IF($C$29*(1-$C$27*(EXP((A47-$C$21)/$C$20)-1))>0,$C$29*(1-$C$27*(EXP((A47-$C$21)/$C$20)-1)),0)) -> 391.34382 | G47: =IF(A47<=$C$21,($C$5-$C$8)*(F47/$C$12)^(1/$C$11)+$C$8, ($C$28-$C$8)*(F47/$C$29)^(1/$C$11)+$C$8) -> 18.47588 | H47: =A47-$C$6/2 -> -5000 | I47: =A47+$C$6/2 -> 17000
A48: =A47+$C$4 -> 7000 | E48: =IF(A48<=$C$21,$C$17*EXP(-A48/$C$19),$C$18*EXP(-(A48-$C$21)/$C$20)) -> 4970.332 | F48: =IF(A48<=$C$21,IF($C$12*(1-$C$25*(EXP(A48/$C$19)-1))>0,$C$12*(1-$C$25*(EXP(A48/$C$19)-1)),0),IF($C$29*(1-$C$27*(EXP((A48-$C$21)/$C$20)-1))>0,$C$29*(1-$C$27*(EXP((A48-$C$21)/$C$20)-1)),0)) -> 381.25002 | G48: =IF(A48<=$C$21,($C$5-$C$8)*(F48/$C$12)^(1/$C$11)+$C$8, ($C$28-$C$8)*(F48/$C$29)^(1/$C$11)+$C$8) -> 17.882136 | H48: =A48-$C$6/2 -> -4000 | I48: =A48+$C$6/2 -> 18000
A49: =A48+$C$4 -> 8000 | E49: =IF(A49<=$C$21,$C$17*EXP(-A49/$C$19),$C$18*EXP(-(A49-$C$21)/$C$20)) -> 4924.9411 | F49: =IF(A49<=$C$21,IF($C$12*(1-$C$25*(EXP(A49/$C$19)-1))>0,$C$12*(1-$C$25*(EXP(A49/$C$19)-1)),0),IF($C$29*(1-$C$27*(EXP((A49-$C$21)/$C$20)-1))>0,$C$29*(1-$C$27*(EXP((A49-$C$21)/$C$20)-1)),0)) -> 371.0632 | G49: =IF(A49<=$C$21,($C$5-$C$8)*(F49/$C$12)^(1/$C$11)+$C$8, ($C$28-$C$8)*(F49/$C$29)^(1/$C$11)+$C$8) -> 17.286891 | H49: =A49-$C$6/2 -> -3000 | I49: =A49+$C$6/2 -> 19000
A50: =A49+$C$4 -> 9000 | E50: =IF(A50<=$C$21,$C$17*EXP(-A50/$C$19),$C$18*EXP(-(A50-$C$21)/$C$20)) -> 4879.9648 | F50: =IF(A50<=$C$21,IF($C$12*(1-$C$25*(EXP(A50/$C$19)-1))>0,$C$12*(1-$C$25*(EXP(A50/$C$19)-1)),0),IF($C$29*(1-$C$27*(EXP((A50-$C$21)/$C$20)-1))>0,$C$29*(1-$C$27*(EXP((A50-$C$21)/$C$20)-1)),0)) -> 360.78248 | G50: =IF(A50<=$C$21,($C$5-$C$8)*(F50/$C$12)^(1/$C$11)+$C$8, ($C$28-$C$8)*(F50/$C$29)^(1/$C$11)+$C$8) -> 16.690289 | H50: =A50-$C$6/2 -> -2000 | I50: =A50+$C$6/2 -> 20000
A51: =A50+$C$4 -> 10000 | E51: =IF(A51<=$C$21,$C$17*EXP(-A51/$C$19),$C$18*EXP(-(A51-$C$21)/$C$20)) -> 4835.3993 | F51: =IF(A51<=$C$21,IF($C$12*(1-$C$25*(EXP(A51/$C$19)-1))>0,$C$12*(1-$C$25*(EXP(A51/$C$19)-1)),0),IF($C$29*(1-$C$27*(EXP((A51-$C$21)/$C$20)-1))>0,$C$29*(1-$C$27*(EXP((A51-$C$21)/$C$20)-1)),0)) -> 350.40702 | G51: =IF(A51<=$C$21,($C$5-$C$8)*(F51/$C$12)^(1/$C$11)+$C$8, ($C$28-$C$8)*(F51/$C$29)^(1/$C$11)+$C$8) -> 16.092482 | H51: =A51-$C$6/2 -> -1000 | I51: =A51+$C$6/2 -> 21000
A52: =A51+$C$4 -> 11000 | E52: =IF(A52<=$C$21,$C$17*EXP(-A52/$C$19),$C$18*EXP(-(A52-$C$21)/$C$20)) -> 4791.2407 | F52: =IF(A52<=$C$21,IF($C$12*(1-$C$25*(EXP(A52/$C$19)-1))>0,$C$12*(1-$C$25*(EXP(A52/$C$19)-1)),0),IF($C$29*(1-$C$27*(EXP((A52-$C$21)/$C$20)-1))>0,$C$29*(1-$C$27*(EXP((A52-$C$21)/$C$20)-1)),0)) -> 339.93593 | G52: =IF(A52<=$C$21,($C$5-$C$8)*(F52/$C$12)^(1/$C$11)+$C$8, ($C$28-$C$8)*(F52/$C$29)^(1/$C$11)+$C$8) -> 15.493637 | H52: =A52-$C$6/2 -> 0 | I52: =A52+$C$6/2 -> 22000
A53: =A52+$C$4 -> 12000 | E53: =IF(A53<=$C$21,$C$17*EXP(-A53/$C$19),$C$18*EXP(-(A53-$C$21)/$C$20)) -> 4747.4853 | F53: =IF(A53<=$C$21,IF($C$12*(1-$C$25*(EXP(A53/$C$19)-1))>0,$C$12*(1-$C$25*(EXP(A53/$C$19)-1)),0),IF($C$29*(1-$C$27*(EXP((A53-$C$21)/$C$20)-1))>0,$C$29*(1-$C$27*(EXP((A53-$C$21)/$C$20)-1)),0)) -> 329.36833 | G53: =IF(A53<=$C$21,($C$5-$C$8)*(F53/$C$12)^(1/$C$11)+$C$8, ($C$28-$C$8)*(F53/$C$29)^(1/$C$11)+$C$8) -> 14.893931 | H53: =A53-$C$6/2 -> 1000 | I53: =A53+$C$6/2 -> 23000
... A167: =A166+$C$4 -> 126000 | E167: =IF(A167<=$C$21,$C$17*EXP(-A167/$C$19),$C$18*EXP(-(A167-$C$21)/$C$20)) -> 1668.1972 | F167: =IF(A167<=$C$21,IF($C$12*(1-$C$25*(EXP(A167/$C$19)-1))>0,$C$12*(1-$C$25*(EXP(A167/$C$19)-1)),0),IF($C$29*(1-$C$27*(EXP((A167-$C$21)/$C$20)-1))>0,$C$29*(1-$C$27*(EXP((A167-$C$21)/$C$20)-1)),0)) -> 0 | G167: =IF(A167<=$C$21,($C$5-$C$8)*(F167/$C$12)^(1/$C$11)+$C$8, ($C$28-$C$8)*(F167/$C$29)^(1/$C$11)+$C$8) -> 0 | H167: =A167-$C$6/2 -> 115000 | I167: =A167+$C$6/2 -> 137000

Sheet 16-1-1987
A1: STEADY SALT INTRUSION MODEL (TA)
A2: ChaoPhy 16-1-1987
A3: Input | F3: Measurements
A4: Step length | B4: dx | C4: 1000 | D4: m | F4: x (m) | G4: HWS | H4: x (m) | I4: LWS
A5: Sea salinity | B5: S0 | C5: 14 | D5: kg/m3 | F5: 3500 | G5: 14.1 | H5: 7200 | I5: 2.8
A6: Tidal Excursion | B6: E0 | C6: 15000 | D6: m | F6: 6500 | G6: 13.8 | H6: 17700 | I6: 0.2
A7: Tidal Range | B7: H | C7: 2.5 | D7: m | F7: 7200 | G7: 13.7
A8: Fresh water salinity | B8: Cf | C8: 0 | D8: kg/m3 | F8: 17500 | G8: 5.65
F9: 23200 | G9: 1.3
A10: Calibration parameters | F10: 26800 | G10: 0.2
A11: Van Den Burgh | B11: K | C11: 0.8
A12: Dispersion at mouth | B12: Do | C12: 570 | D12: m2/s
A13: Discharge | B13: Q | C13: 180 | D13: m3/s
A14: Alpha 0 | B14: α0 | C14: =C12/C13 -> 3.1666667 | D14: 1/m
A16: Geometry
A17: Area at mouth | B17: A0 | C17: =Overview!D18 -> 5300 | D17: m2
A18: Area at x1 | B18: A1 | C18: =Overview!D19 -> 5300 | D18: m2
A19: Convergence length | B19: a1 | C19: =Overview!D20 -> 109000 | D19: m
A20: Convergence length 2 | B20: a2 | C20: =Overview!D21 -> 109000 | D20: m
A21: Inflection point | B21: x1 | C21: =Overview!D22 -> 0 | D21: m
A22: Depth | B22: h0 | C22: =Overview!D23 -> 7.2 | D22: m
A24: Calculations | F24: REMARKS
A25: Beta | B25: β | C25: =$C$11*$C$19/C$14/$C$17 -> 5.1956306
A26: Alpha 1 | B26: α1 | C26: =C29/C13 -> 3.1666667 | D26: 1/m
A27: Beta1 | B27: β1 | C27: =C11*C20/C26/C18 -> 5.1956306
A28: Salinity at x1 | B28: S1 | C28: =($C$5-$C$8)*(C29/C12)^(1/$C$11)+$C$8 -> 14 | D28: kg/m3
A29: Dispersion at x1 | B29: D1 | C29: =C12*(1-C25*(EXP(C21/C19)-1)) -> 570
A31: x: | B31: Shifted x | E31: A | F31: D | G31: S | H31: xLWS | I31: xHWS
A32: =A33-$C$4-9000 -> -18000 | E32: =IF(A32<=$C$21,$C$17*EXP(-A32/$C$19),$C$18*EXP(-(A32-$C$21)/$C$20)) -> 6251.6438 | F32: =IF(A32<=$C$21,IF($C$12*(1-$C$25*(EXP(A32/$C$19)-1))>0,$C$12*(1-$C$25*(EXP(A32/$C$19)-1)),0),IF($C$29*(1-$C$27*(EXP((A32-$C$21)/$C$20)-1))>0,$C$29*(1-$C$27*(EXP((A32-$C$21)/$C$20)-1)),0)) -> 1020.8098 | G32: =IF(A32<=$C$21,($C$5-$C$8)*(F32/$C$12)^(1/$C$11)+$C$8, ($C$28-$C$8)*(F32/$C$29)^(1/$C$11)+$C$8) -> 29.004507 | H32: =A32-$C$6/2 -> -25500 | I32: =A32+$C$6/2 -> -10500
A33: =A34-$C$4 -> -8000 | E33: =IF(A33<=$C$21,$C$17*EXP(-A33/$C$19),$C$18*EXP(-(A33-$C$21)/$C$20)) -> 5703.6215 | F33: =IF(A33<=$C$21,IF($C$12*(1-$C$25*(EXP(A33/$C$19)-1))>0,$C$12*(1-$C$25*(EXP(A33/$C$19)-1)),0),IF($C$29*(1-$C$27*(EXP((A33-$C$21)/$C$20)-1))>0,$C$29*(1-$C$27*(EXP((A33-$C$21)/$C$20)-1)),0)) -> 779.57365 | G33: =IF(A33<=$C$21,($C$5-$C$8)*(F33/$C$12)^(1/$C$11)+$C$8, ($C$28-$C$8)*(F33/$C$29)^(1/$C$11)+$C$8) -> 20.706462 | H33: =A33-$C$6/2 -> -15500 | I33: =A33+$C$6/2 -> -500
A34: =A35-$C$4 -> -7000 | E34: =IF(A34<=$C$21,$C$17*EXP(-A34/$C$19),$C$18*EXP(-(A34-$C$21)/$C$20)) -> 5651.534 | F34: =IF(A34<=$C$21,IF($C$12*(1-$C$25*(EXP(A34/$C$19)-1))>0,$C$12*(1-$C$25*(EXP(A34/$C$19)-1)),0),IF($C$29*(1-$C$27*(EXP((A34-$C$21)/$C$20)-1))>0,$C$29*(1-$C$27*(EXP((A34-$C$21)/$C$20)-1)),0)) -> 754.21036 | G34: =IF(A34<=$C$21,($C$5-$C$8)*(F34/$C$12)^(1/$C$11)+$C$8, ($C$28-$C$8)*(F34/$C$29)^(1/$C$11)+$C$8) -> 19.867814 | H34: =A34-$C$6/2 -> -14500 | I34: =A34+$C$6/2 -> 500
A35: =A36-$C$4 -> -6000 | E35: =IF(A35<=$C$21,$C$17*EXP(-A35/$C$19),$C$18*EXP(-(A35-$C$21)/$C$20)) -> 5599.9221 | F35: =IF(A35<=$C$21,IF($C$12*(1-$C$25*(EXP(A35/$C$19)-1))>0,$C$12*(1-$C$25*(EXP(A35/$C$19)-1)),0),IF($C$29*(1-$C$27*(EXP((A35-$C$21)/$C$20)-1))>0,$C$29*(1-$C$27*(EXP((A35-$C$21)/$C$20)-1)),0)) -> 728.61332 | G35: =IF(A35<=$C$21,($C$5-$C$8)*(F35/$C$12)^(1/$C$11)+$C$8, ($C$28-$C$8)*(F35/$C$29)^(1/$C$11)+$C$8) -> 19.028557 | H35: =A35-$C$6/2 -> -13500 | I35: =A35+$C$6/2 -> 1500
A36: =A37-$C$4 -> -5000 | E36: =IF(A36<=$C$21,$C$17*EXP(-A36/$C$19),$C$18*EXP(-(A36-$C$21)/$C$20)) -> 5548.7816 | F36: =IF(A36<=$C$21,IF($C$12*(1-$C$25*(EXP(A36/$C$19)-1))>0,$C$12*(1-$C$25*(EXP(A36/$C$19)-1)),0),IF($C$29*(1-$C$27*(EXP((A36-$C$21)/$C$20)-1))>0,$C$29*(1-$C$27*(EXP((A36-$C$21)/$C$20)-1)),0)) -> 702.78035 | G36: =IF(A36<=$C$21,($C$5-$C$8)*(F36/$C$12)^(1/$C$11)+$C$8, ($C$28-$C$8)*(F36/$C$29)^(1/$C$11)+$C$8) -> 18.189007 | H36: =A36-$C$6/2 -> -12500 | I36: =A36+$C$6/2 -> 2500
A37: =A38-$C$4 -> -4000 | E37: =IF(A37<=$C$21,$C$17*EXP(-A37/$C$19),$C$18*EXP(-(A37-$C$21)/$C$20)) -> 5498.1082 | F37: =IF(A37<=$C$21,IF($C$12*(1-$C$25*(EXP(A37/$C$19)-1))>0,$C$12*(1-$C$25*(EXP(A37/$C$19)-1)),0),IF($C$29*(1-$C$27*(EXP((A37-$C$21)/$C$20)-1))>0,$C$29*(1-$C$27*(EXP((A37-$C$21)/$C$20)-1)),0)) -> 676.7093 | G37: =IF(A37<=$C$21,($C$5-$C$8)*(F37/$C$12)^(1/$C$11)+$C$8, ($C$28-$C$8)*(F37/$C$29)^(1/$C$11)+$C$8) -> 17.349507 | H37: =A37-$C$6/2 -> -11500 | I37: =A37+$C$6/2 -> 3500
A38: =A39-$C$4 -> -3000 | E38: =IF(A38<=$C$21,$C$17*EXP(-A38/$C$19),$C$18*EXP(-(A38-$C$21)/$C$20)) -> 5447.8975 | F38: =IF(A38<=$C$21,IF($C$12*(1-$C$25*(EXP(A38/$C$19)-1))>0,$C$12*(1-$C$25*(EXP(A38/$C$19)-1)),0),IF($C$29*(1-$C$27*(EXP((A38-$C$21)/$C$20)-1))>0,$C$29*(1-$C$27*(EXP((A38-$C$21)/$C$20)-1)),0)) -> 650.39796 | G38: =IF(A38<=$C$21,($C$5-$C$8)*(F38/$C$12)^(1/$C$11)+$C$8, ($C$28-$C$8)*(F38/$C$29)^(1/$C$11)+$C$8) -> 16.510432 | H38: =A38-$C$6/2 -> -10500 | I38: =A38+$C$6/2 -> 4500
A39: =A40-$C$4 -> -2000 | E39: =IF(A39<=$C$21,$C$17*EXP(-A39/$C$19),$C$18*EXP(-(A39-$C$21)/$C$20)) -> 5398.1454 | F39: =IF(A39<=$C$21,IF($C$12*(1-$C$25*(EXP(A39/$C$19)-1))>0,$C$12*(1-$C$25*(EXP(A39/$C$19)-1)),0),IF($C$29*(1-$C$27*(EXP((A39-$C$21)/$C$20)-1))>0,$C$29*(1-$C$27*(EXP((A39-$C$21)/$C$20)-1)),0)) -> 623.84413 | G39: =IF(A39<=$C$21,($C$5-$C$8)*(F39/$C$12)^(1/$C$11)+$C$8, ($C$28-$C$8)*(F39/$C$29)^(1/$C$11)+$C$8) -> 15.672186 | H39: =A39-$C$6/2 -> -9500 | I39: =A39+$C$6/2 -> 5500
A40: =A41-$C$4 -> -1000 | E40: =IF(A40<=$C$21,$C$17*EXP(-A40/$C$19),$C$18*EXP(-(A40-$C$21)/$C$20)) -> 5348.8476 | F40: =IF(A40<=$C$21,IF($C$12*(1-$C$25*(EXP(A40/$C$19)-1))>0,$C$12*(1-$C$25*(EXP(A40/$C$19)-1)),0),IF($C$29*(1-$C$27*(EXP((A40-$C$21)/$C$20)-1))>0,$C$29*(1-$C$27*(EXP((A40-$C$21)/$C$20)-1)),0)) -> 597.04556 | G40: =IF(A40<=$C$21,($C$5-$C$8)*(F40/$C$12)^(1/$C$11)+$C$8, ($C$28-$C$8)*(F40/$C$29)^(1/$C$11)+$C$8) -> 14.835214 | H40: =A40-$C$6/2 -> -8500 | I40: =A40+$C$6/2 -> 6500
A41: 0 | E41: =IF(A41<=$C$21,$C$17*EXP(-A41/$C$19),$C$18*EXP(-(A41-$C$21)/$C$20)) -> 5300 | F41: =IF(A41<=$C$21,IF($C$12*(1-$C$25*(EXP(A41/$C$19)-1))>0,$C$12*(1-$C$25*(EXP(A41/$C$19)-1)),0),IF($C$29*(1-$C$27*(EXP((A41-$C$21)/$C$20)-1))>0,$C$29*(1-$C$27*(EXP((A41-$C$21)/$C$20)-1)),0)) -> 570 | G41: =IF(A41<=$C$21,($C$5-$C$8)*(F41/$C$12)^(1/$C$11)+$C$8, ($C$28-$C$8)*(F41/$C$29)^(1/$C$11)+$C$8) -> 14 | H41: =A41-$C$6/2 -> -7500 | I41: =A41+$C$6/2 -> 7500
A42: =A41+$C$4 -> 1000 | E42: =IF(A42<=$C$21,$C$17*EXP(-A42/$C$19),$C$18*EXP(-(A42-$C$21)/$C$20)) -> 5251.5985 | F42: =IF(A42<=$C$21,IF($C$12*(1-$C$25*(EXP(A42/$C$19)-1))>0,$C$12*(1-$C$25*(EXP(A42/$C$19)-1)),0),IF($C$29*(1-$C$27*(EXP((A42-$C$21)/$C$20)-1))>0,$C$29*(1-$C$27*(EXP((A42-$C$21)/$C$20)-1)),0)) -> 542.70517 | G42: =IF(A42<=$C$21,($C$5-$C$8)*(F42/$C$12)^(1/$C$11)+$C$8, ($C$28-$C$8)*(F42/$C$29)^(1/$C$11)+$C$8) -> 13.167078 | H42: =A42-$C$6/2 -> -6500 | I42: =A42+$C$6/2 -> 8500
A43: =A42+$C$4 -> 2000 | E43: =IF(A43<=$C$21,$C$17*EXP(-A43/$C$19),$C$18*EXP(-(A43-$C$21)/$C$20)) -> 5203.639 | F43: =IF(A43<=$C$21,IF($C$12*(1-$C$25*(EXP(A43/$C$19)-1))>0,$C$12*(1-$C$25*(EXP(A43/$C$19)-1)),0),IF($C$29*(1-$C$27*(EXP((A43-$C$21)/$C$20)-1))>0,$C$29*(1-$C$27*(EXP((A43-$C$21)/$C$20)-1)),0)) -> 515.15879 | G43: =IF(A43<=$C$21,($C$5-$C$8)*(F43/$C$12)^(1/$C$11)+$C$8, ($C$28-$C$8)*(F43/$C$29)^(1/$C$11)+$C$8) -> 12.337037 | H43: =A43-$C$6/2 -> -5500 | I43: =A43+$C$6/2 -> 9500
A44: =A43+$C$4 -> 3000 | E44: =IF(A44<=$C$21,$C$17*EXP(-A44/$C$19),$C$18*EXP(-(A44-$C$21)/$C$20)) -> 5156.1176 | F44: =IF(A44<=$C$21,IF($C$12*(1-$C$25*(EXP(A44/$C$19)-1))>0,$C$12*(1-$C$25*(EXP(A44/$C$19)-1)),0),IF($C$29*(1-$C$27*(EXP((A44-$C$21)/$C$20)-1))>0,$C$29*(1-$C$27*(EXP((A44-$C$21)/$C$20)-1)),0)) -> 487.35851 | G44: =IF(A44<=$C$21,($C$5-$C$8)*(F44/$C$12)^(1/$C$11)+$C$8, ($C$28-$C$8)*(F44/$C$29)^(1/$C$11)+$C$8) -> 11.510526 | H44: =A44-$C$6/2 -> -4500 | I44: =A44+$C$6/2 -> 10500
A45: =A44+$C$4 -> 4000 | E45: =IF(A45<=$C$21,$C$17*EXP(-A45/$C$19),$C$18*EXP(-(A45-$C$21)/$C$20)) -> 5109.0301 | F45: =IF(A45<=$C$21,IF($C$12*(1-$C$25*(EXP(A45/$C$19)-1))>0,$C$12*(1-$C$25*(EXP(A45/$C$19)-1)),0),IF($C$29*(1-$C$27*(EXP((A45-$C$21)/$C$20)-1))>0,$C$29*(1-$C$27*(EXP((A45-$C$21)/$C$20)-1)),0)) -> 459.30202 | G45: =IF(A45<=$C$21,($C$5-$C$8)*(F45/$C$12)^(1/$C$11)+$C$8, ($C$28-$C$8)*(F45/$C$29)^(1/$C$11)+$C$8) -> 10.68827 | H45: =A45-$C$6/2 -> -3500 | I45: =A45+$C$6/2 -> 11500
A46: =A45+$C$4 -> 5000 | E46: =IF(A46<=$C$21,$C$17*EXP(-A46/$C$19),$C$18*EXP(-(A46-$C$21)/$C$20)) -> 5062.3726 | F46: =IF(A46<=$C$21,IF($C$12*(1-$C$25*(EXP(A46/$C$19)-1))>0,$C$12*(1-$C$25*(EXP(A46/$C$19)-1)),0),IF($C$29*(1-$C$27*(EXP((A46-$C$21)/$C$20)-1))>0,$C$29*(1-$C$27*(EXP((A46-$C$21)/$C$20)-1)),0)) -> 430.98695 | G46: =IF(A46<=$C$21,($C$5-$C$8)*(F46/$C$12)^(1/$C$11)+$C$8, ($C$28-$C$8)*(F46/$C$29)^(1/$C$11)+$C$8) -> 9.8710786 | H46: =A46-$C$6/2 -> -2500 | I46: =A46+$C$6/2 -> 12500
A47: =A46+$C$4 -> 6000 | E47: =IF(A47<=$C$21,$C$17*EXP(-A47/$C$19),$C$18*EXP(-(A47-$C$21)/$C$20)) -> 5016.1412 | F47: =IF(A47<=$C$21,IF($C$12*(1-$C$25*(EXP(A47/$C$19)-1))>0,$C$12*(1-$C$25*(EXP(A47/$C$19)-1)),0),IF($C$29*(1-$C$27*(EXP((A47-$C$21)/$C$20)-1))>0,$C$29*(1-$C$27*(EXP((A47-$C$21)/$C$20)-1)),0)) -> 402.4109 | G47: =IF(A47<=$C$21,($C$5-$C$8)*(F47/$C$12)^(1/$C$11)+$C$8, ($C$28-$C$8)*(F47/$C$29)^(1/$C$11)+$C$8) -> 9.0598632 | H47: =A47-$C$6/2 -> -1500 | I47: =A47+$C$6/2 -> 13500
A48: =A47+$C$4 -> 7000 | E48: =IF(A48<=$C$21,$C$17*EXP(-A48/$C$19),$C$18*EXP(-(A48-$C$21)/$C$20)) -> 4970.332 | F48: =IF(A48<=$C$21,IF($C$12*(1-$C$25*(EXP(A48/$C$19)-1))>0,$C$12*(1-$C$25*(EXP(A48/$C$19)-1)),0),IF($C$29*(1-$C$27*(EXP((A48-$C$21)/$C$20)-1))>0,$C$29*(1-$C$27*(EXP((A48-$C$21)/$C$20)-1)),0)) -> 373.57149 | G48: =IF(A48<=$C$21,($C$5-$C$8)*(F48/$C$12)^(1/$C$11)+$C$8, ($C$28-$C$8)*(F48/$C$29)^(1/$C$11)+$C$8) -> 8.2556566 | H48: =A48-$C$6/2 -> -500 | I48: =A48+$C$6/2 -> 14500
A49: =A48+$C$4 -> 8000 | E49: =IF(A49<=$C$21,$C$17*EXP(-A49/$C$19),$C$18*EXP(-(A49-$C$21)/$C$20)) -> 4924.9411 | F49: =IF(A49<=$C$21,IF($C$12*(1-$C$25*(EXP(A49/$C$19)-1))>0,$C$12*(1-$C$25*(EXP(A49/$C$19)-1)),0),IF($C$29*(1-$C$27*(EXP((A49-$C$21)/$C$20)-1))>0,$C$29*(1-$C$27*(EXP((A49-$C$21)/$C$20)-1)),0)) -> 344.46627 | G49: =IF(A49<=$C$21,($C$5-$C$8)*(F49/$C$12)^(1/$C$11)+$C$8, ($C$28-$C$8)*(F49/$C$29)^(1/$C$11)+$C$8) -> 7.4596397 | H49: =A49-$C$6/2 -> 500 | I49: =A49+$C$6/2 -> 15500
A50: =A49+$C$4 -> 9000 | E50: =IF(A50<=$C$21,$C$17*EXP(-A50/$C$19),$C$18*EXP(-(A50-$C$21)/$C$20)) -> 4879.9648 | F50: =IF(A50<=$C$21,IF($C$12*(1-$C$25*(EXP(A50/$C$19)-1))>0,$C$12*(1-$C$25*(EXP(A50/$C$19)-1)),0),IF($C$29*(1-$C$27*(EXP((A50-$C$21)/$C$20)-1))>0,$C$29*(1-$C$27*(EXP((A50-$C$21)/$C$20)-1)),0)) -> 315.09281 | G50: =IF(A50<=$C$21,($C$5-$C$8)*(F50/$C$12)^(1/$C$11)+$C$8, ($C$28-$C$8)*(F50/$C$29)^(1/$C$11)+$C$8) -> 6.6731761 | H50: =A50-$C$6/2 -> 1500 | I50: =A50+$C$6/2 -> 16500
A51: =A50+$C$4 -> 10000 | E51: =IF(A51<=$C$21,$C$17*EXP(-A51/$C$19),$C$18*EXP(-(A51-$C$21)/$C$20)) -> 4835.3993 | F51: =IF(A51<=$C$21,IF($C$12*(1-$C$25*(EXP(A51/$C$19)-1))>0,$C$12*(1-$C$25*(EXP(A51/$C$19)-1)),0),IF($C$29*(1-$C$27*(EXP((A51-$C$21)/$C$20)-1))>0,$C$29*(1-$C$27*(EXP((A51-$C$21)/$C$20)-1)),0)) -> 285.44863 | G51: =IF(A51<=$C$21,($C$5-$C$8)*(F51/$C$12)^(1/$C$11)+$C$8, ($C$28-$C$8)*(F51/$C$29)^(1/$C$11)+$C$8) -> 5.8978594 | H51: =A51-$C$6/2 -> 2500 | I51: =A51+$C$6/2 -> 17500
A52: =A51+$C$4 -> 11000 | E52: =IF(A52<=$C$21,$C$17*EXP(-A52/$C$19),$C$18*EXP(-(A52-$C$21)/$C$20)) -> 4791.2407 | F52: =IF(A52<=$C$21,IF($C$12*(1-$C$25*(EXP(A52/$C$19)-1))>0,$C$12*(1-$C$25*(EXP(A52/$C$19)-1)),0),IF($C$29*(1-$C$27*(EXP((A52-$C$21)/$C$20)-1))>0,$C$29*(1-$C$27*(EXP((A52-$C$21)/$C$20)-1)),0)) -> 255.53123 | G52: =IF(A52<=$C$21,($C$5-$C$8)*(F52/$C$12)^(1/$C$11)+$C$8, ($C$28-$C$8)*(F52/$C$29)^(1/$C$11)+$C$8) -> 5.1355793 | H52: =A52-$C$6/2 -> 3500 | I52: =A52+$C$6/2 -> 18500
A53: =A52+$C$4 -> 12000 | E53: =IF(A53<=$C$21,$C$17*EXP(-A53/$C$19),$C$18*EXP(-(A53-$C$21)/$C$20)) -> 4747.4853 | F53: =IF(A53<=$C$21,IF($C$12*(1-$C$25*(EXP(A53/$C$19)-1))>0,$C$12*(1-$C$25*(EXP(A53/$C$19)-1)),0),IF($C$29*(1-$C$27*(EXP((A53-$C$21)/$C$20)-1))>0,$C$29*(1-$C$27*(EXP((A53-$C$21)/$C$20)-1)),0)) -> 225.33809 | G53: =IF(A53<=$C$21,($C$5-$C$8)*(F53/$C$12)^(1/$C$11)+$C$8, ($C$28-$C$8)*(F53/$C$29)^(1/$C$11)+$C$8) -> 4.3886175 | H53: =A53-$C$6/2 -> 4500 | I53: =A53+$C$6/2 -> 19500
... A167: =A166+$C$4 -> 126000 | E167: =IF(A167<=$C$21,$C$17*EXP(-A167/$C$19),$C$18*EXP(-(A167-$C$21)/$C$20)) -> 1668.1972 | F167: =IF(A167<=$C$21,IF($C$12*(1-$C$25*(EXP(A167/$C$19)-1))>0,$C$12*(1-$C$25*(EXP(A167/$C$19)-1)),0),IF($C$29*(1-$C$27*(EXP((A167-$C$21)/$C$20)-1))>0,$C$29*(1-$C$27*(EXP((A167-$C$21)/$C$20)-1)),0)) -> 0 | G167: =IF(A167<=$C$21,($C$5-$C$8)*(F167/$C$12)^(1/$C$11)+$C$8, ($C$28-$C$8)*(F167/$C$29)^(1/$C$11)+$C$8) -> 0 | H167: =A167-$C$6/2 -> 118500 | I167: =A167+$C$6/2 -> 133500

Sheet 23-2-1982
A1: STEADY SALT INTRUSION MODEL (TA)
A2: ChaoPhy 23-2-1983
A3: Input | F3: Measurements
A4: Step length | B4: dx | C4: 1000 | D4: m | F4: x (m) | G4: HWS | H4: x (m) | I4: LWS
A5: Sea salinity | B5: S0 | C5: 21 | D5: kg/m3 | F5: 6200 | G5: =23+1.5/5*1 -> 23.3
A6: Tidal Excursion | B6: E0 | C6: 19000 | D6: m | F6: 21200 | G6: 12.8
A7: Tidal Range | B7: H | C7: 1.6 | D7: m | F7: 24000 | G7: 11.2
A8: Fresh water salinity | B8: Cf | C8: 0 | D8: kg/m3 | F8: 28000 | G8: 8.4
F9: =40000+3/5*2000 -> 41200 | G9: 0.5
A10: Calibration parameters | F10: 48000 | G10: 0
A11: Van Den Burgh | B11: K | C11: 0.8
A12: Dispersion at mouth | B12: Do | C12: 580 | D12: m2/s
A13: Discharge | B13: Q | C13: 100 | D13: m3/s
A14: Alpha 0 | B14: α0 | C14: =C12/C13 -> 5.8 | D14: 1/m
A16: Geometry
A17: Area at mouth | B17: A0 | C17: =Overview!D18 -> 5300 | D17: m2
A18: Area at x1 | B18: A1 | C18: =Overview!D19 -> 5300 | D18: m2
A19: Convergence length | B19: a1 | C19: =Overview!D20 -> 109000 | D19: m
A20: Convergence length 2 | B20: a2 | C20: =Overview!D21 -> 109000 | D20: m
A21: Inflection point | B21: x1 | C21: =Overview!D22 -> 0 | D21: m
A22: Depth | B22: h0 | C22: =Overview!D23 -> 7.2 | D22: m
A24: Calculations | F24: REMARKS
A25: Beta | B25: β | C25: =$C$11*$C$19/C$14/$C$17 -> 2.8366949
A26: Alpha 1 | B26: α1 | C26: =C29/C13 -> 5.8 | D26: 1/m
A27: Beta1 | B27: β1 | C27: =C11*C20/C26/C18 -> 2.8366949
A28: Salinity at x1 | B28: S1 | C28: =($C$5-$C$8)*(C29/C12)^(1/$C$11)+$C$8 -> 21 | D28: kg/m3
A29: Dispersion at x1 | B29: D1 | C29: =C12*(1-C25*(EXP(C21/C19)-1)) -> 580
A31: x: | B31: Shifted x | E31: A | F31: D | G31: S | H31: xLWS | I31: xHWS
A32: =A33-$C$4-9000 -> -18000 | E32: =IF(A32<=$C$21,$C$17*EXP(-A32/$C$19),$C$18*EXP(-(A32-$C$21)/$C$20)) -> 6251.6438 | F32: =IF(A32<=$C$21,IF($C$12*(1-$C$25*(EXP(A32/$C$19)-1))>0,$C$12*(1-$C$25*(EXP(A32/$C$19)-1)),0),IF($C$29*(1-$C$27*(EXP((A32-$C$21)/$C$20)-1))>0,$C$29*(1-$C$27*(EXP((A32-$C$21)/$C$20)-1)),0)) -> 830.44987 | G32: =IF(A32<=$C$21,($C$5-$C$8)*(F32/$C$12)^(1/$C$11)+$C$8, ($C$28-$C$8)*(F32/$C$29)^(1/$C$11)+$C$8) -> 32.890924 | H32: =A32-$C$6/2 -> -27500 | I32: =A32+$C$6/2 -> -8500
A33: =A34-$C$4 -> -8000 | E33: =IF(A33<=$C$21,$C$17*EXP(-A33/$C$19),$C$18*EXP(-(A33-$C$21)/$C$20)) -> 5703.6215 | F33: =IF(A33<=$C$21,IF($C$12*(1-$C$25*(EXP(A33/$C$19)-1))>0,$C$12*(1-$C$25*(EXP(A33/$C$19)-1)),0),IF($C$29*(1-$C$27*(EXP((A33-$C$21)/$C$20)-1))>0,$C$29*(1-$C$27*(EXP((A33-$C$21)/$C$20)-1)),0)) -> 696.4298 | G33: =IF(A33<=$C$21,($C$5-$C$8)*(F33/$C$12)^(1/$C$11)+$C$8, ($C$28-$C$8)*(F33/$C$29)^(1/$C$11)+$C$8) -> 26.395567 | H33: =A33-$C$6/2 -> -17500 | I33: =A33+$C$6/2 -> 1500
A34: =A35-$C$4 -> -7000 | E34: =IF(A34<=$C$21,$C$17*EXP(-A34/$C$19),$C$18*EXP(-(A34-$C$21)/$C$20)) -> 5651.534 | F34: =IF(A34<=$C$21,IF($C$12*(1-$C$25*(EXP(A34/$C$19)-1))>0,$C$12*(1-$C$25*(EXP(A34/$C$19)-1)),0),IF($C$29*(1-$C$27*(EXP((A34-$C$21)/$C$20)-1))>0,$C$29*(1-$C$27*(EXP((A34-$C$21)/$C$20)-1)),0)) -> 682.33909 | G34: =IF(A34<=$C$21,($C$5-$C$8)*(F34/$C$12)^(1/$C$11)+$C$8, ($C$28-$C$8)*(F34/$C$29)^(1/$C$11)+$C$8) -> 25.729694 | H34: =A34-$C$6/2 -> -16500 | I34: =A34+$C$6/2 -> 2500
A35: =A36-$C$4 -> -6000 | E35: =IF(A35<=$C$21,$C$17*EXP(-A35/$C$19),$C$18*EXP(-(A35-$C$21)/$C$20)) -> 5599.9221 | F35: =IF(A35<=$C$21,IF($C$12*(1-$C$25*(EXP(A35/$C$19)-1))>0,$C$12*(1-$C$25*(EXP(A35/$C$19)-1)),0),IF($C$29*(1-$C$27*(EXP((A35-$C$21)/$C$20)-1))>0,$C$29*(1-$C$27*(EXP((A35-$C$21)/$C$20)-1)),0)) -> 668.11851 | G35: =IF(A35<=$C$21,($C$5-$C$8)*(F35/$C$12)^(1/$C$11)+$C$8, ($C$28-$C$8)*(F35/$C$29)^(1/$C$11)+$C$8) -> 25.061161 | H35: =A35-$C$6/2 -> -15500 | I35: =A35+$C$6/2 -> 3500
A36: =A37-$C$4 -> -5000 | E36: =IF(A36<=$C$21,$C$17*EXP(-A36/$C$19),$C$18*EXP(-(A36-$C$21)/$C$20)) -> 5548.7816 | F36: =IF(A36<=$C$21,IF($C$12*(1-$C$25*(EXP(A36/$C$19)-1))>0,$C$12*(1-$C$25*(EXP(A36/$C$19)-1)),0),IF($C$29*(1-$C$27*(EXP((A36-$C$21)/$C$20)-1))>0,$C$29*(1-$C$27*(EXP((A36-$C$21)/$C$20)-1)),0)) -> 653.76686 | G36: =IF(A36<=$C$21,($C$5-$C$8)*(F36/$C$12)^(1/$C$11)+$C$8, ($C$28-$C$8)*(F36/$C$29)^(1/$C$11)+$C$8) -> 24.390064 | H36: =A36-$C$6/2 -> -14500 | I36: =A36+$C$6/2 -> 4500
A37: =A38-$C$4 -> -4000 | E37: =IF(A37<=$C$21,$C$17*EXP(-A37/$C$19),$C$18*EXP(-(A37-$C$21)/$C$20)) -> 5498.1082 | F37: =IF(A37<=$C$21,IF($C$12*(1-$C$25*(EXP(A37/$C$19)-1))>0,$C$12*(1-$C$25*(EXP(A37/$C$19)-1)),0),IF($C$29*(1-$C$27*(EXP((A37-$C$21)/$C$20)-1))>0,$C$29*(1-$C$27*(EXP((A37-$C$21)/$C$20)-1)),0)) -> 639.28295 | G37: =IF(A37<=$C$21,($C$5-$C$8)*(F37/$C$12)^(1/$C$11)+$C$8, ($C$28-$C$8)*(F37/$C$29)^(1/$C$11)+$C$8) -> 23.716506 | H37: =A37-$C$6/2 -> -13500 | I37: =A37+$C$6/2 -> 5500
A38: =A39-$C$4 -> -3000 | E38: =IF(A38<=$C$21,$C$17*EXP(-A38/$C$19),$C$18*EXP(-(A38-$C$21)/$C$20)) -> 5447.8975 | F38: =IF(A38<=$C$21,IF($C$12*(1-$C$25*(EXP(A38/$C$19)-1))>0,$C$12*(1-$C$25*(EXP(A38/$C$19)-1)),0),IF($C$29*(1-$C$27*(EXP((A38-$C$21)/$C$20)-1))>0,$C$29*(1-$C$27*(EXP((A38-$C$21)/$C$20)-1)),0)) -> 624.66554 | G38: =IF(A38<=$C$21,($C$5-$C$8)*(F38/$C$12)^(1/$C$11)+$C$8, ($C$28-$C$8)*(F38/$C$29)^(1/$C$11)+$C$8) -> 23.040597 | H38: =A38-$C$6/2 -> -12500 | I38: =A38+$C$6/2 -> 6500
A39: =A40-$C$4 -> -2000 | E39: =IF(A39<=$C$21,$C$17*EXP(-A39/$C$19),$C$18*EXP(-(A39-$C$21)/$C$20)) -> 5398.1454 | F39: =IF(A39<=$C$21,IF($C$12*(1-$C$25*(EXP(A39/$C$19)-1))>0,$C$12*(1-$C$25*(EXP(A39/$C$19)-1)),0),IF($C$29*(1-$C$27*(EXP((A39-$C$21)/$C$20)-1))>0,$C$29*(1-$C$27*(EXP((A39-$C$21)/$C$20)-1)),0)) -> 609.91341 | G39: =IF(A39<=$C$21,($C$5-$C$8)*(F39/$C$12)^(1/$C$11)+$C$8, ($C$28-$C$8)*(F39/$C$29)^(1/$C$11)+$C$8) -> 22.362457 | H39: =A39-$C$6/2 -> -11500 | I39: =A39+$C$6/2 -> 7500
A40: =A41-$C$4 -> -1000 | E40: =IF(A40<=$C$21,$C$17*EXP(-A40/$C$19),$C$18*EXP(-(A40-$C$21)/$C$20)) -> 5348.8476 | F40: =IF(A40<=$C$21,IF($C$12*(1-$C$25*(EXP(A40/$C$19)-1))>0,$C$12*(1-$C$25*(EXP(A40/$C$19)-1)),0),IF($C$29*(1-$C$27*(EXP((A40-$C$21)/$C$20)-1))>0,$C$29*(1-$C$27*(EXP((A40-$C$21)/$C$20)-1)),0)) -> 595.02531 | G40: =IF(A40<=$C$21,($C$5-$C$8)*(F40/$C$12)^(1/$C$11)+$C$8, ($C$28-$C$8)*(F40/$C$29)^(1/$C$11)+$C$8) -> 21.682213 | H40: =A40-$C$6/2 -> -10500 | I40: =A40+$C$6/2 -> 8500
A41: 0 | E41: =IF(A41<=$C$21,$C$17*EXP(-A41/$C$19),$C$18*EXP(-(A41-$C$21)/$C$20)) -> 5300 | F41: =IF(A41<=$C$21,IF($C$12*(1-$C$25*(EXP(A41/$C$19)-1))>0,$C$12*(1-$C$25*(EXP(A41/$C$19)-1)),0),IF($C$29*(1-$C$27*(EXP((A41-$C$21)/$C$20)-1))>0,$C$29*(1-$C$27*(EXP((A41-$C$21)/$C$20)-1)),0)) -> 580 | G41: =IF(A41<=$C$21,($C$5-$C$8)*(F41/$C$12)^(1/$C$11)+$C$8, ($C$28-$C$8)*(F41/$C$29)^(1/$C$11)+$C$8) -> 21 | H41: =A41-$C$6/2 -> -9500 | I41: =A41+$C$6/2 -> 9500
A42: =A41+$C$4 -> 1000 | E42: =IF(A42<=$C$21,$C$17*EXP(-A42/$C$19),$C$18*EXP(-(A42-$C$21)/$C$20)) -> 5251.5985 | F42: =IF(A42<=$C$21,IF($C$12*(1-$C$25*(EXP(A42/$C$19)-1))>0,$C$12*(1-$C$25*(EXP(A42/$C$19)-1)),0),IF($C$29*(1-$C$27*(EXP((A42-$C$21)/$C$20)-1))>0,$C$29*(1-$C$27*(EXP((A42-$C$21)/$C$20)-1)),0)) -> 564.83621 | G42: =IF(A42<=$C$21,($C$5-$C$8)*(F42/$C$12)^(1/$C$11)+$C$8, ($C$28-$C$8)*(F42/$C$29)^(1/$C$11)+$C$8) -> 20.315965 | H42: =A42-$C$6/2 -> -8500 | I42: =A42+$C$6/2 -> 10500
A43: =A42+$C$4 -> 2000 | E43: =IF(A43<=$C$21,$C$17*EXP(-A43/$C$19),$C$18*EXP(-(A43-$C$21)/$C$20)) -> 5203.639 | F43: =IF(A43<=$C$21,IF($C$12*(1-$C$25*(EXP(A43/$C$19)-1))>0,$C$12*(1-$C$25*(EXP(A43/$C$19)-1)),0),IF($C$29*(1-$C$27*(EXP((A43-$C$21)/$C$20)-1))>0,$C$29*(1-$C$27*(EXP((A43-$C$21)/$C$20)-1)),0)) -> 549.53266 | G43: =IF(A43<=$C$21,($C$5-$C$8)*(F43/$C$12)^(1/$C$11)+$C$8, ($C$28-$C$8)*(F43/$C$29)^(1/$C$11)+$C$8) -> 19.630266 | H43: =A43-$C$6/2 -> -7500 | I43: =A43+$C$6/2 -> 11500
A44: =A43+$C$4 -> 3000 | E44: =IF(A44<=$C$21,$C$17*EXP(-A44/$C$19),$C$18*EXP(-(A44-$C$21)/$C$20)) -> 5156.1176 | F44: =IF(A44<=$C$21,IF($C$12*(1-$C$25*(EXP(A44/$C$19)-1))>0,$C$12*(1-$C$25*(EXP(A44/$C$19)-1)),0),IF($C$29*(1-$C$27*(EXP((A44-$C$21)/$C$20)-1))>0,$C$29*(1-$C$27*(EXP((A44-$C$21)/$C$20)-1)),0)) -> 534.08806 | G44: =IF(A44<=$C$21,($C$5-$C$8)*(F44/$C$12)^(1/$C$11)+$C$8, ($C$28-$C$8)*(F44/$C$29)^(1/$C$11)+$C$8) -> 18.943071 | H44: =A44-$C$6/2 -> -6500 | I44: =A44+$C$6/2 -> 12500
A45: =A44+$C$4 -> 4000 | E45: =IF(A45<=$C$21,$C$17*EXP(-A45/$C$19),$C$18*EXP(-(A45-$C$21)/$C$20)) -> 5109.0301 | F45: =IF(A45<=$C$21,IF($C$12*(1-$C$25*(EXP(A45/$C$19)-1))>0,$C$12*(1-$C$25*(EXP(A45/$C$19)-1)),0),IF($C$29*(1-$C$27*(EXP((A45-$C$21)/$C$20)-1))>0,$C$29*(1-$C$27*(EXP((A45-$C$21)/$C$20)-1)),0)) -> 518.50112 | G45: =IF(A45<=$C$21,($C$5-$C$8)*(F45/$C$12)^(1/$C$11)+$C$8, ($C$28-$C$8)*(F45/$C$29)^(1/$C$11)+$C$8) -> 18.254563 | H45: =A45-$C$6/2 -> -5500 | I45: =A45+$C$6/2 -> 13500
A46: =A45+$C$4 -> 5000 | E46: =IF(A46<=$C$21,$C$17*EXP(-A46/$C$19),$C$18*EXP(-(A46-$C$21)/$C$20)) -> 5062.3726 | F46: =IF(A46<=$C$21,IF($C$12*(1-$C$25*(EXP(A46/$C$19)-1))>0,$C$12*(1-$C$25*(EXP(A46/$C$19)-1)),0),IF($C$29*(1-$C$27*(EXP((A46-$C$21)/$C$20)-1))>0,$C$29*(1-$C$27*(EXP((A46-$C$21)/$C$20)-1)),0)) -> 502.77053 | G46: =IF(A46<=$C$21,($C$5-$C$8)*(F46/$C$12)^(1/$C$11)+$C$8, ($C$28-$C$8)*(F46/$C$29)^(1/$C$11)+$C$8) -> 17.564936 | H46: =A46-$C$6/2 -> -4500 | I46: =A46+$C$6/2 -> 14500
A47: =A46+$C$4 -> 6000 | E47: =IF(A47<=$C$21,$C$17*EXP(-A47/$C$19),$C$18*EXP(-(A47-$C$21)/$C$20)) -> 5016.1412 | F47: =IF(A47<=$C$21,IF($C$12*(1-$C$25*(EXP(A47/$C$19)-1))>0,$C$12*(1-$C$25*(EXP(A47/$C$19)-1)),0),IF($C$29*(1-$C$27*(EXP((A47-$C$21)/$C$20)-1))>0,$C$29*(1-$C$27*(EXP((A47-$C$21)/$C$20)-1)),0)) -> 486.89495 | G47: =IF(A47<=$C$21,($C$5-$C$8)*(F47/$C$12)^(1/$C$11)+$C$8, ($C$28-$C$8)*(F47/$C$29)^(1/$C$11)+$C$8) -> 16.874402 | H47: =A47-$C$6/2 -> -3500 | I47: =A47+$C$6/2 -> 15500
A48: =A47+$C$4 -> 7000 | E48: =IF(A48<=$C$21,$C$17*EXP(-A48/$C$19),$C$18*EXP(-(A48-$C$21)/$C$20)) -> 4970.332 | F48: =IF(A48<=$C$21,IF($C$12*(1-$C$25*(EXP(A48/$C$19)-1))>0,$C$12*(1-$C$25*(EXP(A48/$C$19)-1)),0),IF($C$29*(1-$C$27*(EXP((A48-$C$21)/$C$20)-1))>0,$C$29*(1-$C$27*(EXP((A48-$C$21)/$C$20)-1)),0)) -> 470.87305 | G48: =IF(A48<=$C$21,($C$5-$C$8)*(F48/$C$12)^(1/$C$11)+$C$8, ($C$28-$C$8)*(F48/$C$29)^(1/$C$11)+$C$8) -> 16.183189 | H48: =A48-$C$6/2 -> -2500 | I48: =A48+$C$6/2 -> 16500
A49: =A48+$C$4 -> 8000 | E49: =IF(A49<=$C$21,$C$17*EXP(-A49/$C$19),$C$18*EXP(-(A49-$C$21)/$C$20)) -> 4924.9411 | F49: =IF(A49<=$C$21,IF($C$12*(1-$C$25*(EXP(A49/$C$19)-1))>0,$C$12*(1-$C$25*(EXP(A49/$C$19)-1)),0),IF($C$29*(1-$C$27*(EXP((A49-$C$21)/$C$20)-1))>0,$C$29*(1-$C$27*(EXP((A49-$C$21)/$C$20)-1)),0)) -> 454.70349 | G49: =IF(A49<=$C$21,($C$5-$C$8)*(F49/$C$12)^(1/$C$11)+$C$8, ($C$28-$C$8)*(F49/$C$29)^(1/$C$11)+$C$8) -> 15.491542 | H49: =A49-$C$6/2 -> -1500 | I49: =A49+$C$6/2 -> 17500
A50: =A49+$C$4 -> 9000 | E50: =IF(A50<=$C$21,$C$17*EXP(-A50/$C$19),$C$18*EXP(-(A50-$C$21)/$C$20)) -> 4879.9648 | F50: =IF(A50<=$C$21,IF($C$12*(1-$C$25*(EXP(A50/$C$19)-1))>0,$C$12*(1-$C$25*(EXP(A50/$C$19)-1)),0),IF($C$29*(1-$C$27*(EXP((A50-$C$21)/$C$20)-1))>0,$C$29*(1-$C$27*(EXP((A50-$C$21)/$C$20)-1)),0)) -> 438.3849 | G50: =IF(A50<=$C$21,($C$5-$C$8)*(F50/$C$12)^(1/$C$11)+$C$8, ($C$28-$C$8)*(F50/$C$29)^(1/$C$11)+$C$8) -> 14.79973 | H50: =A50-$C$6/2 -> -500 | I50: =A50+$C$6/2 -> 18500
A51: =A50+$C$4 -> 10000 | E51: =IF(A51<=$C$21,$C$17*EXP(-A51/$C$19),$C$18*EXP(-(A51-$C$21)/$C$20)) -> 4835.3993 | F51: =IF(A51<=$C$21,IF($C$12*(1-$C$25*(EXP(A51/$C$19)-1))>0,$C$12*(1-$C$25*(EXP(A51/$C$19)-1)),0),IF($C$29*(1-$C$27*(EXP((A51-$C$21)/$C$20)-1))>0,$C$29*(1-$C$27*(EXP((A51-$C$21)/$C$20)-1)),0)) -> 421.9159 | G51: =IF(A51<=$C$21,($C$5-$C$8)*(F51/$C$12)^(1/$C$11)+$C$8, ($C$28-$C$8)*(F51/$C$29)^(1/$C$11)+$C$8) -> 14.10804 | H51: =A51-$C$6/2 -> 500 | I51: =A51+$C$6/2 -> 19500
A52: =A51+$C$4 -> 11000 | E52: =IF(A52<=$C$21,$C$17*EXP(-A52/$C$19),$C$18*EXP(-(A52-$C$21)/$C$20)) -> 4791.2407 | F52: =IF(A52<=$C$21,IF($C$12*(1-$C$25*(EXP(A52/$C$19)-1))>0,$C$12*(1-$C$25*(EXP(A52/$C$19)-1)),0),IF($C$29*(1-$C$27*(EXP((A52-$C$21)/$C$20)-1))>0,$C$29*(1-$C$27*(EXP((A52-$C$21)/$C$20)-1)),0)) -> 405.29513 | G52: =IF(A52<=$C$21,($C$5-$C$8)*(F52/$C$12)^(1/$C$11)+$C$8, ($C$28-$C$8)*(F52/$C$29)^(1/$C$11)+$C$8) -> 13.416787 | H52: =A52-$C$6/2 -> 1500 | I52: =A52+$C$6/2 -> 20500
A53: =A52+$C$4 -> 12000 | E53: =IF(A53<=$C$21,$C$17*EXP(-A53/$C$19),$C$18*EXP(-(A53-$C$21)/$C$20)) -> 4747.4853 | F53: =IF(A53<=$C$21,IF($C$12*(1-$C$25*(EXP(A53/$C$19)-1))>0,$C$12*(1-$C$25*(EXP(A53/$C$19)-1)),0),IF($C$29*(1-$C$27*(EXP((A53-$C$21)/$C$20)-1))>0,$C$29*(1-$C$27*(EXP((A53-$C$21)/$C$20)-1)),0)) -> 388.52116 | G53: =IF(A53<=$C$21,($C$5-$C$8)*(F53/$C$12)^(1/$C$11)+$C$8, ($C$28-$C$8)*(F53/$C$29)^(1/$C$11)+$C$8) -> 12.726315 | H53: =A53-$C$6/2 -> 2500 | I53: =A53+$C$6/2 -> 21500
... A167: =A166+$C$4 -> 126000 | E167: =IF(A167<=$C$21,$C$17*EXP(-A167/$C$19),$C$18*EXP(-(A167-$C$21)/$C$20)) -> 1668.1972 | F167: =IF(A167<=$C$21,IF($C$12*(1-$C$25*(EXP(A167/$C$19)-1))>0,$C$12*(1-$C$25*(EXP(A167/$C$19)-1)),0),IF($C$29*(1-$C$27*(EXP((A167-$C$21)/$C$20)-1))>0,$C$29*(1-$C$27*(EXP((A167-$C$21)/$C$20)-1)),0)) -> 0 | G167: =IF(A167<=$C$21,($C$5-$C$8)*(F167/$C$12)^(1/$C$11)+$C$8, ($C$28-$C$8)*(F167/$C$29)^(1/$C$11)+$C$8) -> 0 | H167: =A167-$C$6/2 -> 116500 | I167: =A167+$C$6/2 -> 135500

Sheet 29-1-1983
A1: STEADY SALT INTRUSION MODEL (TA)
A2: ChaoPhy 29-1-1983
A3: Input | F3: Measurements
A4: Step length | B4: dx | C4: 1000 | D4: m | F4: x (m) | G4: HWS | H4: x (m) | I4: LWS
A5: Sea salinity | B5: S0 | C5: 24 | D5: kg/m3 | F5: 6700 | G5: 28
A6: Tidal Excursion | B6: E0 | C6: 26000 | D6: m | F6: 21500 | G6: 18.5
A7: Tidal Range | B7: H | C7: 2.4 | D7: m | F7: 23900 | G7: 17.2
A8: Fresh water salinity | B8: Cf | C8: 0 | D8: kg/m3 | F8: 27800 | G8: 15.1
F9: 41700 | G9: 5.4
A10: Calibration parameters | F10: 47900 | G10: 2.2
A11: Van Den Burgh | B11: K | C11: 0.8
A12: Dispersion at mouth | B12: Do | C12: 650 | D12: m2/s
A13: Discharge | B13: Q | C13: 90 | D13: m3/s
A14: Alpha 0 | B14: α0 | C14: =C12/C13 -> 7.2222222 | D14: 1/m
A16: Geometry
A17: Area at mouth | B17: A0 | C17: =Overview!D18 -> 5300 | D17: m2
A18: Area at x1 | B18: A1 | C18: =Overview!D19 -> 5300 | D18: m2
A19: Convergence length | B19: a1 | C19: =Overview!D20 -> 109000 | D19: m
A20: Convergence length 2 | B20: a2 | C20: =Overview!D21 -> 109000 | D20: m
A21: Inflection point | B21: x1 | C21: =Overview!D22 -> 0 | D21: m
A22: Depth | B22: h0 | C22: =Overview!D23 -> 7.2 | D22: m
A24: Calculations | F24: REMARKS
A25: Beta | B25: β | C25: =$C$11*$C$19/C$14/$C$17 -> 2.2780842
A26: Alpha 1 | B26: α1 | C26: =C29/C13 -> 7.2222222 | D26: 1/m
A27: Beta1 | B27: β1 | C27: =C11*C20/C26/C18 -> 2.2780842
A28: Salinity at x1 | B28: S1 | C28: =($C$5-$C$8)*(C29/C12)^(1/$C$11)+$C$8 -> 24 | D28: kg/m3
A29: Dispersion at x1 | B29: D1 | C29: =C12*(1-C25*(EXP(C21/C19)-1)) -> 650
A31: x: | B31: Shifted x | E31: A | F31: D | G31: S | H31: xLWS | I31: xHWS
A32: =A33-$C$4-9000 -> -18000 | E32: =IF(A32<=$C$21,$C$17*EXP(-A32/$C$19),$C$18*EXP(-(A32-$C$21)/$C$20)) -> 6251.6438 | F32: =IF(A32<=$C$21,IF($C$12*(1-$C$25*(EXP(A32/$C$19)-1))>0,$C$12*(1-$C$25*(EXP(A32/$C$19)-1)),0),IF($C$29*(1-$C$27*(EXP((A32-$C$21)/$C$20)-1))>0,$C$29*(1-$C$27*(EXP((A32-$C$21)/$C$20)-1)),0)) -> 875.40488 | G32: =IF(A32<=$C$21,($C$5-$C$8)*(F32/$C$12)^(1/$C$11)+$C$8, ($C$28-$C$8)*(F32/$C$29)^(1/$C$11)+$C$8) -> 34.820159 | H32: =A32-$C$6/2 -> -31000 | I32: =A32+$C$6/2 -> -5000
A33: =A34-$C$4 -> -8000 | E33: =IF(A33<=$C$21,$C$17*EXP(-A33/$C$19),$C$18*EXP(-(A33-$C$21)/$C$20)) -> 5703.6215 | F33: =IF(A33<=$C$21,IF($C$12*(1-$C$25*(EXP(A33/$C$19)-1))>0,$C$12*(1-$C$25*(EXP(A33/$C$19)-1)),0),IF($C$29*(1-$C$27*(EXP((A33-$C$21)/$C$20)-1))>0,$C$29*(1-$C$27*(EXP((A33-$C$21)/$C$20)-1)),0)) -> 754.78682 | G33: =IF(A33<=$C$21,($C$5-$C$8)*(F33/$C$12)^(1/$C$11)+$C$8, ($C$28-$C$8)*(F33/$C$29)^(1/$C$11)+$C$8) -> 28.9301 | H33: =A33-$C$6/2 -> -21000 | I33: =A33+$C$6/2 -> 5000
A34: =A35-$C$4 -> -7000 | E34: =IF(A34<=$C$21,$C$17*EXP(-A34/$C$19),$C$18*EXP(-(A34-$C$21)/$C$20)) -> 5651.534 | F34: =IF(A34<=$C$21,IF($C$12*(1-$C$25*(EXP(A34/$C$19)-1))>0,$C$12*(1-$C$25*(EXP(A34/$C$19)-1)),0),IF($C$29*(1-$C$27*(EXP((A34-$C$21)/$C$20)-1))>0,$C$29*(1-$C$27*(EXP((A34-$C$21)/$C$20)-1)),0)) -> 742.10518 | G34: =IF(A34<=$C$21,($C$5-$C$8)*(F34/$C$12)^(1/$C$11)+$C$8, ($C$28-$C$8)*(F34/$C$29)^(1/$C$11)+$C$8) -> 28.323791 | H34: =A34-$C$6/2 -> -20000 | I34: =A34+$C$6/2 -> 6000
A35: =A36-$C$4 -> -6000 | E35: =IF(A35<=$C$21,$C$17*EXP(-A35/$C$19),$C$18*EXP(-(A35-$C$21)/$C$20)) -> 5599.9221 | F35: =IF(A35<=$C$21,IF($C$12*(1-$C$25*(EXP(A35/$C$19)-1))>0,$C$12*(1-$C$25*(EXP(A35/$C$19)-1)),0),IF($C$29*(1-$C$27*(EXP((A35-$C$21)/$C$20)-1))>0,$C$29*(1-$C$27*(EXP((A35-$C$21)/$C$20)-1)),0)) -> 729.30666 | G35: =IF(A35<=$C$21,($C$5-$C$8)*(F35/$C$12)^(1/$C$11)+$C$8, ($C$28-$C$8)*(F35/$C$29)^(1/$C$11)+$C$8) -> 27.714514 | H35: =A35-$C$6/2 -> -19000 | I35: =A35+$C$6/2 -> 7000
A36: =A37-$C$4 -> -5000 | E36: =IF(A36<=$C$21,$C$17*EXP(-A36/$C$19),$C$18*EXP(-(A36-$C$21)/$C$20)) -> 5548.7816 | F36: =IF(A36<=$C$21,IF($C$12*(1-$C$25*(EXP(A36/$C$19)-1))>0,$C$12*(1-$C$25*(EXP(A36/$C$19)-1)),0),IF($C$29*(1-$C$27*(EXP((A36-$C$21)/$C$20)-1))>0,$C$29*(1-$C$27*(EXP((A36-$C$21)/$C$20)-1)),0)) -> 716.39018 | G36: =IF(A36<=$C$21,($C$5-$C$8)*(F36/$C$12)^(1/$C$11)+$C$8, ($C$28-$C$8)*(F36/$C$29)^(1/$C$11)+$C$8) -> 27.102327 | H36: =A36-$C$6/2 -> -18000 | I36: =A36+$C$6/2 -> 8000
A37: =A38-$C$4 -> -4000 | E37: =IF(A37<=$C$21,$C$17*EXP(-A37/$C$19),$C$18*EXP(-(A37-$C$21)/$C$20)) -> 5498.1082 | F37: =IF(A37<=$C$21,IF($C$12*(1-$C$25*(EXP(A37/$C$19)-1))>0,$C$12*(1-$C$25*(EXP(A37/$C$19)-1)),0),IF($C$29*(1-$C$27*(EXP((A37-$C$21)/$C$20)-1))>0,$C$29*(1-$C$27*(EXP((A37-$C$21)/$C$20)-1)),0)) -> 703.35465 | G37: =IF(A37<=$C$21,($C$5-$C$8)*(F37/$C$12)^(1/$C$11)+$C$8, ($C$28-$C$8)*(F37/$C$29)^(1/$C$11)+$C$8) -> 26.487288 | H37: =A37-$C$6/2 -> -17000 | I37: =A37+$C$6/2 -> 9000
A38: =A39-$C$4 -> -3000 | E38: =IF(A38<=$C$21,$C$17*EXP(-A38/$C$19),$C$18*EXP(-(A38-$C$21)/$C$20)) -> 5447.8975 | F38: =IF(A38<=$C$21,IF($C$12*(1-$C$25*(EXP(A38/$C$19)-1))>0,$C$12*(1-$C$25*(EXP(A38/$C$19)-1)),0),IF($C$29*(1-$C$27*(EXP((A38-$C$21)/$C$20)-1))>0,$C$29*(1-$C$27*(EXP((A38-$C$21)/$C$20)-1)),0)) -> 690.19898 | G38: =IF(A38<=$C$21,($C$5-$C$8)*(F38/$C$12)^(1/$C$11)+$C$8, ($C$28-$C$8)*(F38/$C$29)^(1/$C$11)+$C$8) -> 25.869465 | H38: =A38-$C$6/2 -> -16000 | I38: =A38+$C$6/2 -> 10000
A39: =A40-$C$4 -> -2000 | E39: =IF(A39<=$C$21,$C$17*EXP(-A39/$C$19),$C$18*EXP(-(A39-$C$21)/$C$20)) -> 5398.1454 | F39: =IF(A39<=$C$21,IF($C$12*(1-$C$25*(EXP(A39/$C$19)-1))>0,$C$12*(1-$C$25*(EXP(A39/$C$19)-1)),0),IF($C$29*(1-$C$27*(EXP((A39-$C$21)/$C$20)-1))>0,$C$29*(1-$C$27*(EXP((A39-$C$21)/$C$20)-1)),0)) -> 676.92206 | G39: =IF(A39<=$C$21,($C$5-$C$8)*(F39/$C$12)^(1/$C$11)+$C$8, ($C$28-$C$8)*(F39/$C$29)^(1/$C$11)+$C$8) -> 25.248925 | H39: =A39-$C$6/2 -> -15000 | I39: =A39+$C$6/2 -> 11000
A40: =A41-$C$4 -> -1000 | E40: =IF(A40<=$C$21,$C$17*EXP(-A40/$C$19),$C$18*EXP(-(A40-$C$21)/$C$20)) -> 5348.8476 | F40: =IF(A40<=$C$21,IF($C$12*(1-$C$25*(EXP(A40/$C$19)-1))>0,$C$12*(1-$C$25*(EXP(A40/$C$19)-1)),0),IF($C$29*(1-$C$27*(EXP((A40-$C$21)/$C$20)-1))>0,$C$29*(1-$C$27*(EXP((A40-$C$21)/$C$20)-1)),0)) -> 663.52278 | G40: =IF(A40<=$C$21,($C$5-$C$8)*(F40/$C$12)^(1/$C$11)+$C$8, ($C$28-$C$8)*(F40/$C$29)^(1/$C$11)+$C$8) -> 24.625743 | H40: =A40-$C$6/2 -> -14000 | I40: =A40+$C$6/2 -> 12000
A41: 0 | E41: =IF(A41<=$C$21,$C$17*EXP(-A41/$C$19),$C$18*EXP(-(A41-$C$21)/$C$20)) -> 5300 | F41: =IF(A41<=$C$21,IF($C$12*(1-$C$25*(EXP(A41/$C$19)-1))>0,$C$12*(1-$C$25*(EXP(A41/$C$19)-1)),0),IF($C$29*(1-$C$27*(EXP((A41-$C$21)/$C$20)-1))>0,$C$29*(1-$C$27*(EXP((A41-$C$21)/$C$20)-1)),0)) -> 650 | G41: =IF(A41<=$C$21,($C$5-$C$8)*(F41/$C$12)^(1/$C$11)+$C$8, ($C$28-$C$8)*(F41/$C$29)^(1/$C$11)+$C$8) -> 24 | H41: =A41-$C$6/2 -> -13000 | I41: =A41+$C$6/2 -> 13000
A42: =A41+$C$4 -> 1000 | E42: =IF(A42<=$C$21,$C$17*EXP(-A42/$C$19),$C$18*EXP(-(A42-$C$21)/$C$20)) -> 5251.5985 | F42: =IF(A42<=$C$21,IF($C$12*(1-$C$25*(EXP(A42/$C$19)-1))>0,$C$12*(1-$C$25*(EXP(A42/$C$19)-1)),0),IF($C$29*(1-$C$27*(EXP((A42-$C$21)/$C$20)-1))>0,$C$29*(1-$C$27*(EXP((A42-$C$21)/$C$20)-1)),0)) -> 636.35259 | G42: =IF(A42<=$C$21,($C$5-$C$8)*(F42/$C$12)^(1/$C$11)+$C$8, ($C$28-$C$8)*(F42/$C$29)^(1/$C$11)+$C$8) -> 23.371781 | H42: =A42-$C$6/2 -> -12000 | I42: =A42+$C$6/2 -> 14000
A43: =A42+$C$4 -> 2000 | E43: =IF(A43<=$C$21,$C$17*EXP(-A43/$C$19),$C$18*EXP(-(A43-$C$21)/$C$20)) -> 5203.639 | F43: =IF(A43<=$C$21,IF($C$12*(1-$C$25*(EXP(A43/$C$19)-1))>0,$C$12*(1-$C$25*(EXP(A43/$C$19)-1)),0),IF($C$29*(1-$C$27*(EXP((A43-$C$21)/$C$20)-1))>0,$C$29*(1-$C$27*(EXP((A43-$C$21)/$C$20)-1)),0)) -> 622.57939 | G43: =IF(A43<=$C$21,($C$5-$C$8)*(F43/$C$12)^(1/$C$11)+$C$8, ($C$28-$C$8)*(F43/$C$29)^(1/$C$11)+$C$8) -> 22.741179 | H43: =A43-$C$6/2 -> -11000 | I43: =A43+$C$6/2 -> 15000
A44: =A43+$C$4 -> 3000 | E44: =IF(A44<=$C$21,$C$17*EXP(-A44/$C$19),$C$18*EXP(-(A44-$C$21)/$C$20)) -> 5156.1176 | F44: =IF(A44<=$C$21,IF($C$12*(1-$C$25*(EXP(A44/$C$19)-1))>0,$C$12*(1-$C$25*(EXP(A44/$C$19)-1)),0),IF($C$29*(1-$C$27*(EXP((A44-$C$21)/$C$20)-1))>0,$C$29*(1-$C$27*(EXP((A44-$C$21)/$C$20)-1)),0)) -> 608.67926 | G44: =IF(A44<=$C$21,($C$5-$C$8)*(F44/$C$12)^(1/$C$11)+$C$8, ($C$28-$C$8)*(F44/$C$29)^(1/$C$11)+$C$8) -> 22.108291 | H44: =A44-$C$6/2 -> -10000 | I44: =A44+$C$6/2 -> 16000
A45: =A44+$C$4 -> 4000 | E45: =IF(A45<=$C$21,$C$17*EXP(-A45/$C$19),$C$18*EXP(-(A45-$C$21)/$C$20)) -> 5109.0301 | F45: =IF(A45<=$C$21,IF($C$12*(1-$C$25*(EXP(A45/$C$19)-1))>0,$C$12*(1-$C$25*(EXP(A45/$C$19)-1)),0),IF($C$29*(1-$C$27*(EXP((A45-$C$21)/$C$20)-1))>0,$C$29*(1-$C$27*(EXP((A45-$C$21)/$C$20)-1)),0)) -> 594.65101 | G45: =IF(A45<=$C$21,($C$5-$C$8)*(F45/$C$12)^(1/$C$11)+$C$8, ($C$28-$C$8)*(F45/$C$29)^(1/$C$11)+$C$8) -> 21.473224 | H45: =A45-$C$6/2 -> -9000 | I45: =A45+$C$6/2 -> 17000
A46: =A45+$C$4 -> 5000 | E46: =IF(A46<=$C$21,$C$17*EXP(-A46/$C$19),$C$18*EXP(-(A46-$C$21)/$C$20)) -> 5062.3726 | F46: =IF(A46<=$C$21,IF($C$12*(1-$C$25*(EXP(A46/$C$19)-1))>0,$C$12*(1-$C$25*(EXP(A46/$C$19)-1)),0),IF($C$29*(1-$C$27*(EXP((A46-$C$21)/$C$20)-1))>0,$C$29*(1-$C$27*(EXP((A46-$C$21)/$C$20)-1)),0)) -> 580.49347 | G46: =IF(A46<=$C$21,($C$5-$C$8)*(F46/$C$12)^(1/$C$11)+$C$8, ($C$28-$C$8)*(F46/$C$29)^(1/$C$11)+$C$8) -> 20.83609 | H46: =A46-$C$6/2 -> -8000 | I46: =A46+$C$6/2 -> 18000
A47: =A46+$C$4 -> 6000 | E47: =IF(A47<=$C$21,$C$17*EXP(-A47/$C$19),$C$18*EXP(-(A47-$C$21)/$C$20)) -> 5016.1412 | F47: =IF(A47<=$C$21,IF($C$12*(1-$C$25*(EXP(A47/$C$19)-1))>0,$C$12*(1-$C$25*(EXP(A47/$C$19)-1)),0),IF($C$29*(1-$C$27*(EXP((A47-$C$21)/$C$20)-1))>0,$C$29*(1-$C$27*(EXP((A47-$C$21)/$C$20)-1)),0)) -> 566.20545 | G47: =IF(A47<=$C$21,($C$5-$C$8)*(F47/$C$12)^(1/$C$11)+$C$8, ($C$28-$C$8)*(F47/$C$29)^(1/$C$11)+$C$8) -> 20.197011 | H47: =A47-$C$6/2 -> -7000 | I47: =A47+$C$6/2 -> 19000
A48: =A47+$C$4 -> 7000 | E48: =IF(A48<=$C$21,$C$17*EXP(-A48/$C$19),$C$18*EXP(-(A48-$C$21)/$C$20)) -> 4970.332 | F48: =IF(A48<=$C$21,IF($C$12*(1-$C$25*(EXP(A48/$C$19)-1))>0,$C$12*(1-$C$25*(EXP(A48/$C$19)-1)),0),IF($C$29*(1-$C$27*(EXP((A48-$C$21)/$C$20)-1))>0,$C$29*(1-$C$27*(EXP((A48-$C$21)/$C$20)-1)),0)) -> 551.78574 | G48: =IF(A48<=$C$21,($C$5-$C$8)*(F48/$C$12)^(1/$C$11)+$C$8, ($C$28-$C$8)*(F48/$C$29)^(1/$C$11)+$C$8) -> 19.556118 | H48: =A48-$C$6/2 -> -6000 | I48: =A48+$C$6/2 -> 20000
A49: =A48+$C$4 -> 8000 | E49: =IF(A49<=$C$21,$C$17*EXP(-A49/$C$19),$C$18*EXP(-(A49-$C$21)/$C$20)) -> 4924.9411 | F49: =IF(A49<=$C$21,IF($C$12*(1-$C$25*(EXP(A49/$C$19)-1))>0,$C$12*(1-$C$25*(EXP(A49/$C$19)-1)),0),IF($C$29*(1-$C$27*(EXP((A49-$C$21)/$C$20)-1))>0,$C$29*(1-$C$27*(EXP((A49-$C$21)/$C$20)-1)),0)) -> 537.23314 | G49: =IF(A49<=$C$21,($C$5-$C$8)*(F49/$C$12)^(1/$C$11)+$C$8, ($C$28-$C$8)*(F49/$C$29)^(1/$C$11)+$C$8) -> 18.913549 | H49: =A49-$C$6/2 -> -5000 | I49: =A49+$C$6/2 -> 21000
A50: =A49+$C$4 -> 9000 | E50: =IF(A50<=$C$21,$C$17*EXP(-A50/$C$19),$C$18*EXP(-(A50-$C$21)/$C$20)) -> 4879.9648 | F50: =IF(A50<=$C$21,IF($C$12*(1-$C$25*(EXP(A50/$C$19)-1))>0,$C$12*(1-$C$25*(EXP(A50/$C$19)-1)),0),IF($C$29*(1-$C$27*(EXP((A50-$C$21)/$C$20)-1))>0,$C$29*(1-$C$27*(EXP((A50-$C$21)/$C$20)-1)),0)) -> 522.54641 | G50: =IF(A50<=$C$21,($C$5-$C$8)*(F50/$C$12)^(1/$C$11)+$C$8, ($C$28-$C$8)*(F50/$C$29)^(1/$C$11)+$C$8) -> 18.269456 | H50: =A50-$C$6/2 -> -4000 | I50: =A50+$C$6/2 -> 22000
A51: =A50+$C$4 -> 10000 | E51: =IF(A51<=$C$21,$C$17*EXP(-A51/$C$19),$C$18*EXP(-(A51-$C$21)/$C$20)) -> 4835.3993 | F51: =IF(A51<=$C$21,IF($C$12*(1-$C$25*(EXP(A51/$C$19)-1))>0,$C$12*(1-$C$25*(EXP(A51/$C$19)-1)),0),IF($C$29*(1-$C$27*(EXP((A51-$C$21)/$C$20)-1))>0,$C$29*(1-$C$27*(EXP((A51-$C$21)/$C$20)-1)),0)) -> 507.72431 | G51: =IF(A51<=$C$21,($C$5-$C$8)*(F51/$C$12)^(1/$C$11)+$C$8, ($C$28-$C$8)*(F51/$C$29)^(1/$C$11)+$C$8) -> 17.624001 | H51: =A51-$C$6/2 -> -3000 | I51: =A51+$C$6/2 -> 23000
A52: =A51+$C$4 -> 11000 | E52: =IF(A52<=$C$21,$C$17*EXP(-A52/$C$19),$C$18*EXP(-(A52-$C$21)/$C$20)) -> 4791.2407 | F52: =IF(A52<=$C$21,IF($C$12*(1-$C$25*(EXP(A52/$C$19)-1))>0,$C$12*(1-$C$25*(EXP(A52/$C$19)-1)),0),IF($C$29*(1-$C$27*(EXP((A52-$C$21)/$C$20)-1))>0,$C$29*(1-$C$27*(EXP((A52-$C$21)/$C$20)-1)),0)) -> 492.76561 | G52: =IF(A52<=$C$21,($C$5-$C$8)*(F52/$C$12)^(1/$C$11)+$C$8, ($C$28-$C$8)*(F52/$C$29)^(1/$C$11)+$C$8) -> 16.977355 | H52: =A52-$C$6/2 -> -2000 | I52: =A52+$C$6/2 -> 24000
A53: =A52+$C$4 -> 12000 | E53: =IF(A53<=$C$21,$C$17*EXP(-A53/$C$19),$C$18*EXP(-(A53-$C$21)/$C$20)) -> 4747.4853 | F53: =IF(A53<=$C$21,IF($C$12*(1-$C$25*(EXP(A53/$C$19)-1))>0,$C$12*(1-$C$25*(EXP(A53/$C$19)-1)),0),IF($C$29*(1-$C$27*(EXP((A53-$C$21)/$C$20)-1))>0,$C$29*(1-$C$27*(EXP((A53-$C$21)/$C$20)-1)),0)) -> 477.66905 | G53: =IF(A53<=$C$21,($C$5-$C$8)*(F53/$C$12)^(1/$C$11)+$C$8, ($C$28-$C$8)*(F53/$C$29)^(1/$C$11)+$C$8) -> 16.329708 | H53: =A53-$C$6/2 -> -1000 | I53: =A53+$C$6/2 -> 25000
... A167: =A166+$C$4 -> 126000 | E167: =IF(A167<=$C$21,$C$17*EXP(-A167/$C$19),$C$18*EXP(-(A167-$C$21)/$C$20)) -> 1668.1972 | F167: =IF(A167<=$C$21,IF($C$12*(1-$C$25*(EXP(A167/$C$19)-1))>0,$C$12*(1-$C$25*(EXP(A167/$C$19)-1)),0),IF($C$29*(1-$C$27*(EXP((A167-$C$21)/$C$20)-1))>0,$C$29*(1-$C$27*(EXP((A167-$C$21)/$C$20)-1)),0)) -> 0 | G167: =IF(A167<=$C$21,($C$5-$C$8)*(F167/$C$12)^(1/$C$11)+$C$8, ($C$28-$C$8)*(F167/$C$29)^(1/$C$11)+$C$8) -> 0 | H167: =A167-$C$6/2 -> 113000 | I167: =A167+$C$6/2 -> 139000
