Workbook

Sheet Overview
B2: This sheet is provided as a tool to calculate salt intrusion in alluvial estuaries. It uses the analytical model as described in Salinity and Tides by H.H.G Savenije 2005
B14: Estuary
B15: Corantijn
B17: Geometry
B18: Area at mouth | C18: A0 | D18: 69000 | E18: m2
B19: Area at x1 | C19: A1 | D19: =D18*EXP(-D22/D20) -> 26755.447 | E19: m2
B20: Convergence length | C20: a1 | D20: 19000 | E20: m
B21: Convergence length 2 | C21: a2 | D21: 64000 | E21: m
B22: Inflection point | C22: x1 | D22: 18000 | E22: m
B23: Depth | C23: h0 | D23: 6.5 | E23: m
B25: Measurements
B26: 28833
B27: 28838
B28: 28844

Sheet 9-12-1978
A1: STEADY SALT INTRUSION MODEL (TA)
A2: Corantijn 9-12-1978
A3: Input | F3: Measurements
A4: Step length | B4: dx | C4: 1000 | D4: m | F4: x (m) | G4: HWS | H4: x (m) | I4: LWS
A5: Sea salinity | B5: S0 | C5: 23.5 | D5: kg/m3 | F5: 22000 | G5: =14+2/4.5*2 -> 14.888889 | H5: 22000 | I5: 9.5
A6: Tidal Excursion | B6: E0 | C6: 10000 | D6: m | F6: 40000 | G6: 6 | H6: 40000 | I6: 2
A7: Tidal Range | B7: H | C7: 1.8 | D7: m | F7: 57000 | G7: 2 | H7: 57000 | I7: 0.4
A8: Fresh water salinity | B8: Cf | C8: 0 | D8: kg/m3 | F8: 67000 | G8: 0.4 | H8: 67000 | I8: 0
A10: Calibration parameters
A11: Van Den Burgh | B11: K | C11: 0.21
A12: Dispersion at mouth | B12: Do | C12: 115 | D12: m2/s
A13: Discharge | B13: Q | C13: 120 | D13: m3/s
A14: Alpha 0 | B14: α0 | C14: =C12/C13 -> 0.95833333 | D14: 1/m
A16: Geometry
A17: Area at mouth | B17: A0 | C17: =Overview!D18 -> 69000 | D17: m2
A18: Area at x1 | B18: A1 | C18: =Overview!D19 -> 26755.447 | D18: m2
A19: Convergence length | B19: a1 | C19: =Overview!D20 -> 19000 | D19: m
A20: Convergence length 2 | B20: a2 | C20: =Overview!D21 -> 64000 | D20: m
A21: Inflection point | B21: x1 | C21: =Overview!D22 -> 18000 | D21: m
A22: Depth | B22: h0 | C22: =Overview!D23 -> 6.5 | D22: m
A24: Calculations | F24: REMARKS
A25: Beta | B25: β | C25: =$C$11*$C$19/C$14/$C$17 -> 0.060340265 | F25: Neap tide
A26: Alpha 1 | B26: α1 | C26: =C29/C13 -> 0.86703091 | D26: 1/m
A27: Beta1 | B27: β1 | C27: =C11*C20/C26/C18 -> 0.57936529
A28: Salinity at x1 | B28: S1 | C28: =($C$5-$C$8)*(C29/C12)^(1/$C$11)+$C$8 -> 14.5885 | D28: kg/m3
A29: Dispersion at x1 | B29: D1 | C29: =C12*(1-C25*(EXP(C21/C19)-1)) -> 104.04371
A31: x: | B31: Shifted x | E31: A | F31: D | G31: S | H31: xLWS | I31: xHWS
A32: =A33-$C$4-9000 -> -18000 | E32: =IF(A32<=$C$21,$C$17*EXP(-A32/$C$19),$C$18*EXP(-(A32-$C$21)/$C$20)) -> 177945.07 | F32: =IF(A32<=$C$21,IF($C$12*(1-$C$25*(EXP(A32/$C$19)-1))>0,$C$12*(1-$C$25*(EXP(A32/$C$19)-1)),0),IF($C$29*(1-$C$27*(EXP((A32-$C$21)/$C$20)-1))>0,$C$29*(1-$C$27*(EXP((A32-$C$21)/$C$20)-1)),0)) -> 119.24841 | G32: =IF(A32<=$C$21,($C$5-$C$8)*(F32/$C$12)^(1/$C$11)+$C$8, ($C$28-$C$8)*(F32/$C$29)^(1/$C$11)+$C$8) -> 27.931262 | H32: =A32-$C$6/2 -> -23000 | I32: =A32+$C$6/2 -> -13000
A33: =A34-$C$4 -> -8000 | E33: =IF(A33<=$C$21,$C$17*EXP(-A33/$C$19),$C$18*EXP(-(A33-$C$21)/$C$20)) -> 105125.95 | F33: =IF(A33<=$C$21,IF($C$12*(1-$C$25*(EXP(A33/$C$19)-1))>0,$C$12*(1-$C$25*(EXP(A33/$C$19)-1)),0),IF($C$29*(1-$C$27*(EXP((A33-$C$21)/$C$20)-1))>0,$C$29*(1-$C$27*(EXP((A33-$C$21)/$C$20)-1)),0)) -> 117.38459 | G33: =IF(A33<=$C$21,($C$5-$C$8)*(F33/$C$12)^(1/$C$11)+$C$8, ($C$28-$C$8)*(F33/$C$29)^(1/$C$11)+$C$8) -> 25.912658 | H33: =A33-$C$6/2 -> -13000 | I33: =A33+$C$6/2 -> -3000
A34: =A35-$C$4 -> -7000 | E34: =IF(A34<=$C$21,$C$17*EXP(-A34/$C$19),$C$18*EXP(-(A34-$C$21)/$C$20)) -> 99736.086 | F34: =IF(A34<=$C$21,IF($C$12*(1-$C$25*(EXP(A34/$C$19)-1))>0,$C$12*(1-$C$25*(EXP(A34/$C$19)-1)),0),IF($C$29*(1-$C$27*(EXP((A34-$C$21)/$C$20)-1))>0,$C$29*(1-$C$27*(EXP((A34-$C$21)/$C$20)-1)),0)) -> 117.13846 | G34: =IF(A34<=$C$21,($C$5-$C$8)*(F34/$C$12)^(1/$C$11)+$C$8, ($C$28-$C$8)*(F34/$C$29)^(1/$C$11)+$C$8) -> 25.654944 | H34: =A34-$C$6/2 -> -12000 | I34: =A34+$C$6/2 -> -2000
A35: =A36-$C$4 -> -6000 | E35: =IF(A35<=$C$21,$C$17*EXP(-A35/$C$19),$C$18*EXP(-(A35-$C$21)/$C$20)) -> 94622.565 | F35: =IF(A35<=$C$21,IF($C$12*(1-$C$25*(EXP(A35/$C$19)-1))>0,$C$12*(1-$C$25*(EXP(A35/$C$19)-1)),0),IF($C$29*(1-$C$27*(EXP((A35-$C$21)/$C$20)-1))>0,$C$29*(1-$C$27*(EXP((A35-$C$21)/$C$20)-1)),0)) -> 116.87903 | G35: =IF(A35<=$C$21,($C$5-$C$8)*(F35/$C$12)^(1/$C$11)+$C$8, ($C$28-$C$8)*(F35/$C$29)^(1/$C$11)+$C$8) -> 25.385499 | H35: =A35-$C$6/2 -> -11000 | I35: =A35+$C$6/2 -> -1000
A36: =A37-$C$4 -> -5000 | E36: =IF(A36<=$C$21,$C$17*EXP(-A36/$C$19),$C$18*EXP(-(A36-$C$21)/$C$20)) -> 89771.217 | F36: =IF(A36<=$C$21,IF($C$12*(1-$C$25*(EXP(A36/$C$19)-1))>0,$C$12*(1-$C$25*(EXP(A36/$C$19)-1)),0),IF($C$29*(1-$C$27*(EXP((A36-$C$21)/$C$20)-1))>0,$C$29*(1-$C$27*(EXP((A36-$C$21)/$C$20)-1)),0)) -> 116.60557 | G36: =IF(A36<=$C$21,($C$5-$C$8)*(F36/$C$12)^(1/$C$11)+$C$8, ($C$28-$C$8)*(F36/$C$29)^(1/$C$11)+$C$8) -> 25.103918 | H36: =A36-$C$6/2 -> -10000 | I36: =A36+$C$6/2 -> 0
A37: =A38-$C$4 -> -4000 | E37: =IF(A37<=$C$21,$C$17*EXP(-A37/$C$19),$C$18*EXP(-(A37-$C$21)/$C$20)) -> 85168.6 | F37: =IF(A37<=$C$21,IF($C$12*(1-$C$25*(EXP(A37/$C$19)-1))>0,$C$12*(1-$C$25*(EXP(A37/$C$19)-1)),0),IF($C$29*(1-$C$27*(EXP((A37-$C$21)/$C$20)-1))>0,$C$29*(1-$C$27*(EXP((A37-$C$21)/$C$20)-1)),0)) -> 116.31734 | G37: =IF(A37<=$C$21,($C$5-$C$8)*(F37/$C$12)^(1/$C$11)+$C$8, ($C$28-$C$8)*(F37/$C$29)^(1/$C$11)+$C$8) -> 24.809797 | H37: =A37-$C$6/2 -> -9000 | I37: =A37+$C$6/2 -> 1000
A38: =A39-$C$4 -> -3000 | E38: =IF(A38<=$C$21,$C$17*EXP(-A38/$C$19),$C$18*EXP(-(A38-$C$21)/$C$20)) -> 80801.962 | F38: =IF(A38<=$C$21,IF($C$12*(1-$C$25*(EXP(A38/$C$19)-1))>0,$C$12*(1-$C$25*(EXP(A38/$C$19)-1)),0),IF($C$29*(1-$C$27*(EXP((A38-$C$21)/$C$20)-1))>0,$C$29*(1-$C$27*(EXP((A38-$C$21)/$C$20)-1)),0)) -> 116.01353 | G38: =IF(A38<=$C$21,($C$5-$C$8)*(F38/$C$12)^(1/$C$11)+$C$8, ($C$28-$C$8)*(F38/$C$29)^(1/$C$11)+$C$8) -> 24.502735 | H38: =A38-$C$6/2 -> -8000 | I38: =A38+$C$6/2 -> 2000
A39: =A40-$C$4 -> -2000 | E39: =IF(A39<=$C$21,$C$17*EXP(-A39/$C$19),$C$18*EXP(-(A39-$C$21)/$C$20)) -> 76659.203 | F39: =IF(A39<=$C$21,IF($C$12*(1-$C$25*(EXP(A39/$C$19)-1))>0,$C$12*(1-$C$25*(EXP(A39/$C$19)-1)),0),IF($C$29*(1-$C$27*(EXP((A39-$C$21)/$C$20)-1))>0,$C$29*(1-$C$27*(EXP((A39-$C$21)/$C$20)-1)),0)) -> 115.6933 | G39: =IF(A39<=$C$21,($C$5-$C$8)*(F39/$C$12)^(1/$C$11)+$C$8, ($C$28-$C$8)*(F39/$C$29)^(1/$C$11)+$C$8) -> 24.182338 | H39: =A39-$C$6/2 -> -7000 | I39: =A39+$C$6/2 -> 3000
A40: =A41-$C$4 -> -1000 | E40: =IF(A40<=$C$21,$C$17*EXP(-A40/$C$19),$C$18*EXP(-(A40-$C$21)/$C$20)) -> 72728.846 | F40: =IF(A40<=$C$21,IF($C$12*(1-$C$25*(EXP(A40/$C$19)-1))>0,$C$12*(1-$C$25*(EXP(A40/$C$19)-1)),0),IF($C$29*(1-$C$27*(EXP((A40-$C$21)/$C$20)-1))>0,$C$29*(1-$C$27*(EXP((A40-$C$21)/$C$20)-1)),0)) -> 115.35577 | G40: =IF(A40<=$C$21,($C$5-$C$8)*(F40/$C$12)^(1/$C$11)+$C$8, ($C$28-$C$8)*(F40/$C$29)^(1/$C$11)+$C$8) -> 23.848217 | H40: =A40-$C$6/2 -> -6000 | I40: =A40+$C$6/2 -> 4000
A41: 0 | E41: =IF(A41<=$C$21,$C$17*EXP(-A41/$C$19),$C$18*EXP(-(A41-$C$21)/$C$20)) -> 69000 | F41: =IF(A41<=$C$21,IF($C$12*(1-$C$25*(EXP(A41/$C$19)-1))>0,$C$12*(1-$C$25*(EXP(A41/$C$19)-1)),0),IF($C$29*(1-$C$27*(EXP((A41-$C$21)/$C$20)-1))>0,$C$29*(1-$C$27*(EXP((A41-$C$21)/$C$20)-1)),0)) -> 115 | G41: =IF(A41<=$C$21,($C$5-$C$8)*(F41/$C$12)^(1/$C$11)+$C$8, ($C$28-$C$8)*(F41/$C$29)^(1/$C$11)+$C$8) -> 23.5 | H41: =A41-$C$6/2 -> -5000 | I41: =A41+$C$6/2 -> 5000
A42: =A41+$C$4 -> 1000 | E42: =IF(A42<=$C$21,$C$17*EXP(-A42/$C$19),$C$18*EXP(-(A42-$C$21)/$C$20)) -> 65462.334 | F42: =IF(A42<=$C$21,IF($C$12*(1-$C$25*(EXP(A42/$C$19)-1))>0,$C$12*(1-$C$25*(EXP(A42/$C$19)-1)),0),IF($C$29*(1-$C$27*(EXP((A42-$C$21)/$C$20)-1))>0,$C$29*(1-$C$27*(EXP((A42-$C$21)/$C$20)-1)),0)) -> 114.625 | G42: =IF(A42<=$C$21,($C$5-$C$8)*(F42/$C$12)^(1/$C$11)+$C$8, ($C$28-$C$8)*(F42/$C$29)^(1/$C$11)+$C$8) -> 23.137325 | H42: =A42-$C$6/2 -> -4000 | I42: =A42+$C$6/2 -> 6000
A43: =A42+$C$4 -> 2000 | E43: =IF(A43<=$C$21,$C$17*EXP(-A43/$C$19),$C$18*EXP(-(A43-$C$21)/$C$20)) -> 62106.046 | F43: =IF(A43<=$C$21,IF($C$12*(1-$C$25*(EXP(A43/$C$19)-1))>0,$C$12*(1-$C$25*(EXP(A43/$C$19)-1)),0),IF($C$29*(1-$C$27*(EXP((A43-$C$21)/$C$20)-1))>0,$C$29*(1-$C$27*(EXP((A43-$C$21)/$C$20)-1)),0)) -> 114.22974 | G43: =IF(A43<=$C$21,($C$5-$C$8)*(F43/$C$12)^(1/$C$11)+$C$8, ($C$28-$C$8)*(F43/$C$29)^(1/$C$11)+$C$8) -> 22.759853 | H43: =A43-$C$6/2 -> -3000 | I43: =A43+$C$6/2 -> 7000
A44: =A43+$C$4 -> 3000 | E44: =IF(A44<=$C$21,$C$17*EXP(-A44/$C$19),$C$18*EXP(-(A44-$C$21)/$C$20)) -> 58921.837 | F44: =IF(A44<=$C$21,IF($C$12*(1-$C$25*(EXP(A44/$C$19)-1))>0,$C$12*(1-$C$25*(EXP(A44/$C$19)-1)),0),IF($C$29*(1-$C$27*(EXP((A44-$C$21)/$C$20)-1))>0,$C$29*(1-$C$27*(EXP((A44-$C$21)/$C$20)-1)),0)) -> 113.81311 | G44: =IF(A44<=$C$21,($C$5-$C$8)*(F44/$C$12)^(1/$C$11)+$C$8, ($C$28-$C$8)*(F44/$C$29)^(1/$C$11)+$C$8) -> 22.367265 | H44: =A44-$C$6/2 -> -2000 | I44: =A44+$C$6/2 -> 8000
...

Sheet 14-12-1978
A1: STEADY SALT INTRUSION MODEL (TA)
A2: Corantijn 14-12-1978
A3: Input | F3: Measurements
A4: Step length | B4: dx | C4: 1000 | D4: m | F4: x (m) | G4: HWS | H4: x (m) | I4: LWS
A5: Sea salinity | B5: S0 | C5: 18.5 | D5: kg/m3 | F5: 22000 | G5: 12.5 | H5: 22000 | I5: 8
A6: Tidal Excursion | B6: E0 | C6: 13000 | D6: m | F6: 40000 | G6: 5.5 | H6: 40000 | I6: 2.4
A7: Tidal Range | B7: H | C7: 2.3 | D7: m | F7: 57000 | G7: 2 | H7: 57000 | I7: 0.4
A8: Fresh water salinity | B8: Cf | C8: 0 | D8: kg/m3 | F8: 67000 | G8: 1 | H8: 67000 | I8: 0
A10: Calibration parameters
A11: Van Den Burgh | B11: K | C11: 0.21
A12: Dispersion at mouth | B12: Do | C12: 140 | D12: m2/s
A13: Discharge | B13: Q | C13: 130 | D13: m3/s
A14: Alpha 0 | B14: α0 | C14: =C12/C13 -> 1.0769231 | D14: 1/m
A16: Geometry
A17: Area at mouth | B17: A0 | C17: =Overview!D18 -> 69000 | D17: m2
A18: Area at x1 | B18: A1 | C18: =Overview!D19 -> 26755.447 | D18: m2
A19: Convergence length | B19: a1 | C19: =Overview!D20 -> 19000 | D19: m
A20: Convergence length 2 | B20: a2 | C20: =Overview!D21 -> 64000 | D20: m
A21: Inflection point | B21: x1 | C21: =Overview!D22 -> 18000 | D21: m
A22: Depth | B22: h0 | C22: =Overview!D23 -> 6.5 | D22: m
A24: Calculations | F24: REMARKS
A25: Beta | B25: β | C25: =$C$11*$C$19/C$14/$C$17 -> 0.053695652
A26: Alpha 1 | B26: α1 | C26: =C29/C13 -> 0.98562065 | D26: 1/m
A27: Beta1 | B27: β1 | C27: =C11*C20/C26/C18 -> 0.50965614
A28: Salinity at x1 | B28: S1 | C28: =($C$5-$C$8)*(C29/C12)^(1/$C$11)+$C$8 -> 12.132714 | D28: kg/m3
A29: Dispersion at x1 | B29: D1 | C29: =C12*(1-C25*(EXP(C21/C19)-1)) -> 128.13068
A31: x: | B31: Shifted x | E31: A | F31: D | G31: S | H31: xLWS | I31: xHWS
A32: =A33-$C$4-9000 -> -18000 | E32: =IF(A32<=$C$21,$C$17*EXP(-A32/$C$19),$C$18*EXP(-(A32-$C$21)/$C$20)) -> 177945.07 | F32: =IF(A32<=$C$21,IF($C$12*(1-$C$25*(EXP(A32/$C$19)-1))>0,$C$12*(1-$C$25*(EXP(A32/$C$19)-1)),0),IF($C$29*(1-$C$27*(EXP((A32-$C$21)/$C$20)-1))>0,$C$29*(1-$C$27*(EXP((A32-$C$21)/$C$20)-1)),0)) -> 144.60245 | G32: =IF(A32<=$C$21,($C$5-$C$8)*(F32/$C$12)^(1/$C$11)+$C$8, ($C$28-$C$8)*(F32/$C$29)^(1/$C$11)+$C$8) -> 21.580678 | H32: =A32-$C$6/2 -> -24500 | I32: =A32+$C$6/2 -> -11500
A33: =A34-$C$4 -> -8000 | E33: =IF(A33<=$C$21,$C$17*EXP(-A33/$C$19),$C$18*EXP(-(A33-$C$21)/$C$20)) -> 105125.95 | F33: =IF(A33<=$C$21,IF($C$12*(1-$C$25*(EXP(A33/$C$19)-1))>0,$C$12*(1-$C$25*(EXP(A33/$C$19)-1)),0),IF($C$29*(1-$C$27*(EXP((A33-$C$21)/$C$20)-1))>0,$C$29*(1-$C$27*(EXP((A33-$C$21)/$C$20)-1)),0)) -> 142.58331 | G33: =IF(A33<=$C$21,($C$5-$C$8)*(F33/$C$12)^(1/$C$11)+$C$8, ($C$28-$C$8)*(F33/$C$29)^(1/$C$11)+$C$8) -> 20.182938 | H33: =A33-$C$6/2 -> -14500 | I33: =A33+$C$6/2 -> -1500
A34: =A35-$C$4 -> -7000 | E34: =IF(A34<=$C$21,$C$17*EXP(-A34/$C$19),$C$18*EXP(-(A34-$C$21)/$C$20)) -> 99736.086 | F34: =IF(A34<=$C$21,IF($C$12*(1-$C$25*(EXP(A34/$C$19)-1))>0,$C$12*(1-$C$25*(EXP(A34/$C$19)-1)),0),IF($C$29*(1-$C$27*(EXP((A34-$C$21)/$C$20)-1))>0,$C$29*(1-$C$27*(EXP((A34-$C$21)/$C$20)-1)),0)) -> 142.31667 | G34: =IF(A34<=$C$21,($C$5-$C$8)*(F34/$C$12)^(1/$C$11)+$C$8, ($C$28-$C$8)*(F34/$C$29)^(1/$C$11)+$C$8) -> 20.003836 | H34: =A34-$C$6/2 -> -13500 | I34: =A34+$C$6/2 -> -500
A35: =A36-$C$4 -> -6000 | E35: =IF(A35<=$C$21,$C$17*EXP(-A35/$C$19),$C$18*EXP(-(A35-$C$21)/$C$20)) -> 94622.565 | F35: =IF(A35<=$C$21,IF($C$12*(1-$C$25*(EXP(A35/$C$19)-1))>0,$C$12*(1-$C$25*(EXP(A35/$C$19)-1)),0),IF($C$29*(1-$C$27*(EXP((A35-$C$21)/$C$20)-1))>0,$C$29*(1-$C$27*(EXP((A35-$C$21)/$C$20)-1)),0)) -> 142.03561 | G35: =IF(A35<=$C$21,($C$5-$C$8)*(F35/$C$12)^(1/$C$11)+$C$8, ($C$28-$C$8)*(F35/$C$29)^(1/$C$11)+$C$8) -> 19.816416 | H35: =A35-$C$6/2 -> -12500 | I35: =A35+$C$6/2 -> 500
A36: =A37-$C$4 -> -5000 | E36: =IF(A36<=$C$21,$C$17*EXP(-A36/$C$19),$C$18*EXP(-(A36-$C$21)/$C$20)) -> 89771.217 | F36: =IF(A36<=$C$21,IF($C$12*(1-$C$25*(EXP(A36/$C$19)-1))>0,$C$12*(1-$C$25*(EXP(A36/$C$19)-1)),0),IF($C$29*(1-$C$27*(EXP((A36-$C$21)/$C$20)-1))>0,$C$29*(1-$C$27*(EXP((A36-$C$21)/$C$20)-1)),0)) -> 141.73937 | G36: =IF(A36<=$C$21,($C$5-$C$8)*(F36/$C$12)^(1/$C$11)+$C$8, ($C$28-$C$8)*(F36/$C$29)^(1/$C$11)+$C$8) -> 19.620373 | H36: =A36-$C$6/2 -> -11500 | I36: =A36+$C$6/2 -> 1500
A37: =A38-$C$4 -> -4000 | E37: =IF(A37<=$C$21,$C$17*EXP(-A37/$C$19),$C$18*EXP(-(A37-$C$21)/$C$20)) -> 85168.6 | F37: =IF(A37<=$C$21,IF($C$12*(1-$C$25*(EXP(A37/$C$19)-1))>0,$C$12*(1-$C$25*(EXP(A37/$C$19)-1)),0),IF($C$29*(1-$C$27*(EXP((A37-$C$21)/$C$20)-1))>0,$C$29*(1-$C$27*(EXP((A37-$C$21)/$C$20)-1)),0)) -> 141.42712 | G37: =IF(A37<=$C$21,($C$5-$C$8)*(F37/$C$12)^(1/$C$11)+$C$8, ($C$28-$C$8)*(F37/$C$29)^(1/$C$11)+$C$8) -> 19.415398 | H37: =A37-$C$6/2 -> -10500 | I37: =A37+$C$6/2 -> 2500
A38: =A39-$C$4 -> -3000 | E38: =IF(A38<=$C$21,$C$17*EXP(-A38/$C$19),$C$18*EXP(-(A38-$C$21)/$C$20)) -> 80801.962 | F38: =IF(A38<=$C$21,IF($C$12*(1-$C$25*(EXP(A38/$C$19)-1))>0,$C$12*(1-$C$25*(EXP(A38/$C$19)-1)),0),IF($C$29*(1-$C$27*(EXP((A38-$C$21)/$C$20)-1))>0,$C$29*(1-$C$27*(EXP((A38-$C$21)/$C$20)-1)),0)) -> 141.09799 | G38: =IF(A38<=$C$21,($C$5-$C$8)*(F38/$C$12)^(1/$C$11)+$C$8, ($C$28-$C$8)*(F38/$C$29)^(1/$C$11)+$C$8) -> 19.20118 | H38: =A38-$C$6/2 -> -9500 | I38: =A38+$C$6/2 -> 3500
A39: =A40-$C$4 -> -2000 | E39: =IF(A39<=$C$21,$C$17*EXP(-A39/$C$19),$C$18*EXP(-(A39-$C$21)/$C$20)) -> 76659.203 | F39: =IF(A39<=$C$21,IF($C$12*(1-$C$25*(EXP(A39/$C$19)-1))>0,$C$12*(1-$C$25*(EXP(A39/$C$19)-1)),0),IF($C$29*(1-$C$27*(EXP((A39-$C$21)/$C$20)-1))>0,$C$29*(1-$C$27*(EXP((A39-$C$21)/$C$20)-1)),0)) -> 140.75108 | G39: =IF(A39<=$C$21,($C$5-$C$8)*(F39/$C$12)^(1/$C$11)+$C$8, ($C$28-$C$8)*(F39/$C$29)^(1/$C$11)+$C$8) -> 18.977411 | H39: =A39-$C$6/2 -> -8500 | I39: =A39+$C$6/2 -> 4500
A40: =A41-$C$4 -> -1000 | E40: =IF(A40<=$C$21,$C$17*EXP(-A40/$C$19),$C$18*EXP(-(A40-$C$21)/$C$20)) -> 72728.846 | F40: =IF(A40<=$C$21,IF($C$12*(1-$C$25*(EXP(A40/$C$19)-1))>0,$C$12*(1-$C$25*(EXP(A40/$C$19)-1)),0),IF($C$29*(1-$C$27*(EXP((A40-$C$21)/$C$20)-1))>0,$C$29*(1-$C$27*(EXP((A40-$C$21)/$C$20)-1)),0)) -> 140.38542 | G40: =IF(A40<=$C$21,($C$5-$C$8)*(F40/$C$12)^(1/$C$11)+$C$8, ($C$28-$C$8)*(F40/$C$29)^(1/$C$11)+$C$8) -> 18.743786 | H40: =A40-$C$6/2 -> -7500 | I40: =A40+$C$6/2 -> 5500
A41: 0 | E41: =IF(A41<=$C$21,$C$17*EXP(-A41/$C$19),$C$18*EXP(-(A41-$C$21)/$C$20)) -> 69000 | F41: =IF(A41<=$C$21,IF($C$12*(1-$C$25*(EXP(A41/$C$19)-1))>0,$C$12*(1-$C$25*(EXP(A41/$C$19)-1)),0),IF($C$29*(1-$C$27*(EXP((A41-$C$21)/$C$20)-1))>0,$C$29*(1-$C$27*(EXP((A41-$C$21)/$C$20)-1)),0)) -> 140 | G41: =IF(A41<=$C$21,($C$5-$C$8)*(F41/$C$12)^(1/$C$11)+$C$8, ($C$28-$C$8)*(F41/$C$29)^(1/$C$11)+$C$8) -> 18.5 | H41: =A41-$C$6/2 -> -6500 | I41: =A41+$C$6/2 -> 6500
A42: =A41+$C$4 -> 1000 | E42: =IF(A42<=$C$21,$C$17*EXP(-A42/$C$19),$C$18*EXP(-(A42-$C$21)/$C$20)) -> 65462.334 | F42: =IF(A42<=$C$21,IF($C$12*(1-$C$25*(EXP(A42/$C$19)-1))>0,$C$12*(1-$C$25*(EXP(A42/$C$19)-1)),0),IF($C$29*(1-$C$27*(EXP((A42-$C$21)/$C$20)-1))>0,$C$29*(1-$C$27*(EXP((A42-$C$21)/$C$20)-1)),0)) -> 139.59375 | G42: =IF(A42<=$C$21,($C$5-$C$8)*(F42/$C$12)^(1/$C$11)+$C$8, ($C$28-$C$8)*(F42/$C$29)^(1/$C$11)+$C$8) -> 18.245759 | H42: =A42-$C$6/2 -> -5500 | I42: =A42+$C$6/2 -> 7500
A43: =A42+$C$4 -> 2000 | E43: =IF(A43<=$C$21,$C$17*EXP(-A43/$C$19),$C$18*EXP(-(A43-$C$21)/$C$20)) -> 62106.046 | F43: =IF(A43<=$C$21,IF($C$12*(1-$C$25*(EXP(A43/$C$19)-1))>0,$C$12*(1-$C$25*(EXP(A43/$C$19)-1)),0),IF($C$29*(1-$C$27*(EXP((A43-$C$21)/$C$20)-1))>0,$C$29*(1-$C$27*(EXP((A43-$C$21)/$C$20)-1)),0)) -> 139.16555 | G43: =IF(A43<=$C$21,($C$5-$C$8)*(F43/$C$12)^(1/$C$11)+$C$8, ($C$28-$C$8)*(F43/$C$29)^(1/$C$11)+$C$8) -> 17.980774 | H43: =A43-$C$6/2 -> -4500 | I43: =A43+$C$6/2 -> 8500
A44: =A43+$C$4 -> 3000 | E44: =IF(A44<=$C$21,$C$17*EXP(-A44/$C$19),$C$18*EXP(-(A44-$C$21)/$C$20)) -> 58921.837 | F44: =IF(A44<=$C$21,IF($C$12*(1-$C$25*(EXP(A44/$C$19)-1))>0,$C$12*(1-$C$25*(EXP(A44/$C$19)-1)),0),IF($C$29*(1-$C$27*(EXP((A44-$C$21)/$C$20)-1))>0,$C$29*(1-$C$27*(EXP((A44-$C$21)/$C$20)-1)),0)) -> 138.7142 | G44: =IF(A44<=$C$21,($C$5-$C$8)*(F44/$C$12)^(1/$C$11)+$C$8, ($C$28-$C$8)*(F44/$C$29)^(1/$C$11)+$C$8) -> 17.70477 | H44: =A44-$C$6/2 -> -3500 | I44: =A44+$C$6/2 -> 9500
...

Sheet 20-12-1978
A1: STEADY SALT INTRUSION MODEL (TA)
A2: Corantijn 20-12-1978
A3: Input | F3: Measurements
A4: Step length | B4: dx | C4: 1000 | D4: m | F4: x (m) | G4: HWS | H4: x (m) | I4: LWS
A5: Sea salinity | B5: S0 | C5: 16.5 | D5: kg/m3 | F5: 22000 | G5: 11 | H5: 22000 | I5: 6.4
A6: Tidal Excursion | B6: E0 | C6: 9000 | D6: m | F6: 40000 | G6: 4.4 | H6: 40000 | I6: 2
A7: Tidal Range | B7: H | C7: 1.6 | D7: m | F7: 57000 | G7: =3/4.5*2 -> 1.3333333 | H7: 57000 | I7: 0.4
A8: Fresh water salinity | B8: Cf | C8: 0 | D8: kg/m3 | F8: 67000 | G8: 0 | H8: 67000 | I8: 0
A10: Calibration parameters
A11: Van Den Burgh | B11: K | C11: 0.21
A12: Dispersion at mouth | B12: Do | C12: 210 | D12: m2/s
A13: Discharge | B13: Q | C13: 220 | D13: m3/s
A14: Alpha 0 | B14: α0 | C14: =C12/C13 -> 0.95454545 | D14: 1/m
A16: Geometry
A17: Area at mouth | B17: A0 | C17: =Overview!D18 -> 69000 | D17: m2
A18: Area at x1 | B18: A1 | C18: =Overview!D19 -> 26755.447 | D18: m2
A19: Convergence length | B19: a1 | C19: =Overview!D20 -> 19000 | D19: m
A20: Convergence length 2 | B20: a2 | C20: =Overview!D21 -> 64000 | D20: m
A21: Inflection point | B21: x1 | C21: =Overview!D22 -> 18000 | D21: m
A22: Depth | B22: h0 | C22: =Overview!D23 -> 6.5 | D22: m
A24: Calculations | F24: REMARKS
A25: Beta | B25: β | C25: =$C$11*$C$19/C$14/$C$17 -> 0.06057971 | F25: Neap tide
A26: Alpha 1 | B26: α1 | C26: =C29/C13 -> 0.86324303 | D26: 1/m
A27: Beta1 | B27: β1 | C27: =C11*C20/C26/C18 -> 0.58190753
A28: Salinity at x1 | B28: S1 | C28: =($C$5-$C$8)*(C29/C12)^(1/$C$11)+$C$8 -> 10.222623 | D28: kg/m3
A29: Dispersion at x1 | B29: D1 | C29: =C12*(1-C25*(EXP(C21/C19)-1)) -> 189.91347
A31: x: | B31: Shifted x | E31: A | F31: D | G31: S | H31: xLWS | I31: xHWS
A32: =A33-$C$4-9000 -> -18000 | E32: =IF(A32<=$C$21,$C$17*EXP(-A32/$C$19),$C$18*EXP(-(A32-$C$21)/$C$20)) -> 177945.07 | F32: =IF(A32<=$C$21,IF($C$12*(1-$C$25*(EXP(A32/$C$19)-1))>0,$C$12*(1-$C$25*(EXP(A32/$C$19)-1)),0),IF($C$29*(1-$C$27*(EXP((A32-$C$21)/$C$20)-1))>0,$C$29*(1-$C$27*(EXP((A32-$C$21)/$C$20)-1)),0)) -> 217.78876 | G32: =IF(A32<=$C$21,($C$5-$C$8)*(F32/$C$12)^(1/$C$11)+$C$8, ($C$28-$C$8)*(F32/$C$29)^(1/$C$11)+$C$8) -> 19.624518 | H32: =A32-$C$6/2 -> -22500 | I32: =A32+$C$6/2 -> -13500
A33: =A34-$C$4 -> -8000 | E33: =IF(A33<=$C$21,$C$17*EXP(-A33/$C$19),$C$18*EXP(-(A33-$C$21)/$C$20)) -> 105125.95 | F33: =IF(A33<=$C$21,IF($C$12*(1-$C$25*(EXP(A33/$C$19)-1))>0,$C$12*(1-$C$25*(EXP(A33/$C$19)-1)),0),IF($C$29*(1-$C$27*(EXP((A33-$C$21)/$C$20)-1))>0,$C$29*(1-$C$27*(EXP((A33-$C$21)/$C$20)-1)),0)) -> 214.37175 | G33: =IF(A33<=$C$21,($C$5-$C$8)*(F33/$C$12)^(1/$C$11)+$C$8, ($C$28-$C$8)*(F33/$C$29)^(1/$C$11)+$C$8) -> 18.200979 | H33: =A33-$C$6/2 -> -12500 | I33: =A33+$C$6/2 -> -3500
A34: =A35-$C$4 -> -7000 | E34: =IF(A34<=$C$21,$C$17*EXP(-A34/$C$19),$C$18*EXP(-(A34-$C$21)/$C$20)) -> 99736.086 | F34: =IF(A34<=$C$21,IF($C$12*(1-$C$25*(EXP(A34/$C$19)-1))>0,$C$12*(1-$C$25*(EXP(A34/$C$19)-1)),0),IF($C$29*(1-$C$27*(EXP((A34-$C$21)/$C$20)-1))>0,$C$29*(1-$C$27*(EXP((A34-$C$21)/$C$20)-1)),0)) -> 213.92051 | G34: =IF(A34<=$C$21,($C$5-$C$8)*(F34/$C$12)^(1/$C$11)+$C$8, ($C$28-$C$8)*(F34/$C$29)^(1/$C$11)+$C$8) -> 18.01926 | H34: =A34-$C$6/2 -> -11500 | I34: =A34+$C$6/2 -> -2500
A35: =A36-$C$4 -> -6000 | E35: =IF(A35<=$C$21,$C$17*EXP(-A35/$C$19),$C$18*EXP(-(A35-$C$21)/$C$20)) -> 94622.565 | F35: =IF(A35<=$C$21,IF($C$12*(1-$C$25*(EXP(A35/$C$19)-1))>0,$C$12*(1-$C$25*(EXP(A35/$C$19)-1)),0),IF($C$29*(1-$C$27*(EXP((A35-$C$21)/$C$20)-1))>0,$C$29*(1-$C$27*(EXP((A35-$C$21)/$C$20)-1)),0)) -> 213.44488 | G35: =IF(A35<=$C$21,($C$5-$C$8)*(F35/$C$12)^(1/$C$11)+$C$8, ($C$28-$C$8)*(F35/$C$29)^(1/$C$11)+$C$8) -> 17.829276 | H35: =A35-$C$6/2 -> -10500 | I35: =A35+$C$6/2 -> -1500
A36: =A37-$C$4 -> -5000 | E36: =IF(A36<=$C$21,$C$17*EXP(-A36/$C$19),$C$18*EXP(-(A36-$C$21)/$C$20)) -> 89771.217 | F36: =IF(A36<=$C$21,IF($C$12*(1-$C$25*(EXP(A36/$C$19)-1))>0,$C$12*(1-$C$25*(EXP(A36/$C$19)-1)),0),IF($C$29*(1-$C$27*(EXP((A36-$C$21)/$C$20)-1))>0,$C$29*(1-$C$27*(EXP((A36-$C$21)/$C$20)-1)),0)) -> 212.94355 | G36: =IF(A36<=$C$21,($C$5-$C$8)*(F36/$C$12)^(1/$C$11)+$C$8, ($C$28-$C$8)*(F36/$C$29)^(1/$C$11)+$C$8) -> 17.630742 | H36: =A36-$C$6/2 -> -9500 | I36: =A36+$C$6/2 -> -500
A37: =A38-$C$4 -> -4000 | E37: =IF(A37<=$C$21,$C$17*EXP(-A37/$C$19),$C$18*EXP(-(A37-$C$21)/$C$20)) -> 85168.6 | F37: =IF(A37<=$C$21,IF($C$12*(1-$C$25*(EXP(A37/$C$19)-1))>0,$C$12*(1-$C$25*(EXP(A37/$C$19)-1)),0),IF($C$29*(1-$C$27*(EXP((A37-$C$21)/$C$20)-1))>0,$C$29*(1-$C$27*(EXP((A37-$C$21)/$C$20)-1)),0)) -> 212.41512 | G37: =IF(A37<=$C$21,($C$5-$C$8)*(F37/$C$12)^(1/$C$11)+$C$8, ($C$28-$C$8)*(F37/$C$29)^(1/$C$11)+$C$8) -> 17.423373 | H37: =A37-$C$6/2 -> -8500 | I37: =A37+$C$6/2 -> 500
A38: =A39-$C$4 -> -3000 | E38: =IF(A38<=$C$21,$C$17*EXP(-A38/$C$19),$C$18*EXP(-(A38-$C$21)/$C$20)) -> 80801.962 | F38: =IF(A38<=$C$21,IF($C$12*(1-$C$25*(EXP(A38/$C$19)-1))>0,$C$12*(1-$C$25*(EXP(A38/$C$19)-1)),0),IF($C$29*(1-$C$27*(EXP((A38-$C$21)/$C$20)-1))>0,$C$29*(1-$C$27*(EXP((A38-$C$21)/$C$20)-1)),0)) -> 211.85814 | G38: =IF(A38<=$C$21,($C$5-$C$8)*(F38/$C$12)^(1/$C$11)+$C$8, ($C$28-$C$8)*(F38/$C$29)^(1/$C$11)+$C$8) -> 17.206888 | H38: =A38-$C$6/2 -> -7500 | I38: =A38+$C$6/2 -> 1500
A39: =A40-$C$4 -> -2000 | E39: =IF(A39<=$C$21,$C$17*EXP(-A39/$C$19),$C$18*EXP(-(A39-$C$21)/$C$20)) -> 76659.203 | F39: =IF(A39<=$C$21,IF($C$12*(1-$C$25*(EXP(A39/$C$19)-1))>0,$C$12*(1-$C$25*(EXP(A39/$C$19)-1)),0),IF($C$29*(1-$C$27*(EXP((A39-$C$21)/$C$20)-1))>0,$C$29*(1-$C$27*(EXP((A39-$C$21)/$C$20)-1)),0)) -> 211.27106 | G39: =IF(A39<=$C$21,($C$5-$C$8)*(F39/$C$12)^(1/$C$11)+$C$8, ($C$28-$C$8)*(F39/$C$29)^(1/$C$11)+$C$8) -> 16.981011 | H39: =A39-$C$6/2 -> -6500 | I39: =A39+$C$6/2 -> 2500
A40: =A41-$C$4 -> -1000 | E40: =IF(A40<=$C$21,$C$17*EXP(-A40/$C$19),$C$18*EXP(-(A40-$C$21)/$C$20)) -> 72728.846 | F40: =IF(A40<=$C$21,IF($C$12*(1-$C$25*(EXP(A40/$C$19)-1))>0,$C$12*(1-$C$25*(EXP(A40/$C$19)-1)),0),IF($C$29*(1-$C$27*(EXP((A40-$C$21)/$C$20)-1))>0,$C$29*(1-$C$27*(EXP((A40-$C$21)/$C$20)-1)),0)) -> 210.65225 | G40: =IF(A40<=$C$21,($C$5-$C$8)*(F40/$C$12)^(1/$C$11)+$C$8, ($C$28-$C$8)*(F40/$C$29)^(1/$C$11)+$C$8) -> 16.745469 | H40: =A40-$C$6/2 -> -5500 | I40: =A40+$C$6/2 -> 3500
A41: 0 | E41: =IF(A41<=$C$21,$C$17*EXP(-A41/$C$19),$C$18*EXP(-(A41-$C$21)/$C$20)) -> 69000 | F41: =IF(A41<=$C$21,IF($C$12*(1-$C$25*(EXP(A41/$C$19)-1))>0,$C$12*(1-$C$25*(EXP(A41/$C$19)-1)),0),IF($C$29*(1-$C$27*(EXP((A41-$C$21)/$C$20)-1))>0,$C$29*(1-$C$27*(EXP((A41-$C$21)/$C$20)-1)),0)) -> 210 | G41: =IF(A41<=$C$21,($C$5-$C$8)*(F41/$C$12)^(1/$C$11)+$C$8, ($C$28-$C$8)*(F41/$C$29)^(1/$C$11)+$C$8) -> 16.5 | H41: =A41-$C$6/2 -> -4500 | I41: =A41+$C$6/2 -> 4500
A42: =A41+$C$4 -> 1000 | E42: =IF(A42<=$C$21,$C$17*EXP(-A42/$C$19),$C$18*EXP(-(A42-$C$21)/$C$20)) -> 65462.334 | F42: =IF(A42<=$C$21,IF($C$12*(1-$C$25*(EXP(A42/$C$19)-1))>0,$C$12*(1-$C$25*(EXP(A42/$C$19)-1)),0),IF($C$29*(1-$C$27*(EXP((A42-$C$21)/$C$20)-1))>0,$C$29*(1-$C$27*(EXP((A42-$C$21)/$C$20)-1)),0)) -> 209.3125 | G42: =IF(A42<=$C$21,($C$5-$C$8)*(F42/$C$12)^(1/$C$11)+$C$8, ($C$28-$C$8)*(F42/$C$29)^(1/$C$11)+$C$8) -> 16.244352 | H42: =A42-$C$6/2 -> -3500 | I42: =A42+$C$6/2 -> 5500
A43: =A42+$C$4 -> 2000 | E43: =IF(A43<=$C$21,$C$17*EXP(-A43/$C$19),$C$18*EXP(-(A43-$C$21)/$C$20)) -> 62106.046 | F43: =IF(A43<=$C$21,IF($C$12*(1-$C$25*(EXP(A43/$C$19)-1))>0,$C$12*(1-$C$25*(EXP(A43/$C$19)-1)),0),IF($C$29*(1-$C$27*(EXP((A43-$C$21)/$C$20)-1))>0,$C$29*(1-$C$27*(EXP((A43-$C$21)/$C$20)-1)),0)) -> 208.58785 | G43: =IF(A43<=$C$21,($C$5-$C$8)*(F43/$C$12)^(1/$C$11)+$C$8, ($C$28-$C$8)*(F43/$C$29)^(1/$C$11)+$C$8) -> 15.978286 | H43: =A43-$C$6/2 -> -2500 | I43: =A43+$C$6/2 -> 6500
A44: =A43+$C$4 -> 3000 | E44: =IF(A44<=$C$21,$C$17*EXP(-A44/$C$19),$C$18*EXP(-(A44-$C$21)/$C$20)) -> 58921.837 | F44: =IF(A44<=$C$21,IF($C$12*(1-$C$25*(EXP(A44/$C$19)-1))>0,$C$12*(1-$C$25*(EXP(A44/$C$19)-1)),0),IF($C$29*(1-$C$27*(EXP((A44-$C$21)/$C$20)-1))>0,$C$29*(1-$C$27*(EXP((A44-$C$21)/$C$20)-1)),0)) -> 207.82404 | G44: =IF(A44<=$C$21,($C$5-$C$8)*(F44/$C$12)^(1/$C$11)+$C$8, ($C$28-$C$8)*(F44/$C$29)^(1/$C$11)+$C$8) -> 15.701581 | H44: =A44-$C$6/2 -> -1500 | I44: =A44+$C$6/2 -> 7500
...
