Workbook

Sheet Overview
B2: This sheet is provided as a tool to calculate salt intrusion in alluvial estuaries. It uses the analytical model as described in Salinity and Tides by H.H.G Savenije 2005
B14: Estuary
B15: Edisto
B17: Geometry
B18: Area at mouth | C18: A0 | D18: 14000 | E18: m2
B19: Area at x1 | C19: A1 | D19: =D18*EXP(-D22/D20) -> 5150.3122 | E19: m2
B20: Convergence length | C20: a1 | D20: 2000 | E20: m
B21: Convergence length 2 | C21: a2 | D21: 15000 | E21: m
B22: Inflection point | C22: x1 | D22: 2000 | E22: m
B23: Depth | C23: h0 | D23: 4 | E23: m
B25: Measurements
B26: 40371
B27: 40372
B28: 40373
B29: 40374

Sheet 12-7-2010
A1: STEADY SALT INTRUSION MODEL (TA)
A2: Edisto 12-7-2010
A3: Input | F3: Measurements
A4: Step length | B4: dx | C4: 1000 | D4: m | F4: x (m) | G4: HWS | H4: x (m) | I4: LWS
A5: Sea salinity | B5: S0 | C5: 49.5 | D5: mS/cm | F5: 0 | G5: 50 | H5: 0 | I5: 44.455714
A6: Tidal Excursion | B6: E0 | C6: 10000 | D6: m | F6: =2.7358848*1000 -> 2735.8848 | G6: 50 | H6: =2.7358848*1000 -> 2735.8848 | I6: 43.3
A7: Tidal Range | B7: H | C7: 2.3 | D7: m | F7: =5.4717696*1000 -> 5471.7696 | G7: 50 | H7: =5.4717696*1000 -> 5471.7696 | I7: 39.553333
A8: Fresh water salinity | B8: Cf | C8: 0 | D8: kg/m3 | F8: =8.2076544*1000 -> 8207.6544 | G8: 48.576 | H8: =8.2076544*1000 -> 8207.6544 | I8: 33.796667
F9: =10.9435392*1000 -> 10943.539 | G9: 47.093333 | H9: =10.9435392*1000 -> 10943.539 | I9: 29.7325
A10: Calibration parameters | F10: =13.679424*1000 -> 13679.424 | G10: 45.721429 | H10: =19.1511936*1000 -> 19151.194 | I10: 16.5925
A11: Van Den Burgh | B11: K | C11: 0.35 | F11: =16.4153088*1000 -> 16415.309 | G11: 42.01 | H11: =21.8870784*1000 -> 21887.078 | I11: 12.59
A12: Dispersion at mouth | B12: Do | C12: 160 | D12: m2/s | F12: =19.1511936*1000 -> 19151.194 | G12: 37.271429 | H12: =24.6229632*1000 -> 24622.963 | I12: 2.736
A13: Discharge | B13: Q | C13: 15 | D13: m3/s | F13: =21.8870784*1000 -> 21887.078 | G13: 30.662 | H13: =27.358848*1000 -> 27358.848 | I13: 1.2496667
A14: Alpha 0 | B14: α0 | C14: =C12/C13 -> 10.666667 | D14: 1/m | F14: =24.6229632*1000 -> 24622.963 | G14: 25.04125 | H14: =30.0947328*1000 -> 30094.733 | I14: 0.391
A15: Convergence Excursion | B15: e | C15: 1000000 | D15: m | F15: =30.0947328*1000 -> 30094.733 | G15: 15.695
F16: =33.796224*1000 -> 33796.224 | G16: 6.892
A17: Geometry | F17: =35.5665024*1000 -> 35566.502 | G17: 3.065
A18: Area at mouth | B18: A0 | C18: =Overview!D18 -> 14000 | D18: m2 | F18: =38.3023872*1000 -> 38302.387 | G18: 1.9953333
A19: Area at x1 | B19: A1 | C19: =Overview!D19 -> 5150.3122 | D19: m2 | F19: =41.038272*1000 -> 41038.272 | G19: 1.31
A20: Convergence length | B20: a1 | C20: =Overview!D20 -> 2000 | D20: m | F20: =43.7741568*1000 -> 43774.157 | G20: 0.13966667
A21: Convergence length 2 | B21: a2 | C21: =Overview!D21 -> 15000 | D21: m
A22: Inflection point | B22: x1 | C22: =Overview!D22 -> 2000 | D22: m
A23: Depth | B23: h0 | C23: =Overview!D23 -> 4 | D23: m
A25: Calculations | F25: REMARKS
A26: Beta | B26: β | C26: =$C$11*$C$20/C$14/$C$18 -> 0.0046875 | F26: unit S is mS/cm
A27: Alpha 1 | B27: α1 | C27: =C30/C13 -> 10.580753 | D27: 1/m
A28: Beta1 | B28: β1 | C28: =C11*C21/C27/C19 -> 0.096340565
A29: Salinity at x1 | B29: S1 | C29: =($C$5-$C$8)*(C30/C12)^(1/$C$11)+$C$8 -> 48.369371 | D29: kg/m3
A30: Dispersion at x1 | B30: D1 | C30: =C12*(1-C26*(EXP(C22/C20)-1)) -> 158.71129
A32: x: | B32: Shifted x | E32: A | F32: D | G32: S | H32: xLWS | I32: xHWS
A33: =A34-$C$4-9000 -> -18000 | E33: =IF(A33<=$C$22,$C$18*EXP(-A33/$C$20),$C$19*EXP(-(A33-$C$22)/$C$21)) -> 1.1344317e+08 | F33: =IF(A33<=$C$22,IF($C$12*(1-$C$26*(EXP(A33/$C$20)-1))>0,$C$12*(1-$C$26*(EXP(A33/$C$20)-1)),0),IF($C$30*(1-$C$28*(EXP((A33-$C$22)/$C$21)-1))>0,$C$30*(1-$C$28*(EXP((A33-$C$22)/$C$21)-1)),0)) -> 160.74991 | G33: =IF(A33<=$C$22,($C$5-$C$8)*(F33/$C$12)^(1/$C$11)+$C$8, ($C$29-$C$8)*(F33/$C$30)^(1/$C$11)+$C$8) -> 50.165753 | H33: =IF($C$15=0,A33-$C$6/2, A33-$C$6*EXP(-A33/$C$15)/2) -> -23090.815 | I33: =IF($C$15=0,A33+$C$6/2, A33+$C$6*EXP(-A33/$C$15)/2) -> -12909.185
A34: =A35-$C$4 -> -8000 | E34: =IF(A34<=$C$22,$C$18*EXP(-A34/$C$20),$C$19*EXP(-(A34-$C$22)/$C$21)) -> 764374.1 | F34: =IF(A34<=$C$22,IF($C$12*(1-$C$26*(EXP(A34/$C$20)-1))>0,$C$12*(1-$C$26*(EXP(A34/$C$20)-1)),0),IF($C$30*(1-$C$28*(EXP((A34-$C$22)/$C$21)-1))>0,$C$30*(1-$C$28*(EXP((A34-$C$22)/$C$21)-1)),0)) -> 160.73626 | G34: =IF(A34<=$C$22,($C$5-$C$8)*(F34/$C$12)^(1/$C$11)+$C$8, ($C$29-$C$8)*(F34/$C$30)^(1/$C$11)+$C$8) -> 50.153589 | H34: =IF($C$15=0,A34-$C$6/2, A34-$C$6*EXP(-A34/$C$15)/2) -> -13040.16 | I34: =IF($C$15=0,A34+$C$6/2, A34+$C$6*EXP(-A34/$C$15)/2) -> -2959.8396
A35: =A36-$C$4 -> -7000 | E35: =IF(A35<=$C$22,$C$18*EXP(-A35/$C$20),$C$19*EXP(-(A35-$C$22)/$C$21)) -> 463616.33 | F35: =IF(A35<=$C$22,IF($C$12*(1-$C$26*(EXP(A35/$C$20)-1))>0,$C$12*(1-$C$26*(EXP(A35/$C$20)-1)),0),IF($C$30*(1-$C$28*(EXP((A35-$C$22)/$C$21)-1))>0,$C$30*(1-$C$28*(EXP((A35-$C$22)/$C$21)-1)),0)) -> 160.72735 | G35: =IF(A35<=$C$22,($C$5-$C$8)*(F35/$C$12)^(1/$C$11)+$C$8, ($C$29-$C$8)*(F35/$C$30)^(1/$C$11)+$C$8) -> 50.145645 | H35: =IF($C$15=0,A35-$C$6/2, A35-$C$6*EXP(-A35/$C$15)/2) -> -12035.123 | I35: =IF($C$15=0,A35+$C$6/2, A35+$C$6*EXP(-A35/$C$15)/2) -> -1964.8772
A36: =A37-$C$4 -> -6000 | E36: =IF(A36<=$C$22,$C$18*EXP(-A36/$C$20),$C$19*EXP(-(A36-$C$22)/$C$21)) -> 281197.52 | F36: =IF(A36<=$C$22,IF($C$12*(1-$C$26*(EXP(A36/$C$20)-1))>0,$C$12*(1-$C$26*(EXP(A36/$C$20)-1)),0),IF($C$30*(1-$C$28*(EXP((A36-$C$22)/$C$21)-1))>0,$C$30*(1-$C$28*(EXP((A36-$C$22)/$C$21)-1)),0)) -> 160.71266 | G36: =IF(A36<=$C$22,($C$5-$C$8)*(F36/$C$12)^(1/$C$11)+$C$8, ($C$29-$C$8)*(F36/$C$30)^(1/$C$11)+$C$8) -> 50.132549 | H36: =IF($C$15=0,A36-$C$6/2, A36-$C$6*EXP(-A36/$C$15)/2) -> -11030.09 | I36: =IF($C$15=0,A36+$C$6/2, A36+$C$6*EXP(-A36/$C$15)/2) -> -969.90982
A37: =A38-$C$4 -> -5000 | E37: =IF(A37<=$C$22,$C$18*EXP(-A37/$C$20),$C$19*EXP(-(A37-$C$22)/$C$21)) -> 170554.92 | F37: =IF(A37<=$C$22,IF($C$12*(1-$C$26*(EXP(A37/$C$20)-1))>0,$C$12*(1-$C$26*(EXP(A37/$C$20)-1)),0),IF($C$30*(1-$C$28*(EXP((A37-$C$22)/$C$21)-1))>0,$C$30*(1-$C$28*(EXP((A37-$C$22)/$C$21)-1)),0)) -> 160.68844 | G37: =IF(A37<=$C$22,($C$5-$C$8)*(F37/$C$12)^(1/$C$11)+$C$8, ($C$29-$C$8)*(F37/$C$30)^(1/$C$11)+$C$8) -> 50.110963 | H37: =IF($C$15=0,A37-$C$6/2, A37-$C$6*EXP(-A37/$C$15)/2) -> -10025.063 | I37: =IF($C$15=0,A37+$C$6/2, A37+$C$6*EXP(-A37/$C$15)/2) -> 25.062604
A38: =A39-$C$4 -> -4000 | E38: =IF(A38<=$C$22,$C$18*EXP(-A38/$C$20),$C$19*EXP(-(A38-$C$22)/$C$21)) -> 103446.79 | F38: =IF(A38<=$C$22,IF($C$12*(1-$C$26*(EXP(A38/$C$20)-1))>0,$C$12*(1-$C$26*(EXP(A38/$C$20)-1)),0),IF($C$30*(1-$C$28*(EXP((A38-$C$22)/$C$21)-1))>0,$C$30*(1-$C$28*(EXP((A38-$C$22)/$C$21)-1)),0)) -> 160.6485 | G38: =IF(A38<=$C$22,($C$5-$C$8)*(F38/$C$12)^(1/$C$11)+$C$8, ($C$29-$C$8)*(F38/$C$30)^(1/$C$11)+$C$8) -> 50.075386 | H38: =IF($C$15=0,A38-$C$6/2, A38-$C$6*EXP(-A38/$C$15)/2) -> -9020.0401 | I38: =IF($C$15=0,A38+$C$6/2, A38+$C$6*EXP(-A38/$C$15)/2) -> 1020.0401
A39: =A40-$C$4 -> -3000 | E39: =IF(A39<=$C$22,$C$18*EXP(-A39/$C$20),$C$19*EXP(-(A39-$C$22)/$C$21)) -> 62743.647 | F39: =IF(A39<=$C$22,IF($C$12*(1-$C$26*(EXP(A39/$C$20)-1))>0,$C$12*(1-$C$26*(EXP(A39/$C$20)-1)),0),IF($C$30*(1-$C$28*(EXP((A39-$C$22)/$C$21)-1))>0,$C$30*(1-$C$28*(EXP((A39-$C$22)/$C$21)-1)),0)) -> 160.58265 | G39: =IF(A39<=$C$22,($C$5-$C$8)*(F39/$C$12)^(1/$C$11)+$C$8, ($C$29-$C$8)*(F39/$C$30)^(1/$C$11)+$C$8) -> 50.016766 | H39: =IF($C$15=0,A39-$C$6/2, A39-$C$6*EXP(-A39/$C$15)/2) -> -8015.0225 | I39: =IF($C$15=0,A39+$C$6/2, A39+$C$6*EXP(-A39/$C$15)/2) -> 2015.0225
A40: =A41-$C$4 -> -2000 | E40: =IF(A40<=$C$22,$C$18*EXP(-A40/$C$20),$C$19*EXP(-(A40-$C$22)/$C$21)) -> 38055.946 | F40: =IF(A40<=$C$22,IF($C$12*(1-$C$26*(EXP(A40/$C$20)-1))>0,$C$12*(1-$C$26*(EXP(A40/$C$20)-1)),0),IF($C$30*(1-$C$28*(EXP((A40-$C$22)/$C$21)-1))>0,$C$30*(1-$C$28*(EXP((A40-$C$22)/$C$21)-1)),0)) -> 160.47409 | G40: =IF(A40<=$C$22,($C$5-$C$8)*(F40/$C$12)^(1/$C$11)+$C$8, ($C$29-$C$8)*(F40/$C$30)^(1/$C$11)+$C$8) -> 49.920216 | H40: =IF($C$15=0,A40-$C$6/2, A40-$C$6*EXP(-A40/$C$15)/2) -> -7010.01 | I40: =IF($C$15=0,A40+$C$6/2, A40+$C$6*EXP(-A40/$C$15)/2) -> 3010.01
A41: =A42-$C$4 -> -1000 | E41: =IF(A41<=$C$22,$C$18*EXP(-A41/$C$20),$C$19*EXP(-(A41-$C$22)/$C$21)) -> 23082.098 | F41: =IF(A41<=$C$22,IF($C$12*(1-$C$26*(EXP(A41/$C$20)-1))>0,$C$12*(1-$C$26*(EXP(A41/$C$20)-1)),0),IF($C$30*(1-$C$28*(EXP((A41-$C$22)/$C$21)-1))>0,$C$30*(1-$C$28*(EXP((A41-$C$22)/$C$21)-1)),0)) -> 160.2951 | G41: =IF(A41<=$C$22,($C$5-$C$8)*(F41/$C$12)^(1/$C$11)+$C$8, ($C$29-$C$8)*(F41/$C$30)^(1/$C$11)+$C$8) -> 49.761296 | H41: =IF($C$15=0,A41-$C$6/2, A41-$C$6*EXP(-A41/$C$15)/2) -> -6005.0025 | I41: =IF($C$15=0,A41+$C$6/2, A41+$C$6*EXP(-A41/$C$15)/2) -> 4005.0025
A42: 0 | E42: =IF(A42<=$C$22,$C$18*EXP(-A42/$C$20),$C$19*EXP(-(A42-$C$22)/$C$21)) -> 14000 | F42: =IF(A42<=$C$22,IF($C$12*(1-$C$26*(EXP(A42/$C$20)-1))>0,$C$12*(1-$C$26*(EXP(A42/$C$20)-1)),0),IF($C$30*(1-$C$28*(EXP((A42-$C$22)/$C$21)-1))>0,$C$30*(1-$C$28*(EXP((A42-$C$22)/$C$21)-1)),0)) -> 160 | G42: =IF(A42<=$C$22,($C$5-$C$8)*(F42/$C$12)^(1/$C$11)+$C$8, ($C$29-$C$8)*(F42/$C$30)^(1/$C$11)+$C$8) -> 49.5 | H42: =IF($C$15=0,A42-$C$6/2, A42-$C$6*EXP(-A42/$C$15)/2) -> -5000 | I42: =IF($C$15=0,A42+$C$6/2, A42+$C$6*EXP(-A42/$C$15)/2) -> 5000
...

Sheet 13-7-2010
A1: STEADY SALT INTRUSION MODEL (TA)
A2: Edisto 13-7-2010
A3: Input | F3: Measurements
A4: Step length | B4: dx | C4: 1000 | D4: m | F4: x (m) | G4: HWS | H4: x (m) | I4: LWS
A5: Sea salinity | B5: S0 | C5: 45 | D5: mS/cm | F5: 0 | G5: 46.07 | H5: 0 | I5: 44.1675
A6: Tidal Excursion | B6: E0 | C6: 10000 | D6: m | F6: 0 | G6: 45.73 | H6: =1000*2.7358848 -> 2735.8848 | I6: 43.514
A7: Tidal Range | B7: H | C7: 2.3 | D7: m | F7: =2.7358848*1000 -> 2735.8848 | G7: 45.82875 | H7: =1000*5.4717696 -> 5471.7696 | I7: 41.8775
A8: Fresh water salinity | B8: Cf | C8: 0 | D8: kg/m3 | F8: =1000*5.4717696 -> 5471.7696 | G8: 45.33 | H8: =1000*8.2076544 -> 8207.6544 | I8: 38.09
F9: =1000*8.2076544 -> 8207.6544 | G9: 44.44 | H9: =1000*10.9435392 -> 10943.539 | I9: 32.308889
A10: Calibration parameters | F10: =1000*10.9435392 -> 10943.539 | G10: 42.875 | H10: =1000*13.679424 -> 13679.424 | I10: 26.992857
A11: Van Den Burgh | B11: K | C11: 0.35 | F11: =1000*13.679424 -> 13679.424 | G11: 41.69 | H11: =1000*16.4153088 -> 16415.309 | I11: 20.775
A12: Dispersion at mouth | B12: Do | C12: 165 | D12: m2/s | F12: =1000*16.4153088 -> 16415.309 | G12: 38.6125 | H12: =1000*21.8870784 -> 21887.078 | I12: 14.609
A13: Discharge | B13: Q | C13: 14 | D13: m3/s | F13: =1000*19.1511936 -> 19151.194 | G13: 37.657143 | H13: =1000*24.6229632 -> 24622.963 | I13: 9.428
A14: Alpha 0 | B14: α0 | C14: =C12/C13 -> 11.785714 | D14: 1/m | F14: =1000*21.8870784 -> 21887.078 | G14: 29.889 | H14: =1000*27.358848 -> 27358.848 | I14: 4.7475
A15: Convergence Excursion | B15: e | C15: 100000 | D15: m | F15: =1000*24.6229632 -> 24622.963 | G15: 27.47 | H15: =1000*30.0947328 -> 30094.733 | I15: 1.5128571
F16: =1000*27.358848 -> 27358.848 | G16: 19.4975 | H16: =1000*32.8306176 -> 32830.618 | I16: 0.56333333
A17: Geometry | F17: =1000*30.0947328 -> 30094.733 | G17: 15.121222 | H17: =1000*35.5665024 -> 35566.502 | I17: 0.2795
A18: Area at mouth | B18: A0 | C18: =Overview!D18 -> 14000 | D18: m2 | F18: =1000*32.8306176 -> 32830.618 | G18: 7.495 | H18: =1000*38.3023872 -> 38302.387 | I18: 0.102
A19: Area at x1 | B19: A1 | C19: =Overview!D19 -> 5150.3122 | D19: m2 | F19: =1000*35.5665024 -> 35566.502 | G19: 4.038625 | H19: =1000*41.038272 -> 41038.272 | I19: 0.08825
A20: Convergence length | B20: a1 | C20: =Overview!D20 -> 2000 | D20: m | F20: =1000*38.3023872 -> 38302.387 | G20: 1.3576667
A21: Convergence length 2 | B21: a2 | C21: =Overview!D21 -> 15000 | D21: m | F21: =1000*41.038272 -> 41038.272 | G21: 0.41187143
A22: Inflection point | B22: x1 | C22: =Overview!D22 -> 2000 | D22: m | F22: =1000*43.7741568 -> 43774.157 | G22: 0.1257
A23: Depth | B23: h0 | C23: =Overview!D23 -> 4 | D23: m
A25: Calculations | F25: REMARKS
A26: Beta | B26: β | C26: =$C$11*$C$20/C$14/$C$18 -> 0.0042424242 | F26: unit S is mS/cm
A27: Alpha 1 | B27: α1 | C27: =C30/C13 -> 11.6998 | D27: 1/m
A28: Beta1 | B28: β1 | C28: =C11*C21/C27/C19 -> 0.087125905
A29: Salinity at x1 | B29: S1 | C29: =($C$5-$C$8)*(C30/C12)^(1/$C$11)+$C$8 -> 44.069086 | D29: kg/m3
A30: Dispersion at x1 | B30: D1 | C30: =C12*(1-C26*(EXP(C22/C20)-1)) -> 163.7972
A32: x: | B32: Shifted x | E32: A | F32: D | G32: S | H32: xLWS | I32: xHWS
A33: =A34-$C$4-9000 -> -18000 | E33: =IF(A33<=$C$22,$C$18*EXP(-A33/$C$20),$C$19*EXP(-(A33-$C$22)/$C$21)) -> 1.1344317e+08 | F33: =IF(A33<=$C$22,IF($C$12*(1-$C$26*(EXP(A33/$C$20)-1))>0,$C$12*(1-$C$26*(EXP(A33/$C$20)-1)),0),IF($C$30*(1-$C$28*(EXP((A33-$C$22)/$C$21)-1))>0,$C$30*(1-$C$28*(EXP((A33-$C$22)/$C$21)-1)),0)) -> 165.69991 | G33: =IF(A33<=$C$22,($C$5-$C$8)*(F33/$C$12)^(1/$C$11)+$C$8, ($C$29-$C$8)*(F33/$C$30)^(1/$C$11)+$C$8) -> 45.547538 | H33: =IF($C$15=0,A33-$C$6/2, A33-$C$6*EXP(-A33/$C$15)/2) -> -23986.087 | I33: =IF($C$15=0,A33+$C$6/2, A33+$C$6*EXP(-A33/$C$15)/2) -> -12013.913
A34: =A35-$C$4 -> -8000 | E34: =IF(A34<=$C$22,$C$18*EXP(-A34/$C$20),$C$19*EXP(-(A34-$C$22)/$C$21)) -> 764374.1 | F34: =IF(A34<=$C$22,IF($C$12*(1-$C$26*(EXP(A34/$C$20)-1))>0,$C$12*(1-$C$26*(EXP(A34/$C$20)-1)),0),IF($C$30*(1-$C$28*(EXP((A34-$C$22)/$C$21)-1))>0,$C$30*(1-$C$28*(EXP((A34-$C$22)/$C$21)-1)),0)) -> 165.68718 | G34: =IF(A34<=$C$22,($C$5-$C$8)*(F34/$C$12)^(1/$C$11)+$C$8, ($C$29-$C$8)*(F34/$C$30)^(1/$C$11)+$C$8) -> 45.537537 | H34: =IF($C$15=0,A34-$C$6/2, A34-$C$6*EXP(-A34/$C$15)/2) -> -13416.435 | I34: =IF($C$15=0,A34+$C$6/2, A34+$C$6*EXP(-A34/$C$15)/2) -> -2583.5647
A35: =A36-$C$4 -> -7000 | E35: =IF(A35<=$C$22,$C$18*EXP(-A35/$C$20),$C$19*EXP(-(A35-$C$22)/$C$21)) -> 463616.33 | F35: =IF(A35<=$C$22,IF($C$12*(1-$C$26*(EXP(A35/$C$20)-1))>0,$C$12*(1-$C$26*(EXP(A35/$C$20)-1)),0),IF($C$30*(1-$C$28*(EXP((A35-$C$22)/$C$21)-1))>0,$C$30*(1-$C$28*(EXP((A35-$C$22)/$C$21)-1)),0)) -> 165.67886 | G35: =IF(A35<=$C$22,($C$5-$C$8)*(F35/$C$12)^(1/$C$11)+$C$8, ($C$29-$C$8)*(F35/$C$30)^(1/$C$11)+$C$8) -> 45.531007 | H35: =IF($C$15=0,A35-$C$6/2, A35-$C$6*EXP(-A35/$C$15)/2) -> -12362.541 | I35: =IF($C$15=0,A35+$C$6/2, A35+$C$6*EXP(-A35/$C$15)/2) -> -1637.4591
A36: =A37-$C$4 -> -6000 | E36: =IF(A36<=$C$22,$C$18*EXP(-A36/$C$20),$C$19*EXP(-(A36-$C$22)/$C$21)) -> 281197.52 | F36: =IF(A36<=$C$22,IF($C$12*(1-$C$26*(EXP(A36/$C$20)-1))>0,$C$12*(1-$C$26*(EXP(A36/$C$20)-1)),0),IF($C$30*(1-$C$28*(EXP((A36-$C$22)/$C$21)-1))>0,$C$30*(1-$C$28*(EXP((A36-$C$22)/$C$21)-1)),0)) -> 165.66515 | G36: =IF(A36<=$C$22,($C$5-$C$8)*(F36/$C$12)^(1/$C$11)+$C$8, ($C$29-$C$8)*(F36/$C$30)^(1/$C$11)+$C$8) -> 45.52024 | H36: =IF($C$15=0,A36-$C$6/2, A36-$C$6*EXP(-A36/$C$15)/2) -> -11309.183 | I36: =IF($C$15=0,A36+$C$6/2, A36+$C$6*EXP(-A36/$C$15)/2) -> -690.81727
A37: =A38-$C$4 -> -5000 | E37: =IF(A37<=$C$22,$C$18*EXP(-A37/$C$20),$C$19*EXP(-(A37-$C$22)/$C$21)) -> 170554.92 | F37: =IF(A37<=$C$22,IF($C$12*(1-$C$26*(EXP(A37/$C$20)-1))>0,$C$12*(1-$C$26*(EXP(A37/$C$20)-1)),0),IF($C$30*(1-$C$28*(EXP((A37-$C$22)/$C$21)-1))>0,$C$30*(1-$C$28*(EXP((A37-$C$22)/$C$21)-1)),0)) -> 165.64254 | G37: =IF(A37<=$C$22,($C$5-$C$8)*(F37/$C$12)^(1/$C$11)+$C$8, ($C$29-$C$8)*(F37/$C$30)^(1/$C$11)+$C$8) -> 45.502493 | H37: =IF($C$15=0,A37-$C$6/2, A37-$C$6*EXP(-A37/$C$15)/2) -> -10256.355 | I37: =IF($C$15=0,A37+$C$6/2, A37+$C$6*EXP(-A37/$C$15)/2) -> 256.35548
A38: =A39-$C$4 -> -4000 | E38: =IF(A38<=$C$22,$C$18*EXP(-A38/$C$20),$C$19*EXP(-(A38-$C$22)/$C$21)) -> 103446.79 | F38: =IF(A38<=$C$22,IF($C$12*(1-$C$26*(EXP(A38/$C$20)-1))>0,$C$12*(1-$C$26*(EXP(A38/$C$20)-1)),0),IF($C$30*(1-$C$28*(EXP((A38-$C$22)/$C$21)-1))>0,$C$30*(1-$C$28*(EXP((A38-$C$22)/$C$21)-1)),0)) -> 165.60527 | G38: =IF(A38<=$C$22,($C$5-$C$8)*(F38/$C$12)^(1/$C$11)+$C$8, ($C$29-$C$8)*(F38/$C$30)^(1/$C$11)+$C$8) -> 45.473243 | H38: =IF($C$15=0,A38-$C$6/2, A38-$C$6*EXP(-A38/$C$15)/2) -> -9204.0539 | I38: =IF($C$15=0,A38+$C$6/2, A38+$C$6*EXP(-A38/$C$15)/2) -> 1204.0539
A39: =A40-$C$4 -> -3000 | E39: =IF(A39<=$C$22,$C$18*EXP(-A39/$C$20),$C$19*EXP(-(A39-$C$22)/$C$21)) -> 62743.647 | F39: =IF(A39<=$C$22,IF($C$12*(1-$C$26*(EXP(A39/$C$20)-1))>0,$C$12*(1-$C$26*(EXP(A39/$C$20)-1)),0),IF($C$30*(1-$C$28*(EXP((A39-$C$22)/$C$21)-1))>0,$C$30*(1-$C$28*(EXP((A39-$C$22)/$C$21)-1)),0)) -> 165.54381 | G39: =IF(A39<=$C$22,($C$5-$C$8)*(F39/$C$12)^(1/$C$11)+$C$8, ($C$29-$C$8)*(F39/$C$30)^(1/$C$11)+$C$8) -> 45.425045 | H39: =IF($C$15=0,A39-$C$6/2, A39-$C$6*EXP(-A39/$C$15)/2) -> -8152.2727 | I39: =IF($C$15=0,A39+$C$6/2, A39+$C$6*EXP(-A39/$C$15)/2) -> 2152.2727
A40: =A41-$C$4 -> -2000 | E40: =IF(A40<=$C$22,$C$18*EXP(-A40/$C$20),$C$19*EXP(-(A40-$C$22)/$C$21)) -> 38055.946 | F40: =IF(A40<=$C$22,IF($C$12*(1-$C$26*(EXP(A40/$C$20)-1))>0,$C$12*(1-$C$26*(EXP(A40/$C$20)-1)),0),IF($C$30*(1-$C$28*(EXP((A40-$C$22)/$C$21)-1))>0,$C$30*(1-$C$28*(EXP((A40-$C$22)/$C$21)-1)),0)) -> 165.44248 | G40: =IF(A40<=$C$22,($C$5-$C$8)*(F40/$C$12)^(1/$C$11)+$C$8, ($C$29-$C$8)*(F40/$C$30)^(1/$C$11)+$C$8) -> 45.345652 | H40: =IF($C$15=0,A40-$C$6/2, A40-$C$6*EXP(-A40/$C$15)/2) -> -7101.0067 | I40: =IF($C$15=0,A40+$C$6/2, A40+$C$6*EXP(-A40/$C$15)/2) -> 3101.0067
A41: =A42-$C$4 -> -1000 | E41: =IF(A41<=$C$22,$C$18*EXP(-A41/$C$20),$C$19*EXP(-(A41-$C$22)/$C$21)) -> 23082.098 | F41: =IF(A41<=$C$22,IF($C$12*(1-$C$26*(EXP(A41/$C$20)-1))>0,$C$12*(1-$C$26*(EXP(A41/$C$20)-1)),0),IF($C$30*(1-$C$28*(EXP((A41-$C$22)/$C$21)-1))>0,$C$30*(1-$C$28*(EXP((A41-$C$22)/$C$21)-1)),0)) -> 165.27543 | G41: =IF(A41<=$C$22,($C$5-$C$8)*(F41/$C$12)^(1/$C$11)+$C$8, ($C$29-$C$8)*(F41/$C$30)^(1/$C$11)+$C$8) -> 45.214952 | H41: =IF($C$15=0,A41-$C$6/2, A41-$C$6*EXP(-A41/$C$15)/2) -> -6050.2508 | I41: =IF($C$15=0,A41+$C$6/2, A41+$C$6*EXP(-A41/$C$15)/2) -> 4050.2508
A42: 0 | E42: =IF(A42<=$C$22,$C$18*EXP(-A42/$C$20),$C$19*EXP(-(A42-$C$22)/$C$21)) -> 14000 | F42: =IF(A42<=$C$22,IF($C$12*(1-$C$26*(EXP(A42/$C$20)-1))>0,$C$12*(1-$C$26*(EXP(A42/$C$20)-1)),0),IF($C$30*(1-$C$28*(EXP((A42-$C$22)/$C$21)-1))>0,$C$30*(1-$C$28*(EXP((A42-$C$22)/$C$21)-1)),0)) -> 165 | G42: =IF(A42<=$C$22,($C$5-$C$8)*(F42/$C$12)^(1/$C$11)+$C$8, ($C$29-$C$8)*(F42/$C$30)^(1/$C$11)+$C$8) -> 45 | H42: =IF($C$15=0,A42-$C$6/2, A42-$C$6*EXP(-A42/$C$15)/2) -> -5000 | I42: =IF($C$15=0,A42+$C$6/2, A42+$C$6*EXP(-A42/$C$15)/2) -> 5000
...

Sheet 14-7-2010
A1: STEADY SALT INTRUSION MODEL (TA)
A2: Edisto 14-7-2010
A3: Input | F3: Measurements
A4: Step length | B4: dx | C4: 1000 | D4: m | F4: x (m) | G4: HWS | H4: x (m) | I4: LWS
A5: Sea salinity | B5: S0 | C5: 47 | D5: mS/cm | F5: 0 | G5: 45.965 | H5: 0 | I5: 44.192222
A6: Tidal Excursion | B6: E0 | C6: 10000 | D6: m | F6: =1000*2.7358848 -> 2735.8848 | G6: 45.96 | H6: =1000*2.7358848 -> 2735.8848 | I6: 43.596667
A7: Tidal Range | B7: H | C7: 2.3 | D7: m | F7: =1000*5.4717696 -> 5471.7696 | G7: 45.436 | H7: =1000*5.4717696 -> 5471.7696 | I7: 41.052
A8: Fresh water salinity | B8: Cf | C8: 0 | D8: kg/m3 | F8: =1000*8.2076544 -> 8207.6544 | G8: 44.454286 | H8: =1000*8.2076544 -> 8207.6544 | I8: 38.189
F9: =1000*10.9435392 -> 10943.539 | G9: 43.416667 | H9: =1000*10.9435392 -> 10943.539 | I9: 31.986
A10: Calibration parameters | F10: =1000*13.679424 -> 13679.424 | G10: 41.712222 | H10: =1000*13.679424 -> 13679.424 | I10: 25.76
A11: Van Den Burgh | B11: K | C11: 0.35 | F11: =1000*16.4153088 -> 16415.309 | G11: 38.335 | H11: =1000*16.4153088 -> 16415.309 | I11: 21.71
A12: Dispersion at mouth | B12: Do | C12: 275 | D12: m2/s | F12: =1000*19.1511936 -> 19151.194 | G12: 36.518571 | H12: =1000*19.1511936 -> 19151.194 | I12: 16.37
A13: Discharge | B13: Q | C13: 25 | D13: m3/s | F13: =1000*21.8870784 -> 21887.078 | G13: 29.539 | H13: =1000*21.8870784 -> 21887.078 | I13: 13.464
A14: Alpha 0 | B14: α0 | C14: =C12/C13 -> 11 | D14: 1/m | F14: =1000*24.6229632 -> 24622.963 | G14: 24.455 | H14: =1000*24.6229632 -> 24622.963 | I14: 7.65375
A15: Convergence Excursion | B15: e | C15: 150000 | D15: m
F16: =1000*27.358848 -> 27358.848 | G16: 21.42875 | H16: =1000*27.358848 -> 27358.848 | I16: 2.3758333
A17: Geometry | F17: =1000*30.0947328 -> 30094.733 | G17: 16.522222 | H17: =1000*30.0947328 -> 30094.733 | I17: 1.1998
A18: Area at mouth | B18: A0 | C18: =Overview!D18 -> 14000 | D18: m2 | F18: =1000*32.8306176 -> 32830.618 | G18: 6.8416667 | H18: =1000*32.8306176 -> 32830.618 | I18: 0.41896667
A19: Area at x1 | B19: A1 | C19: =Overview!D19 -> 5150.3122 | D19: m2 | F19: =1000*35.5665024 -> 35566.502 | G19: 2.9893333 | H19: =1000*35.5665024 -> 35566.502 | I19: 0.14326
A20: Convergence length | B20: a1 | C20: =Overview!D20 -> 2000 | D20: m | F20: =1000*38.3023872 -> 38302.387 | G20: 1.1204 | H20: =1000*38.3023872 -> 38302.387 | I20: 0.310175
A21: Convergence length 2 | B21: a2 | C21: =Overview!D21 -> 15000 | D21: m | F21: =1000*41.038272 -> 41038.272 | G21: 0.346225
A22: Inflection point | B22: x1 | C22: =Overview!D22 -> 2000 | D22: m | F22: =1000*43.7741568 -> 43774.157 | G22: 0.11223333
A23: Depth | B23: h0 | C23: =Overview!D23 -> 4 | D23: m | F23: =1000*46.5100416 -> 46510.042 | G23: 0.0925
A25: Calculations | F25: REMARKS
A26: Beta | B26: β | C26: =$C$11*$C$20/C$14/$C$18 -> 0.0045454545 | F26: unit S is mS/cm
A27: Alpha 1 | B27: α1 | C27: =C30/C13 -> 10.914086 | D27: 1/m
A28: Beta1 | B28: β1 | C28: =C11*C21/C27/C19 -> 0.093398173
A29: Salinity at x1 | B29: S1 | C29: =($C$5-$C$8)*(C30/C12)^(1/$C$11)+$C$8 -> 45.958768 | D29: kg/m3
A30: Dispersion at x1 | B30: D1 | C30: =C12*(1-C26*(EXP(C22/C20)-1)) -> 272.85215
A32: x: | B32: Shifted x | E32: A | F32: D | G32: S | H32: xLWS | I32: xHWS
A33: =A34-$C$4-9000 -> -18000 | E33: =IF(A33<=$C$22,$C$18*EXP(-A33/$C$20),$C$19*EXP(-(A33-$C$22)/$C$21)) -> 1.1344317e+08 | F33: =IF(A33<=$C$22,IF($C$12*(1-$C$26*(EXP(A33/$C$20)-1))>0,$C$12*(1-$C$26*(EXP(A33/$C$20)-1)),0),IF($C$30*(1-$C$28*(EXP((A33-$C$22)/$C$21)-1))>0,$C$30*(1-$C$28*(EXP((A33-$C$22)/$C$21)-1)),0)) -> 276.24985 | G33: =IF(A33<=$C$22,($C$5-$C$8)*(F33/$C$12)^(1/$C$11)+$C$8, ($C$29-$C$8)*(F33/$C$30)^(1/$C$11)+$C$8) -> 47.612893 | H33: =IF($C$15=0,A33-$C$6/2, A33-$C$6*EXP(-A33/$C$15)/2) -> -23637.484 | I33: =IF($C$15=0,A33+$C$6/2, A33+$C$6*EXP(-A33/$C$15)/2) -> -12362.516
A34: =A35-$C$4 -> -8000 | E34: =IF(A34<=$C$22,$C$18*EXP(-A34/$C$20),$C$19*EXP(-(A34-$C$22)/$C$21)) -> 764374.1 | F34: =IF(A34<=$C$22,IF($C$12*(1-$C$26*(EXP(A34/$C$20)-1))>0,$C$12*(1-$C$26*(EXP(A34/$C$20)-1)),0),IF($C$30*(1-$C$28*(EXP((A34-$C$22)/$C$21)-1))>0,$C$30*(1-$C$28*(EXP((A34-$C$22)/$C$21)-1)),0)) -> 276.22711 | G34: =IF(A34<=$C$22,($C$5-$C$8)*(F34/$C$12)^(1/$C$11)+$C$8, ($C$29-$C$8)*(F34/$C$30)^(1/$C$11)+$C$8) -> 47.601696 | H34: =IF($C$15=0,A34-$C$6/2, A34-$C$6*EXP(-A34/$C$15)/2) -> -13273.906 | I34: =IF($C$15=0,A34+$C$6/2, A34+$C$6*EXP(-A34/$C$15)/2) -> -2726.0941
A35: =A36-$C$4 -> -7000 | E35: =IF(A35<=$C$22,$C$18*EXP(-A35/$C$20),$C$19*EXP(-(A35-$C$22)/$C$21)) -> 463616.33 | F35: =IF(A35<=$C$22,IF($C$12*(1-$C$26*(EXP(A35/$C$20)-1))>0,$C$12*(1-$C$26*(EXP(A35/$C$20)-1)),0),IF($C$30*(1-$C$28*(EXP((A35-$C$22)/$C$21)-1))>0,$C$30*(1-$C$28*(EXP((A35-$C$22)/$C$21)-1)),0)) -> 276.21225 | G35: =IF(A35<=$C$22,($C$5-$C$8)*(F35/$C$12)^(1/$C$11)+$C$8, ($C$29-$C$8)*(F35/$C$30)^(1/$C$11)+$C$8) -> 47.594384 | H35: =IF($C$15=0,A35-$C$6/2, A35-$C$6*EXP(-A35/$C$15)/2) -> -12238.863 | I35: =IF($C$15=0,A35+$C$6/2, A35+$C$6*EXP(-A35/$C$15)/2) -> -1761.1365
A36: =A37-$C$4 -> -6000 | E36: =IF(A36<=$C$22,$C$18*EXP(-A36/$C$20),$C$19*EXP(-(A36-$C$22)/$C$21)) -> 281197.52 | F36: =IF(A36<=$C$22,IF($C$12*(1-$C$26*(EXP(A36/$C$20)-1))>0,$C$12*(1-$C$26*(EXP(A36/$C$20)-1)),0),IF($C$30*(1-$C$28*(EXP((A36-$C$22)/$C$21)-1))>0,$C$30*(1-$C$28*(EXP((A36-$C$22)/$C$21)-1)),0)) -> 276.18777 | G36: =IF(A36<=$C$22,($C$5-$C$8)*(F36/$C$12)^(1/$C$11)+$C$8, ($C$29-$C$8)*(F36/$C$30)^(1/$C$11)+$C$8) -> 47.582329 | H36: =IF($C$15=0,A36-$C$6/2, A36-$C$6*EXP(-A36/$C$15)/2) -> -11204.054 | I36: =IF($C$15=0,A36+$C$6/2, A36+$C$6*EXP(-A36/$C$15)/2) -> -795.94613
A37: =A38-$C$4 -> -5000 | E37: =IF(A37<=$C$22,$C$18*EXP(-A37/$C$20),$C$19*EXP(-(A37-$C$22)/$C$21)) -> 170554.92 | F37: =IF(A37<=$C$22,IF($C$12*(1-$C$26*(EXP(A37/$C$20)-1))>0,$C$12*(1-$C$26*(EXP(A37/$C$20)-1)),0),IF($C$30*(1-$C$28*(EXP((A37-$C$22)/$C$21)-1))>0,$C$30*(1-$C$28*(EXP((A37-$C$22)/$C$21)-1)),0)) -> 276.14739 | G37: =IF(A37<=$C$22,($C$5-$C$8)*(F37/$C$12)^(1/$C$11)+$C$8, ($C$29-$C$8)*(F37/$C$30)^(1/$C$11)+$C$8) -> 47.562459 | H37: =IF($C$15=0,A37-$C$6/2, A37-$C$6*EXP(-A37/$C$15)/2) -> -10169.476 | I37: =IF($C$15=0,A37+$C$6/2, A37+$C$6*EXP(-A37/$C$15)/2) -> 169.47557
A38: =A39-$C$4 -> -4000 | E38: =IF(A38<=$C$22,$C$18*EXP(-A38/$C$20),$C$19*EXP(-(A38-$C$22)/$C$21)) -> 103446.79 | F38: =IF(A38<=$C$22,IF($C$12*(1-$C$26*(EXP(A38/$C$20)-1))>0,$C$12*(1-$C$26*(EXP(A38/$C$20)-1)),0),IF($C$30*(1-$C$28*(EXP((A38-$C$22)/$C$21)-1))>0,$C$30*(1-$C$28*(EXP((A38-$C$22)/$C$21)-1)),0)) -> 276.08083 | G38: =IF(A38<=$C$22,($C$5-$C$8)*(F38/$C$12)^(1/$C$11)+$C$8, ($C$29-$C$8)*(F38/$C$30)^(1/$C$11)+$C$8) -> 47.529711 | H38: =IF($C$15=0,A38-$C$6/2, A38-$C$6*EXP(-A38/$C$15)/2) -> -9135.127 | I38: =IF($C$15=0,A38+$C$6/2, A38+$C$6*EXP(-A38/$C$15)/2) -> 1135.127
A39: =A40-$C$4 -> -3000 | E39: =IF(A39<=$C$22,$C$18*EXP(-A39/$C$20),$C$19*EXP(-(A39-$C$22)/$C$21)) -> 62743.647 | F39: =IF(A39<=$C$22,IF($C$12*(1-$C$26*(EXP(A39/$C$20)-1))>0,$C$12*(1-$C$26*(EXP(A39/$C$20)-1)),0),IF($C$30*(1-$C$28*(EXP((A39-$C$22)/$C$21)-1))>0,$C$30*(1-$C$28*(EXP((A39-$C$22)/$C$21)-1)),0)) -> 275.97109 | G39: =IF(A39<=$C$22,($C$5-$C$8)*(F39/$C$12)^(1/$C$11)+$C$8, ($C$29-$C$8)*(F39/$C$30)^(1/$C$11)+$C$8) -> 47.47575 | H39: =IF($C$15=0,A39-$C$6/2, A39-$C$6*EXP(-A39/$C$15)/2) -> -8101.0067 | I39: =IF($C$15=0,A39+$C$6/2, A39+$C$6*EXP(-A39/$C$15)/2) -> 2101.0067
A40: =A41-$C$4 -> -2000 | E40: =IF(A40<=$C$22,$C$18*EXP(-A40/$C$20),$C$19*EXP(-(A40-$C$22)/$C$21)) -> 38055.946 | F40: =IF(A40<=$C$22,IF($C$12*(1-$C$26*(EXP(A40/$C$20)-1))>0,$C$12*(1-$C$26*(EXP(A40/$C$20)-1)),0),IF($C$30*(1-$C$28*(EXP((A40-$C$22)/$C$21)-1))>0,$C$30*(1-$C$28*(EXP((A40-$C$22)/$C$21)-1)),0)) -> 275.79015 | G40: =IF(A40<=$C$22,($C$5-$C$8)*(F40/$C$12)^(1/$C$11)+$C$8, ($C$29-$C$8)*(F40/$C$30)^(1/$C$11)+$C$8) -> 47.38687 | H40: =IF($C$15=0,A40-$C$6/2, A40-$C$6*EXP(-A40/$C$15)/2) -> -7067.1131 | I40: =IF($C$15=0,A40+$C$6/2, A40+$C$6*EXP(-A40/$C$15)/2) -> 3067.1131
A41: =A42-$C$4 -> -1000 | E41: =IF(A41<=$C$22,$C$18*EXP(-A41/$C$20),$C$19*EXP(-(A41-$C$22)/$C$21)) -> 23082.098 | F41: =IF(A41<=$C$22,IF($C$12*(1-$C$26*(EXP(A41/$C$20)-1))>0,$C$12*(1-$C$26*(EXP(A41/$C$20)-1)),0),IF($C$30*(1-$C$28*(EXP((A41-$C$22)/$C$21)-1))>0,$C$30*(1-$C$28*(EXP((A41-$C$22)/$C$21)-1)),0)) -> 275.49184 | G41: =IF(A41<=$C$22,($C$5-$C$8)*(F41/$C$12)^(1/$C$11)+$C$8, ($C$29-$C$8)*(F41/$C$30)^(1/$C$11)+$C$8) -> 47.240569 | H41: =IF($C$15=0,A41-$C$6/2, A41-$C$6*EXP(-A41/$C$15)/2) -> -6033.4447 | I41: =IF($C$15=0,A41+$C$6/2, A41+$C$6*EXP(-A41/$C$15)/2) -> 4033.4447
A42: 0 | E42: =IF(A42<=$C$22,$C$18*EXP(-A42/$C$20),$C$19*EXP(-(A42-$C$22)/$C$21)) -> 14000 | F42: =IF(A42<=$C$22,IF($C$12*(1-$C$26*(EXP(A42/$C$20)-1))>0,$C$12*(1-$C$26*(EXP(A42/$C$20)-1)),0),IF($C$30*(1-$C$28*(EXP((A42-$C$22)/$C$21)-1))>0,$C$30*(1-$C$28*(EXP((A42-$C$22)/$C$21)-1)),0)) -> 275 | G42: =IF(A42<=$C$22,($C$5-$C$8)*(F42/$C$12)^(1/$C$11)+$C$8, ($C$29-$C$8)*(F42/$C$30)^(1/$C$11)+$C$8) -> 47 | H42: =IF($C$15=0,A42-$C$6/2, A42-$C$6*EXP(-A42/$C$15)/2) -> -5000 | I42: =IF($C$15=0,A42+$C$6/2, A42+$C$6*EXP(-A42/$C$15)/2) -> 5000
...

Sheet 15-7-2010
A1: STEADY SALT INTRUSION MODEL (TA)
A2: Edisto 15-7-2010
A3: Input | F3: Measurements
A4: Step length | B4: dx | C4: 1000 | D4: m | F4: x (m) | G4: HWS | H4: x (m) | I4: LWS
A5: Sea salinity | B5: S0 | C5: 47 | D5: mS/cm | F5: 0 | G5: 45.753 | H5: 0 | I5: 44.232222
A6: Tidal Excursion | B6: E0 | C6: 10000 | D6: m | F6: =1000*2.7358848 -> 2735.8848 | G6: 45.81175 | H6: =1000*2.7358848 -> 2735.8848 | I6: 43.46375
A7: Tidal Range | B7: H | C7: 2.3 | D7: m | F7: =1000*5.4717696 -> 5471.7696 | G7: 45.60125 | H7: =1000*5.4717696 -> 5471.7696 | I7: 41.477
A8: Fresh water salinity | B8: Cf | C8: 0 | D8: kg/m3 | F8: =1000*8.2076544 -> 8207.6544 | G8: 44.33375 | H8: =1000*8.2076544 -> 8207.6544 | I8: 35.469
F9: =1000*10.9435392 -> 10943.539 | G9: 43.1775 | H9: =1000*10.9435392 -> 10943.539 | I9: 31.103
A10: Calibration parameters | F10: =1000*13.679424 -> 13679.424 | G10: 41.537286 | H10: =1000*13.679424 -> 13679.424 | I10: 24.993333
A11: Van Den Burgh | B11: K | C11: 0.35 | F11: =1000*16.4153088 -> 16415.309 | G11: 38.184286 | H11: =1000*16.4153088 -> 16415.309 | I11: 19.98
A12: Dispersion at mouth | B12: Do | C12: 255 | D12: m2/s | F12: =1000*19.1511936 -> 19151.194 | G12: 34.355 | H12: =1000*19.1511936 -> 19151.194 | I12: 15.016
A13: Discharge | B13: Q | C13: 25 | D13: m3/s | F13: =1000*21.8870784 -> 21887.078 | G13: 30.931 | H13: =1000*21.8870784 -> 21887.078 | I13: 8.346
A14: Alpha 0 | B14: α0 | C14: =C12/C13 -> 10.2 | D14: 1/m | F14: =1000*24.6229632 -> 24622.963 | G14: 24.84 | H14: =1000*24.6229632 -> 24622.963 | I14: 4.019875
A15: Convergence Excursion | B15: e | C15: 1000000 | D15: m
F16: =1000*27.358848 -> 27358.848 | G16: 19.64 | H16: =1000*27.358848 -> 27358.848 | I16: 1.8808333
A17: Geometry | F17: =1000*30.0947328 -> 30094.733 | G17: 13.88 | H17: =1000*30.0947328 -> 30094.733 | I17: 0.80966667
A18: Area at mouth | B18: A0 | C18: =Overview!D18 -> 14000 | D18: m2 | F18: =1000*32.8306176 -> 32830.618 | G18: 7.1033333 | H18: =1000*32.8306176 -> 32830.618 | I18: 0.22153333
A19: Area at x1 | B19: A1 | C19: =Overview!D19 -> 5150.3122 | D19: m2 | F19: =1000*35.5665024 -> 35566.502 | G19: 2.5631429 | H19: =1000*35.5665024 -> 35566.502 | I19: 0.1102
A20: Convergence length | B20: a1 | C20: =Overview!D20 -> 2000 | D20: m | F20: =1000*38.3023872 -> 38302.387 | G20: 1.0396667
A21: Convergence length 2 | B21: a2 | C21: =Overview!D21 -> 15000 | D21: m | F21: =1000*41.038272 -> 41038.272 | G21: 0.3391
A22: Inflection point | B22: x1 | C22: =Overview!D22 -> 2000 | D22: m | F22: =1000*43.7741568 -> 43774.157 | G22: 0.11213333
A23: Depth | B23: h0 | C23: =Overview!D23 -> 4 | D23: m | F23: =1000*46.5100416 -> 46510.042 | G23: 0.0937
A25: Calculations | F25: REMARKS
A26: Beta | B26: β | C26: =$C$11*$C$20/C$14/$C$18 -> 0.0049019608 | F26: unit S is mS/cm
A27: Alpha 1 | B27: α1 | C27: =C30/C13 -> 10.114086 | D27: 1/m
A28: Beta1 | B28: β1 | C28: =C11*C21/C27/C19 -> 0.10078575
A29: Salinity at x1 | B29: S1 | C29: =($C$5-$C$8)*(C30/C12)^(1/$C$11)+$C$8 -> 45.877743 | D29: kg/m3
A30: Dispersion at x1 | B30: D1 | C30: =C12*(1-C26*(EXP(C22/C20)-1)) -> 252.85215
A32: x: | B32: Shifted x | E32: A | F32: D | G32: S | H32: xLWS | I32: xHWS
A33: =A34-$C$4-9000 -> -18000 | E33: =IF(A33<=$C$22,$C$18*EXP(-A33/$C$20),$C$19*EXP(-(A33-$C$22)/$C$21)) -> 1.1344317e+08 | F33: =IF(A33<=$C$22,IF($C$12*(1-$C$26*(EXP(A33/$C$20)-1))>0,$C$12*(1-$C$26*(EXP(A33/$C$20)-1)),0),IF($C$30*(1-$C$28*(EXP((A33-$C$22)/$C$21)-1))>0,$C$30*(1-$C$28*(EXP((A33-$C$22)/$C$21)-1)),0)) -> 256.24985 | G33: =IF(A33<=$C$22,($C$5-$C$8)*(F33/$C$12)^(1/$C$11)+$C$8, ($C$29-$C$8)*(F33/$C$30)^(1/$C$11)+$C$8) -> 47.661182 | H33: =IF($C$15=0,A33-$C$6/2, A33-$C$6*EXP(-A33/$C$15)/2) -> -23090.815 | I33: =IF($C$15=0,A33+$C$6/2, A33+$C$6*EXP(-A33/$C$15)/2) -> -12909.185
A34: =A35-$C$4 -> -8000 | E34: =IF(A34<=$C$22,$C$18*EXP(-A34/$C$20),$C$19*EXP(-(A34-$C$22)/$C$21)) -> 764374.1 | F34: =IF(A34<=$C$22,IF($C$12*(1-$C$26*(EXP(A34/$C$20)-1))>0,$C$12*(1-$C$26*(EXP(A34/$C$20)-1)),0),IF($C$30*(1-$C$28*(EXP((A34-$C$22)/$C$21)-1))>0,$C$30*(1-$C$28*(EXP((A34-$C$22)/$C$21)-1)),0)) -> 256.22711 | G34: =IF(A34<=$C$22,($C$5-$C$8)*(F34/$C$12)^(1/$C$11)+$C$8, ($C$29-$C$8)*(F34/$C$30)^(1/$C$11)+$C$8) -> 47.649098 | H34: =IF($C$15=0,A34-$C$6/2, A34-$C$6*EXP(-A34/$C$15)/2) -> -13040.16 | I34: =IF($C$15=0,A34+$C$6/2, A34+$C$6*EXP(-A34/$C$15)/2) -> -2959.8396
A35: =A36-$C$4 -> -7000 | E35: =IF(A35<=$C$22,$C$18*EXP(-A35/$C$20),$C$19*EXP(-(A35-$C$22)/$C$21)) -> 463616.33 | F35: =IF(A35<=$C$22,IF($C$12*(1-$C$26*(EXP(A35/$C$20)-1))>0,$C$12*(1-$C$26*(EXP(A35/$C$20)-1)),0),IF($C$30*(1-$C$28*(EXP((A35-$C$22)/$C$21)-1))>0,$C$30*(1-$C$28*(EXP((A35-$C$22)/$C$21)-1)),0)) -> 256.21225 | G35: =IF(A35<=$C$22,($C$5-$C$8)*(F35/$C$12)^(1/$C$11)+$C$8, ($C$29-$C$8)*(F35/$C$30)^(1/$C$11)+$C$8) -> 47.641207 | H35: =IF($C$15=0,A35-$C$6/2, A35-$C$6*EXP(-A35/$C$15)/2) -> -12035.123 | I35: =IF($C$15=0,A35+$C$6/2, A35+$C$6*EXP(-A35/$C$15)/2) -> -1964.8772
A36: =A37-$C$4 -> -6000 | E36: =IF(A36<=$C$22,$C$18*EXP(-A36/$C$20),$C$19*EXP(-(A36-$C$22)/$C$21)) -> 281197.52 | F36: =IF(A36<=$C$22,IF($C$12*(1-$C$26*(EXP(A36/$C$20)-1))>0,$C$12*(1-$C$26*(EXP(A36/$C$20)-1)),0),IF($C$30*(1-$C$28*(EXP((A36-$C$22)/$C$21)-1))>0,$C$30*(1-$C$28*(EXP((A36-$C$22)/$C$21)-1)),0)) -> 256.18777 | G36: =IF(A36<=$C$22,($C$5-$C$8)*(F36/$C$12)^(1/$C$11)+$C$8, ($C$29-$C$8)*(F36/$C$30)^(1/$C$11)+$C$8) -> 47.628199 | H36: =IF($C$15=0,A36-$C$6/2, A36-$C$6*EXP(-A36/$C$15)/2) -> -11030.09 | I36: =IF($C$15=0,A36+$C$6/2, A36+$C$6*EXP(-A36/$C$15)/2) -> -969.90982
A37: =A38-$C$4 -> -5000 | E37: =IF(A37<=$C$22,$C$18*EXP(-A37/$C$20),$C$19*EXP(-(A37-$C$22)/$C$21)) -> 170554.92 | F37: =IF(A37<=$C$22,IF($C$12*(1-$C$26*(EXP(A37/$C$20)-1))>0,$C$12*(1-$C$26*(EXP(A37/$C$20)-1)),0),IF($C$30*(1-$C$28*(EXP((A37-$C$22)/$C$21)-1))>0,$C$30*(1-$C$28*(EXP((A37-$C$22)/$C$21)-1)),0)) -> 256.14739 | G37: =IF(A37<=$C$22,($C$5-$C$8)*(F37/$C$12)^(1/$C$11)+$C$8, ($C$29-$C$8)*(F37/$C$30)^(1/$C$11)+$C$8) -> 47.606758 | H37: =IF($C$15=0,A37-$C$6/2, A37-$C$6*EXP(-A37/$C$15)/2) -> -10025.063 | I37: =IF($C$15=0,A37+$C$6/2, A37+$C$6*EXP(-A37/$C$15)/2) -> 25.062604
A38: =A39-$C$4 -> -4000 | E38: =IF(A38<=$C$22,$C$18*EXP(-A38/$C$20),$C$19*EXP(-(A38-$C$22)/$C$21)) -> 103446.79 | F38: =IF(A38<=$C$22,IF($C$12*(1-$C$26*(EXP(A38/$C$20)-1))>0,$C$12*(1-$C$26*(EXP(A38/$C$20)-1)),0),IF($C$30*(1-$C$28*(EXP((A38-$C$22)/$C$21)-1))>0,$C$30*(1-$C$28*(EXP((A38-$C$22)/$C$21)-1)),0)) -> 256.08083 | G38: =IF(A38<=$C$22,($C$5-$C$8)*(F38/$C$12)^(1/$C$11)+$C$8, ($C$29-$C$8)*(F38/$C$30)^(1/$C$11)+$C$8) -> 47.57142 | H38: =IF($C$15=0,A38-$C$6/2, A38-$C$6*EXP(-A38/$C$15)/2) -> -9020.0401 | I38: =IF($C$15=0,A38+$C$6/2, A38+$C$6*EXP(-A38/$C$15)/2) -> 1020.0401
A39: =A40-$C$4 -> -3000 | E39: =IF(A39<=$C$22,$C$18*EXP(-A39/$C$20),$C$19*EXP(-(A39-$C$22)/$C$21)) -> 62743.647 | F39: =IF(A39<=$C$22,IF($C$12*(1-$C$26*(EXP(A39/$C$20)-1))>0,$C$12*(1-$C$26*(EXP(A39/$C$20)-1)),0),IF($C$30*(1-$C$28*(EXP((A39-$C$22)/$C$21)-1))>0,$C$30*(1-$C$28*(EXP((A39-$C$22)/$C$21)-1)),0)) -> 255.97109 | G39: =IF(A39<=$C$22,($C$5-$C$8)*(F39/$C$12)^(1/$C$11)+$C$8, ($C$29-$C$8)*(F39/$C$30)^(1/$C$11)+$C$8) -> 47.513195 | H39: =IF($C$15=0,A39-$C$6/2, A39-$C$6*EXP(-A39/$C$15)/2) -> -8015.0225 | I39: =IF($C$15=0,A39+$C$6/2, A39+$C$6*EXP(-A39/$C$15)/2) -> 2015.0225
A40: =A41-$C$4 -> -2000 | E40: =IF(A40<=$C$22,$C$18*EXP(-A40/$C$20),$C$19*EXP(-(A40-$C$22)/$C$21)) -> 38055.946 | F40: =IF(A40<=$C$22,IF($C$12*(1-$C$26*(EXP(A40/$C$20)-1))>0,$C$12*(1-$C$26*(EXP(A40/$C$20)-1)),0),IF($C$30*(1-$C$28*(EXP((A40-$C$22)/$C$21)-1))>0,$C$30*(1-$C$28*(EXP((A40-$C$22)/$C$21)-1)),0)) -> 255.79015 | G40: =IF(A40<=$C$22,($C$5-$C$8)*(F40/$C$12)^(1/$C$11)+$C$8, ($C$29-$C$8)*(F40/$C$30)^(1/$C$11)+$C$8) -> 47.4173 | H40: =IF($C$15=0,A40-$C$6/2, A40-$C$6*EXP(-A40/$C$15)/2) -> -7010.01 | I40: =IF($C$15=0,A40+$C$6/2, A40+$C$6*EXP(-A40/$C$15)/2) -> 3010.01
A41: =A42-$C$4 -> -1000 | E41: =IF(A41<=$C$22,$C$18*EXP(-A41/$C$20),$C$19*EXP(-(A41-$C$22)/$C$21)) -> 23082.098 | F41: =IF(A41<=$C$22,IF($C$12*(1-$C$26*(EXP(A41/$C$20)-1))>0,$C$12*(1-$C$26*(EXP(A41/$C$20)-1)),0),IF($C$30*(1-$C$28*(EXP((A41-$C$22)/$C$21)-1))>0,$C$30*(1-$C$28*(EXP((A41-$C$22)/$C$21)-1)),0)) -> 255.49184 | G41: =IF(A41<=$C$22,($C$5-$C$8)*(F41/$C$12)^(1/$C$11)+$C$8, ($C$29-$C$8)*(F41/$C$30)^(1/$C$11)+$C$8) -> 47.259471 | H41: =IF($C$15=0,A41-$C$6/2, A41-$C$6*EXP(-A41/$C$15)/2) -> -6005.0025 | I41: =IF($C$15=0,A41+$C$6/2, A41+$C$6*EXP(-A41/$C$15)/2) -> 4005.0025
A42: 0 | E42: =IF(A42<=$C$22,$C$18*EXP(-A42/$C$20),$C$19*EXP(-(A42-$C$22)/$C$21)) -> 14000 | F42: =IF(A42<=$C$22,IF($C$12*(1-$C$26*(EXP(A42/$C$20)-1))>0,$C$12*(1-$C$26*(EXP(A42/$C$20)-1)),0),IF($C$30*(1-$C$28*(EXP((A42-$C$22)/$C$21)-1))>0,$C$30*(1-$C$28*(EXP((A42-$C$22)/$C$21)-1)),0)) -> 255 | G42: =IF(A42<=$C$22,($C$5-$C$8)*(F42/$C$12)^(1/$C$11)+$C$8, ($C$29-$C$8)*(F42/$C$30)^(1/$C$11)+$C$8) -> 47 | H42: =IF($C$15=0,A42-$C$6/2, A42-$C$6*EXP(-A42/$C$15)/2) -> -5000 | I42: =IF($C$15=0,A42+$C$6/2, A42+$C$6*EXP(-A42/$C$15)/2) -> 5000
...
