Workbook

Sheet Overview
B2: This sheet is provided as a tool to calculate salt intrusion in alluvial estuaries. It uses the analytical model as described in Salinity and Tides by H.H.G Savenije 2005
B14: Estuary
B15: Elbe
B17: Geometry
B18: Area at mouth | C18: A0 | D18: 110434.78 | E18: m2
B19: Area at x1 | C19: A1 | D19: 32531.307 | E19: m2
B20: Convergence length | C20: a1 | D20: 18000 | E20: m
B21: Convergence length 2 | C21: a2 | D21: 66000 | E21: m
B22: Inflection point | C22: x1 | D22: 22000 | E22: m
B23: Depth | C23: h0 | D23: 11.5 | E23: m
B25: Measurements
B26: 38251
B27: 38081
B28: 38177
B29: 38292
B30: 38018

Sheet 21-9-2004
A1: STEADY SALT INTRUSION MODEL (TA)
A2: Elbe 21-9-2004
A3: Input | F3: Measurements
A4: Step length | B4: dx | C4: 1000 | D4: m | F4: x (m) | G4: HWS | H4: x (m) | I4: LWS
A5: Sea salinity | B5: S0 | C5: 24 | D5: kg/m3 | F5: -4400 | G5: 26.331 | H5: -18100 | I5: 24.321
A6: Tidal Excursion | B6: E0 | C6: 18000 | D6: m | F6: -4100 | G6: 28.14 | H6: -4400 | I6: 22.043
A7: Tidal Range | B7: H | C7: 2 | D7: m | F7: 0 | G7: 25.527 | H7: -4100 | I7: 21.775
A8: Fresh water salinity | B8: Cf | C8: 0.6 | D8: kg/m3 | F8: 1800 | H8: 0
F9: 18100 | G9: 21.574 | H9: 1800
A10: Calibration parameters | F10: 33400 | G10: 16.415 | H10: 18100 | I10: 12.127
A11: Van Den Burgh | B11: K | C11: 0.3 | F11: 50500 | H11: 33400 | I11: 7.504
A12: Dispersion at mouth | B12: Do | C12: 225 | D12: m2/s | F12: 62300 | G12: 3.484 | H12: 50500 | I12: 2.01
A13: Discharge | B13: Q | C13: 200 | D13: m3/s | F13: 66500 | G13: 2.3249 | H13: 62300 | I13: 1.072
A14: Alpha 0 | B14: α0 | C14: =C12/C13 -> 1.125 | D14: 1/m | F14: 70000 | H14: 66500 | I14: 1.1859
F15: 75700 | G15: 1.072 | H15: 70000
A16: Geometry | F16: 84000 | G16: 0.871 | H16: 75700 | I16: 0.67
A17: Area at mouth | B17: A0 | C17: =Overview!D18 -> 110434.78 | D17: m2 | F17: 98100 | G17: 0.7303 | H17: 84000 | I17: 0.67
A18: Area at x1 | B18: A1 | C18: =Overview!D19 -> 32531.307 | D18: m2 | F18: 117200 | G18: 0.7705 | H18: 98100 | I18: 0.7236
A19: Convergence length | B19: a1 | C19: =Overview!D20 -> 18000 | D19: m | H19: 117200 | I19: 0.7303
A20: Convergence length 2 | B20: a2 | C20: =Overview!D21 -> 66000 | D20: m
A21: Inflection point | B21: x1 | C21: =Overview!D22 -> 22000 | D21: m
A22: Depth | B22: h0 | C22: =Overview!D23 -> 11.5 | D22: m
A24: Calculations | F24: REMARKS
A25: Beta | B25: β | C25: =$C$11*$C$19/C$14/$C$17 -> 0.043464567
A26: Alpha 1 | B26: α1 | C26: =C29/C13 -> 1.0079037 | D26: 1/m
A27: Beta1 | B27: β1 | C27: =C11*C20/C26/C18 -> 0.60387165
A28: Salinity at x1 | B28: S1 | C28: =($C$5-$C$8)*(C29/C12)^(1/$C$11)+$C$8 -> 16.821994 | D28: kg/m3
A29: Dispersion at x1 | B29: D1 | C29: =C12*(1-C25*(EXP(C21/C19)-1)) -> 201.58074
A31: x: | B31: Shifted x | E31: A | F31: D | G31: S | H31: xLWS | I31: xHWS
A32: =A33-$C$4-9000 -> -18000 | E32: =IF(A32<=$C$21,$C$17*EXP(-A32/$C$19),$C$18*EXP(-(A32-$C$21)/$C$20)) -> 300192.86 | F32: =IF(A32<=$C$21,IF($C$12*(1-$C$25*(EXP(A32/$C$19)-1))>0,$C$12*(1-$C$25*(EXP(A32/$C$19)-1)),0),IF($C$29*(1-$C$27*(EXP((A32-$C$21)/$C$20)-1))>0,$C$29*(1-$C$27*(EXP((A32-$C$21)/$C$20)-1)),0)) -> 231.18184 | G32: =IF(A32<=$C$21,($C$5-$C$8)*(F32/$C$12)^(1/$C$11)+$C$8, ($C$28-$C$8)*(F32/$C$29)^(1/$C$11)+$C$8) -> 26.212572 | H32: =A32-$C$6/2 -> -27000 | I32: =A32+$C$6/2 -> -9000
A33: =A34-$C$4 -> -8000 | E33: =IF(A33<=$C$21,$C$17*EXP(-A33/$C$19),$C$18*EXP(-(A33-$C$21)/$C$20)) -> 172236.68 | F33: =IF(A33<=$C$21,IF($C$12*(1-$C$25*(EXP(A33/$C$19)-1))>0,$C$12*(1-$C$25*(EXP(A33/$C$19)-1)),0),IF($C$29*(1-$C$27*(EXP((A33-$C$21)/$C$20)-1))>0,$C$29*(1-$C$27*(EXP((A33-$C$21)/$C$20)-1)),0)) -> 228.50909 | G33: =IF(A33<=$C$21,($C$5-$C$8)*(F33/$C$12)^(1/$C$11)+$C$8, ($C$28-$C$8)*(F33/$C$29)^(1/$C$11)+$C$8) -> 25.238771 | H33: =A33-$C$6/2 -> -17000 | I33: =A33+$C$6/2 -> 1000
A34: =A35-$C$4 -> -7000 | E34: =IF(A34<=$C$21,$C$17*EXP(-A34/$C$19),$C$18*EXP(-(A34-$C$21)/$C$20)) -> 162928.92 | F34: =IF(A34<=$C$21,IF($C$12*(1-$C$25*(EXP(A34/$C$19)-1))>0,$C$12*(1-$C$25*(EXP(A34/$C$19)-1)),0),IF($C$29*(1-$C$27*(EXP((A34-$C$21)/$C$20)-1))>0,$C$29*(1-$C$27*(EXP((A34-$C$21)/$C$20)-1)),0)) -> 228.15087 | G34: =IF(A34<=$C$21,($C$5-$C$8)*(F34/$C$12)^(1/$C$11)+$C$8, ($C$28-$C$8)*(F34/$C$29)^(1/$C$11)+$C$8) -> 25.110259 | H34: =A34-$C$6/2 -> -16000 | I34: =A34+$C$6/2 -> 2000
A35: =A36-$C$4 -> -6000 | E35: =IF(A35<=$C$21,$C$17*EXP(-A35/$C$19),$C$18*EXP(-(A35-$C$21)/$C$20)) -> 154124.15 | F35: =IF(A35<=$C$21,IF($C$12*(1-$C$25*(EXP(A35/$C$19)-1))>0,$C$12*(1-$C$25*(EXP(A35/$C$19)-1)),0),IF($C$29*(1-$C$27*(EXP((A35-$C$21)/$C$20)-1))>0,$C$29*(1-$C$27*(EXP((A35-$C$21)/$C$20)-1)),0)) -> 227.77219 | G35: =IF(A35<=$C$21,($C$5-$C$8)*(F35/$C$12)^(1/$C$11)+$C$8, ($C$28-$C$8)*(F35/$C$29)^(1/$C$11)+$C$8) -> 24.974916 | H35: =A35-$C$6/2 -> -15000 | I35: =A35+$C$6/2 -> 3000
A36: =A37-$C$4 -> -5000 | E36: =IF(A36<=$C$21,$C$17*EXP(-A36/$C$19),$C$18*EXP(-(A36-$C$21)/$C$20)) -> 145795.2 | F36: =IF(A36<=$C$21,IF($C$12*(1-$C$25*(EXP(A36/$C$19)-1))>0,$C$12*(1-$C$25*(EXP(A36/$C$19)-1)),0),IF($C$29*(1-$C$27*(EXP((A36-$C$21)/$C$20)-1))>0,$C$29*(1-$C$27*(EXP((A36-$C$21)/$C$20)-1)),0)) -> 227.37188 | G36: =IF(A36<=$C$21,($C$5-$C$8)*(F36/$C$12)^(1/$C$11)+$C$8, ($C$28-$C$8)*(F36/$C$29)^(1/$C$11)+$C$8) -> 24.83241 | H36: =A36-$C$6/2 -> -14000 | I36: =A36+$C$6/2 -> 4000
A37: =A38-$C$4 -> -4000 | E37: =IF(A37<=$C$21,$C$17*EXP(-A37/$C$19),$C$18*EXP(-(A37-$C$21)/$C$20)) -> 137916.35 | F37: =IF(A37<=$C$21,IF($C$12*(1-$C$25*(EXP(A37/$C$19)-1))>0,$C$12*(1-$C$25*(EXP(A37/$C$19)-1)),0),IF($C$29*(1-$C$27*(EXP((A37-$C$21)/$C$20)-1))>0,$C$29*(1-$C$27*(EXP((A37-$C$21)/$C$20)-1)),0)) -> 226.94869 | G37: =IF(A37<=$C$21,($C$5-$C$8)*(F37/$C$12)^(1/$C$11)+$C$8, ($C$28-$C$8)*(F37/$C$29)^(1/$C$11)+$C$8) -> 24.6824 | H37: =A37-$C$6/2 -> -13000 | I37: =A37+$C$6/2 -> 5000
A38: =A39-$C$4 -> -3000 | E38: =IF(A38<=$C$21,$C$17*EXP(-A38/$C$19),$C$18*EXP(-(A38-$C$21)/$C$20)) -> 130463.28 | F38: =IF(A38<=$C$21,IF($C$12*(1-$C$25*(EXP(A38/$C$19)-1))>0,$C$12*(1-$C$25*(EXP(A38/$C$19)-1)),0),IF($C$29*(1-$C$27*(EXP((A38-$C$21)/$C$20)-1))>0,$C$29*(1-$C$27*(EXP((A38-$C$21)/$C$20)-1)),0)) -> 226.50134 | G38: =IF(A38<=$C$21,($C$5-$C$8)*(F38/$C$12)^(1/$C$11)+$C$8, ($C$28-$C$8)*(F38/$C$29)^(1/$C$11)+$C$8) -> 24.524527 | H38: =A38-$C$6/2 -> -12000 | I38: =A38+$C$6/2 -> 6000
A39: =A40-$C$4 -> -2000 | E39: =IF(A39<=$C$21,$C$17*EXP(-A39/$C$19),$C$18*EXP(-(A39-$C$21)/$C$20)) -> 123412.98 | F39: =IF(A39<=$C$21,IF($C$12*(1-$C$25*(EXP(A39/$C$19)-1))>0,$C$12*(1-$C$25*(EXP(A39/$C$19)-1)),0),IF($C$29*(1-$C$27*(EXP((A39-$C$21)/$C$20)-1))>0,$C$29*(1-$C$27*(EXP((A39-$C$21)/$C$20)-1)),0)) -> 226.02842 | G39: =IF(A39<=$C$21,($C$5-$C$8)*(F39/$C$12)^(1/$C$11)+$C$8, ($C$28-$C$8)*(F39/$C$29)^(1/$C$11)+$C$8) -> 24.358425 | H39: =A39-$C$6/2 -> -11000 | I39: =A39+$C$6/2 -> 7000
A40: =A41-$C$4 -> -1000 | E40: =IF(A40<=$C$21,$C$17*EXP(-A40/$C$19),$C$18*EXP(-(A40-$C$21)/$C$20)) -> 116743.67 | F40: =IF(A40<=$C$21,IF($C$12*(1-$C$25*(EXP(A40/$C$19)-1))>0,$C$12*(1-$C$25*(EXP(A40/$C$19)-1)),0),IF($C$29*(1-$C$27*(EXP((A40-$C$21)/$C$20)-1))>0,$C$29*(1-$C$27*(EXP((A40-$C$21)/$C$20)-1)),0)) -> 225.52849 | G40: =IF(A40<=$C$21,($C$5-$C$8)*(F40/$C$12)^(1/$C$11)+$C$8, ($C$28-$C$8)*(F40/$C$29)^(1/$C$11)+$C$8) -> 24.183713 | H40: =A40-$C$6/2 -> -10000 | I40: =A40+$C$6/2 -> 8000
A41: 0 | E41: =IF(A41<=$C$21,$C$17*EXP(-A41/$C$19),$C$18*EXP(-(A41-$C$21)/$C$20)) -> 110434.78 | F41: =IF(A41<=$C$21,IF($C$12*(1-$C$25*(EXP(A41/$C$19)-1))>0,$C$12*(1-$C$25*(EXP(A41/$C$19)-1)),0),IF($C$29*(1-$C$27*(EXP((A41-$C$21)/$C$20)-1))>0,$C$29*(1-$C$27*(EXP((A41-$C$21)/$C$20)-1)),0)) -> 225 | G41: =IF(A41<=$C$21,($C$5-$C$8)*(F41/$C$12)^(1/$C$11)+$C$8, ($C$28-$C$8)*(F41/$C$29)^(1/$C$11)+$C$8) -> 24 | H41: =A41-$C$6/2 -> -9000 | I41: =A41+$C$6/2 -> 9000
A42: =A41+$C$4 -> 1000 | E42: =IF(A42<=$C$21,$C$17*EXP(-A42/$C$19),$C$18*EXP(-(A42-$C$21)/$C$20)) -> 104466.83 | F42: =IF(A42<=$C$21,IF($C$12*(1-$C$25*(EXP(A42/$C$19)-1))>0,$C$12*(1-$C$25*(EXP(A42/$C$19)-1)),0),IF($C$29*(1-$C$27*(EXP((A42-$C$21)/$C$20)-1))>0,$C$29*(1-$C$27*(EXP((A42-$C$21)/$C$20)-1)),0)) -> 224.44132 | G42: =IF(A42<=$C$21,($C$5-$C$8)*(F42/$C$12)^(1/$C$11)+$C$8, ($C$28-$C$8)*(F42/$C$29)^(1/$C$11)+$C$8) -> 23.806884 | H42: =A42-$C$6/2 -> -8000 | I42: =A42+$C$6/2 -> 10000
...

Sheet 4-4-2004
A1: STEADY SALT INTRUSION MODEL (TA)
A2: Elbe 4-4-2004
A3: Input | F3: Measurements
A4: Step length | B4: dx | C4: 1000 | D4: m | F4: x (m) | G4: HWS | H4: x (m) | I4: LWS
A5: Sea salinity | B5: S0 | C5: 16 | D5: kg/m3 | F5: 66500 | G5: 0.7906 | H5: 66500 | I5: 0.6499
A6: Tidal Excursion | B6: E0 | C6: 20000 | D6: m | F6: 98100 | G6: 0 | H6: 98100 | I6: 0
A7: Tidal Range | B7: H | C7: 2 | D7: m | F7: 117200 | G7: 0 | H7: 117200 | I7: 0
A8: Fresh water salinity | B8: Cf | C8: 0.6 | D8: kg/m3 | F8: -18100 | G8: 22.043 | H8: -18100 | I8: 18.492
F9: -4400 | G9: 20.234 | H9: -4400 | I9: 11.725
A10: Calibration parameters | F10: -4100 | G10: 19.698 | H10: -4100 | I10: 11.926
A11: Van Den Burgh | B11: K | C11: 0.3 | F11: 33400 | G11: 4.355 | H11: 33400 | I11: 0.469
A12: Dispersion at mouth | B12: Do | C12: 80 | D12: m2/s | F12: 75700 | G12: 0.335 | H12: 75700 | I12: 0.268
A13: Discharge | B13: Q | C13: 211 | D13: m3/s | F13: 84000 | G13: 0.469 | H13: 84000 | I13: 0.469
A14: Alpha 0 | B14: α0 | C14: =C12/C13 -> 0.37914692 | D14: 1/m | F14: 62300 | G14: 0.67 | H14: 62300 | I14: 0.603
F15: 50500 | G15: 0.871 | H15: 50500 | I15: 0.737
A16: Geometry | F16: 18100 | G16: 12.395 | H16: 18100 | I16: 2.948
A17: Area at mouth | B17: A0 | C17: =Overview!D18 -> 110434.78 | D17: m2
A18: Area at x1 | B18: A1 | C18: =Overview!D19 -> 32531.307 | D18: m2
A19: Convergence length | B19: a1 | C19: =Overview!D20 -> 18000 | D19: m
A20: Convergence length 2 | B20: a2 | C20: =Overview!D21 -> 66000 | D20: m
A21: Inflection point | B21: x1 | C21: =Overview!D22 -> 22000 | D21: m
A22: Depth | B22: h0 | C22: =Overview!D23 -> 11.5 | D22: m
A24: Calculations | F24: REMARKS
A25: Beta | B25: β | C25: =$C$11*$C$19/C$14/$C$17 -> 0.12896752 | F25: Q unreliable
A26: Alpha 1 | B26: α1 | C26: =C29/C13 -> 0.26205061 | D26: 1/m
A27: Beta1 | B27: β1 | C27: =C11*C20/C26/C18 -> 2.3226218
A28: Salinity at x1 | B28: S1 | C28: =($C$5-$C$8)*(C29/C12)^(1/$C$11)+$C$8 -> 5.095516 | D28: kg/m3
A29: Dispersion at x1 | B29: D1 | C29: =C12*(1-C25*(EXP(C21/C19)-1)) -> 55.292679
A31: x: | B31: Shifted x | E31: A | F31: D | G31: S | H31: xLWS | I31: xHWS
A32: =A33-$C$4-9000 -> -18000 | E32: =IF(A32<=$C$21,$C$17*EXP(-A32/$C$19),$C$18*EXP(-(A32-$C$21)/$C$20)) -> 300192.86 | F32: =IF(A32<=$C$21,IF($C$12*(1-$C$25*(EXP(A32/$C$19)-1))>0,$C$12*(1-$C$25*(EXP(A32/$C$19)-1)),0),IF($C$29*(1-$C$27*(EXP((A32-$C$21)/$C$20)-1))>0,$C$29*(1-$C$27*(EXP((A32-$C$21)/$C$20)-1)),0)) -> 86.521842 | G32: =IF(A32<=$C$21,($C$5-$C$8)*(F32/$C$12)^(1/$C$11)+$C$8, ($C$28-$C$8)*(F32/$C$29)^(1/$C$11)+$C$8) -> 20.597388 | H32: =A32-$C$6/2 -> -28000 | I32: =A32+$C$6/2 -> -8000
A33: =A34-$C$4 -> -8000 | E33: =IF(A33<=$C$21,$C$17*EXP(-A33/$C$19),$C$18*EXP(-(A33-$C$21)/$C$20)) -> 172236.68 | F33: =IF(A33<=$C$21,IF($C$12*(1-$C$25*(EXP(A33/$C$19)-1))>0,$C$12*(1-$C$25*(EXP(A33/$C$19)-1)),0),IF($C$29*(1-$C$27*(EXP((A33-$C$21)/$C$20)-1))>0,$C$29*(1-$C$27*(EXP((A33-$C$21)/$C$20)-1)),0)) -> 83.702086 | G33: =IF(A33<=$C$21,($C$5-$C$8)*(F33/$C$12)^(1/$C$11)+$C$8, ($C$28-$C$8)*(F33/$C$29)^(1/$C$11)+$C$8) -> 18.506404 | H33: =A33-$C$6/2 -> -18000 | I33: =A33+$C$6/2 -> 2000
A34: =A35-$C$4 -> -7000 | E34: =IF(A34<=$C$21,$C$17*EXP(-A34/$C$19),$C$18*EXP(-(A34-$C$21)/$C$20)) -> 162928.92 | F34: =IF(A34<=$C$21,IF($C$12*(1-$C$25*(EXP(A34/$C$19)-1))>0,$C$12*(1-$C$25*(EXP(A34/$C$19)-1)),0),IF($C$29*(1-$C$27*(EXP((A34-$C$21)/$C$20)-1))>0,$C$29*(1-$C$27*(EXP((A34-$C$21)/$C$20)-1)),0)) -> 83.324168 | G34: =IF(A34<=$C$21,($C$5-$C$8)*(F34/$C$12)^(1/$C$11)+$C$8, ($C$28-$C$8)*(F34/$C$29)^(1/$C$11)+$C$8) -> 18.238327 | H34: =A34-$C$6/2 -> -17000 | I34: =A34+$C$6/2 -> 3000
A35: =A36-$C$4 -> -6000 | E35: =IF(A35<=$C$21,$C$17*EXP(-A35/$C$19),$C$18*EXP(-(A35-$C$21)/$C$20)) -> 154124.15 | F35: =IF(A35<=$C$21,IF($C$12*(1-$C$25*(EXP(A35/$C$19)-1))>0,$C$12*(1-$C$25*(EXP(A35/$C$19)-1)),0),IF($C$29*(1-$C$27*(EXP((A35-$C$21)/$C$20)-1))>0,$C$29*(1-$C$27*(EXP((A35-$C$21)/$C$20)-1)),0)) -> 82.92466 | G35: =IF(A35<=$C$21,($C$5-$C$8)*(F35/$C$12)^(1/$C$11)+$C$8, ($C$28-$C$8)*(F35/$C$29)^(1/$C$11)+$C$8) -> 17.958003 | H35: =A35-$C$6/2 -> -16000 | I35: =A35+$C$6/2 -> 4000
A36: =A37-$C$4 -> -5000 | E36: =IF(A36<=$C$21,$C$17*EXP(-A36/$C$19),$C$18*EXP(-(A36-$C$21)/$C$20)) -> 145795.2 | F36: =IF(A36<=$C$21,IF($C$12*(1-$C$25*(EXP(A36/$C$19)-1))>0,$C$12*(1-$C$25*(EXP(A36/$C$19)-1)),0),IF($C$29*(1-$C$27*(EXP((A36-$C$21)/$C$20)-1))>0,$C$29*(1-$C$27*(EXP((A36-$C$21)/$C$20)-1)),0)) -> 82.50233 | G36: =IF(A36<=$C$21,($C$5-$C$8)*(F36/$C$12)^(1/$C$11)+$C$8, ($C$28-$C$8)*(F36/$C$29)^(1/$C$11)+$C$8) -> 17.665073 | H36: =A36-$C$6/2 -> -15000 | I36: =A36+$C$6/2 -> 5000
A37: =A38-$C$4 -> -4000 | E37: =IF(A37<=$C$21,$C$17*EXP(-A37/$C$19),$C$18*EXP(-(A37-$C$21)/$C$20)) -> 137916.35 | F37: =IF(A37<=$C$21,IF($C$12*(1-$C$25*(EXP(A37/$C$19)-1))>0,$C$12*(1-$C$25*(EXP(A37/$C$19)-1)),0),IF($C$29*(1-$C$27*(EXP((A37-$C$21)/$C$20)-1))>0,$C$29*(1-$C$27*(EXP((A37-$C$21)/$C$20)-1)),0)) -> 82.055872 | G37: =IF(A37<=$C$21,($C$5-$C$8)*(F37/$C$12)^(1/$C$11)+$C$8, ($C$28-$C$8)*(F37/$C$29)^(1/$C$11)+$C$8) -> 17.359188 | H37: =A37-$C$6/2 -> -14000 | I37: =A37+$C$6/2 -> 6000
A38: =A39-$C$4 -> -3000 | E38: =IF(A38<=$C$21,$C$17*EXP(-A38/$C$19),$C$18*EXP(-(A38-$C$21)/$C$20)) -> 130463.28 | F38: =IF(A38<=$C$21,IF($C$12*(1-$C$25*(EXP(A38/$C$19)-1))>0,$C$12*(1-$C$25*(EXP(A38/$C$19)-1)),0),IF($C$29*(1-$C$27*(EXP((A38-$C$21)/$C$20)-1))>0,$C$29*(1-$C$27*(EXP((A38-$C$21)/$C$20)-1)),0)) -> 81.58391 | G38: =IF(A38<=$C$21,($C$5-$C$8)*(F38/$C$12)^(1/$C$11)+$C$8, ($C$28-$C$8)*(F38/$C$29)^(1/$C$11)+$C$8) -> 17.040025 | H38: =A38-$C$6/2 -> -13000 | I38: =A38+$C$6/2 -> 7000
A39: =A40-$C$4 -> -2000 | E39: =IF(A39<=$C$21,$C$17*EXP(-A39/$C$19),$C$18*EXP(-(A39-$C$21)/$C$20)) -> 123412.98 | F39: =IF(A39<=$C$21,IF($C$12*(1-$C$25*(EXP(A39/$C$19)-1))>0,$C$12*(1-$C$25*(EXP(A39/$C$19)-1)),0),IF($C$29*(1-$C$27*(EXP((A39-$C$21)/$C$20)-1))>0,$C$29*(1-$C$27*(EXP((A39-$C$21)/$C$20)-1)),0)) -> 81.084985 | G39: =IF(A39<=$C$21,($C$5-$C$8)*(F39/$C$12)^(1/$C$11)+$C$8, ($C$28-$C$8)*(F39/$C$29)^(1/$C$11)+$C$8) -> 16.707281 | H39: =A39-$C$6/2 -> -12000 | I39: =A39+$C$6/2 -> 8000
A40: =A41-$C$4 -> -1000 | E40: =IF(A40<=$C$21,$C$17*EXP(-A40/$C$19),$C$18*EXP(-(A40-$C$21)/$C$20)) -> 116743.67 | F40: =IF(A40<=$C$21,IF($C$12*(1-$C$25*(EXP(A40/$C$19)-1))>0,$C$12*(1-$C$25*(EXP(A40/$C$19)-1)),0),IF($C$29*(1-$C$27*(EXP((A40-$C$21)/$C$20)-1))>0,$C$29*(1-$C$27*(EXP((A40-$C$21)/$C$20)-1)),0)) -> 80.557558 | G40: =IF(A40<=$C$21,($C$5-$C$8)*(F40/$C$12)^(1/$C$11)+$C$8, ($C$28-$C$8)*(F40/$C$29)^(1/$C$11)+$C$8) -> 16.360684 | H40: =A40-$C$6/2 -> -11000 | I40: =A40+$C$6/2 -> 9000
A41: 0 | E41: =IF(A41<=$C$21,$C$17*EXP(-A41/$C$19),$C$18*EXP(-(A41-$C$21)/$C$20)) -> 110434.78 | F41: =IF(A41<=$C$21,IF($C$12*(1-$C$25*(EXP(A41/$C$19)-1))>0,$C$12*(1-$C$25*(EXP(A41/$C$19)-1)),0),IF($C$29*(1-$C$27*(EXP((A41-$C$21)/$C$20)-1))>0,$C$29*(1-$C$27*(EXP((A41-$C$21)/$C$20)-1)),0)) -> 80 | G41: =IF(A41<=$C$21,($C$5-$C$8)*(F41/$C$12)^(1/$C$11)+$C$8, ($C$28-$C$8)*(F41/$C$29)^(1/$C$11)+$C$8) -> 16 | H41: =A41-$C$6/2 -> -10000 | I41: =A41+$C$6/2 -> 10000
A42: =A41+$C$4 -> 1000 | E42: =IF(A42<=$C$21,$C$17*EXP(-A42/$C$19),$C$18*EXP(-(A42-$C$21)/$C$20)) -> 104466.83 | F42: =IF(A42<=$C$21,IF($C$12*(1-$C$25*(EXP(A42/$C$19)-1))>0,$C$12*(1-$C$25*(EXP(A42/$C$19)-1)),0),IF($C$29*(1-$C$27*(EXP((A42-$C$21)/$C$20)-1))>0,$C$29*(1-$C$27*(EXP((A42-$C$21)/$C$20)-1)),0)) -> 79.41059 | G42: =IF(A42<=$C$21,($C$5-$C$8)*(F42/$C$12)^(1/$C$11)+$C$8, ($C$28-$C$8)*(F42/$C$29)^(1/$C$11)+$C$8) -> 15.625036 | H42: =A42-$C$6/2 -> -9000 | I42: =A42+$C$6/2 -> 11000
...

Sheet 9-7-2002
A1: STEADY SALT INTRUSION MODEL (TA)
A2: Elbe 4-4-2004
A3: Input | F3: Measurements
A4: Step length | B4: dx | C4: 1000 | D4: m | F4: x (m) | G4: HWS | H4: x (m) | I4: LWS
A5: Sea salinity | B5: S0 | C5: 11 | D5: kg/m3 | F5: -1000 | G5: 13.16
A6: Tidal Excursion | B6: E0 | C6: 10000 | D6: m | F6: 5000 | G6: 11.312
A7: Tidal Range | B7: H | C7: 2 | D7: m | F7: 17000 | G7: 5.992
A8: Fresh water salinity | B8: Cf | C8: 0.7 | D8: kg/m3 | F8: 23000 | G8: 3.08
F9: 34000 | G9: 1.68
A10: Calibration parameters | F10: 38000 | G10: 1.12
A11: Van Den Burgh | B11: K | C11: 0.3 | F11: 45000 | G11: 0.672
A12: Dispersion at mouth | B12: Do | C12: 25 | D12: m2/s | F12: 51500 | G12: 0.672
A13: Discharge | B13: Q | C13: 100 | D13: m3/s
A14: Alpha 0 | B14: α0 | C14: =C12/C13 -> 0.25 | D14: 1/m
A16: Geometry
A17: Area at mouth | B17: A0 | C17: =Overview!D18 -> 110434.78 | D17: m2
A18: Area at x1 | B18: A1 | C18: =Overview!D19 -> 32531.307 | D18: m2
A19: Convergence length | B19: a1 | C19: =Overview!D20 -> 18000 | D19: m
A20: Convergence length 2 | B20: a2 | C20: =Overview!D21 -> 66000 | D20: m
A21: Inflection point | B21: x1 | C21: =Overview!D22 -> 22000 | D21: m
A22: Depth | B22: h0 | C22: =Overview!D23 -> 11.5 | D22: m
A24: Calculations | F24: REMARKS
A25: Beta | B25: β | C25: =$C$11*$C$19/C$14/$C$17 -> 0.19559055 | F25: Q unknown
A26: Alpha 1 | B26: α1 | C26: =C29/C13 -> 0.13290369 | D26: 1/m
A27: Beta1 | B27: β1 | C27: =C11*C20/C26/C18 -> 4.5795903
A28: Salinity at x1 | B28: S1 | C28: =($C$5-$C$8)*(C29/C12)^(1/$C$11)+$C$8 -> 1.9536049 | D28: kg/m3
A29: Dispersion at x1 | B29: D1 | C29: =C12*(1-C25*(EXP(C21/C19)-1)) -> 13.290369
A31: x: | B31: Shifted x | E31: A | F31: D | G31: S | H31: xLWS | I31: xHWS
A32: =A33-$C$4-9000 -> -18000 | E32: =IF(A32<=$C$21,$C$17*EXP(-A32/$C$19),$C$18*EXP(-(A32-$C$21)/$C$20)) -> 300192.86 | F32: =IF(A32<=$C$21,IF($C$12*(1-$C$25*(EXP(A32/$C$19)-1))>0,$C$12*(1-$C$25*(EXP(A32/$C$19)-1)),0),IF($C$29*(1-$C$27*(EXP((A32-$C$21)/$C$20)-1))>0,$C$29*(1-$C$27*(EXP((A32-$C$21)/$C$20)-1)),0)) -> 28.09092 | G32: =IF(A32<=$C$21,($C$5-$C$8)*(F32/$C$12)^(1/$C$11)+$C$8, ($C$28-$C$8)*(F32/$C$29)^(1/$C$11)+$C$8) -> 15.891142 | H32: =A32-$C$6/2 -> -23000 | I32: =A32+$C$6/2 -> -13000
A33: =A34-$C$4 -> -8000 | E33: =IF(A33<=$C$21,$C$17*EXP(-A33/$C$19),$C$18*EXP(-(A33-$C$21)/$C$20)) -> 172236.68 | F33: =IF(A33<=$C$21,IF($C$12*(1-$C$25*(EXP(A33/$C$19)-1))>0,$C$12*(1-$C$25*(EXP(A33/$C$19)-1)),0),IF($C$29*(1-$C$27*(EXP((A33-$C$21)/$C$20)-1))>0,$C$29*(1-$C$27*(EXP((A33-$C$21)/$C$20)-1)),0)) -> 26.754543 | G33: =IF(A33<=$C$21,($C$5-$C$8)*(F33/$C$12)^(1/$C$11)+$C$8, ($C$28-$C$8)*(F33/$C$29)^(1/$C$11)+$C$8) -> 13.613055 | H33: =A33-$C$6/2 -> -13000 | I33: =A33+$C$6/2 -> -3000
A34: =A35-$C$4 -> -7000 | E34: =IF(A34<=$C$21,$C$17*EXP(-A34/$C$19),$C$18*EXP(-(A34-$C$21)/$C$20)) -> 162928.92 | F34: =IF(A34<=$C$21,IF($C$12*(1-$C$25*(EXP(A34/$C$19)-1))>0,$C$12*(1-$C$25*(EXP(A34/$C$19)-1)),0),IF($C$29*(1-$C$27*(EXP((A34-$C$21)/$C$20)-1))>0,$C$29*(1-$C$27*(EXP((A34-$C$21)/$C$20)-1)),0)) -> 26.575435 | G34: =IF(A34<=$C$21,($C$5-$C$8)*(F34/$C$12)^(1/$C$11)+$C$8, ($C$28-$C$8)*(F34/$C$29)^(1/$C$11)+$C$8) -> 13.327144 | H34: =A34-$C$6/2 -> -12000 | I34: =A34+$C$6/2 -> -2000
A35: =A36-$C$4 -> -6000 | E35: =IF(A35<=$C$21,$C$17*EXP(-A35/$C$19),$C$18*EXP(-(A35-$C$21)/$C$20)) -> 154124.15 | F35: =IF(A35<=$C$21,IF($C$12*(1-$C$25*(EXP(A35/$C$19)-1))>0,$C$12*(1-$C$25*(EXP(A35/$C$19)-1)),0),IF($C$29*(1-$C$27*(EXP((A35-$C$21)/$C$20)-1))>0,$C$29*(1-$C$27*(EXP((A35-$C$21)/$C$20)-1)),0)) -> 26.386095 | G35: =IF(A35<=$C$21,($C$5-$C$8)*(F35/$C$12)^(1/$C$11)+$C$8, ($C$28-$C$8)*(F35/$C$29)^(1/$C$11)+$C$8) -> 13.02975 | H35: =A35-$C$6/2 -> -11000 | I35: =A35+$C$6/2 -> -1000
A36: =A37-$C$4 -> -5000 | E36: =IF(A36<=$C$21,$C$17*EXP(-A36/$C$19),$C$18*EXP(-(A36-$C$21)/$C$20)) -> 145795.2 | F36: =IF(A36<=$C$21,IF($C$12*(1-$C$25*(EXP(A36/$C$19)-1))>0,$C$12*(1-$C$25*(EXP(A36/$C$19)-1)),0),IF($C$29*(1-$C$27*(EXP((A36-$C$21)/$C$20)-1))>0,$C$29*(1-$C$27*(EXP((A36-$C$21)/$C$20)-1)),0)) -> 26.185938 | G36: =IF(A36<=$C$21,($C$5-$C$8)*(F36/$C$12)^(1/$C$11)+$C$8, ($C$28-$C$8)*(F36/$C$29)^(1/$C$11)+$C$8) -> 12.720734 | H36: =A36-$C$6/2 -> -10000 | I36: =A36+$C$6/2 -> 0
A37: =A38-$C$4 -> -4000 | E37: =IF(A37<=$C$21,$C$17*EXP(-A37/$C$19),$C$18*EXP(-(A37-$C$21)/$C$20)) -> 137916.35 | F37: =IF(A37<=$C$21,IF($C$12*(1-$C$25*(EXP(A37/$C$19)-1))>0,$C$12*(1-$C$25*(EXP(A37/$C$19)-1)),0),IF($C$29*(1-$C$27*(EXP((A37-$C$21)/$C$20)-1))>0,$C$29*(1-$C$27*(EXP((A37-$C$21)/$C$20)-1)),0)) -> 25.974347 | G37: =IF(A37<=$C$21,($C$5-$C$8)*(F37/$C$12)^(1/$C$11)+$C$8, ($C$28-$C$8)*(F37/$C$29)^(1/$C$11)+$C$8) -> 12.400003 | H37: =A37-$C$6/2 -> -9000 | I37: =A37+$C$6/2 -> 1000
A38: =A39-$C$4 -> -3000 | E38: =IF(A38<=$C$21,$C$17*EXP(-A38/$C$19),$C$18*EXP(-(A38-$C$21)/$C$20)) -> 130463.28 | F38: =IF(A38<=$C$21,IF($C$12*(1-$C$25*(EXP(A38/$C$19)-1))>0,$C$12*(1-$C$25*(EXP(A38/$C$19)-1)),0),IF($C$29*(1-$C$27*(EXP((A38-$C$21)/$C$20)-1))>0,$C$29*(1-$C$27*(EXP((A38-$C$21)/$C$20)-1)),0)) -> 25.750668 | G38: =IF(A38<=$C$21,($C$5-$C$8)*(F38/$C$12)^(1/$C$11)+$C$8, ($C$28-$C$8)*(F38/$C$29)^(1/$C$11)+$C$8) -> 12.067515 | H38: =A38-$C$6/2 -> -8000 | I38: =A38+$C$6/2 -> 2000
A39: =A40-$C$4 -> -2000 | E39: =IF(A39<=$C$21,$C$17*EXP(-A39/$C$19),$C$18*EXP(-(A39-$C$21)/$C$20)) -> 123412.98 | F39: =IF(A39<=$C$21,IF($C$12*(1-$C$25*(EXP(A39/$C$19)-1))>0,$C$12*(1-$C$25*(EXP(A39/$C$19)-1)),0),IF($C$29*(1-$C$27*(EXP((A39-$C$21)/$C$20)-1))>0,$C$29*(1-$C$27*(EXP((A39-$C$21)/$C$20)-1)),0)) -> 25.514211 | G39: =IF(A39<=$C$21,($C$5-$C$8)*(F39/$C$12)^(1/$C$11)+$C$8, ($C$28-$C$8)*(F39/$C$29)^(1/$C$11)+$C$8) -> 11.723284 | H39: =A39-$C$6/2 -> -7000 | I39: =A39+$C$6/2 -> 3000
A40: =A41-$C$4 -> -1000 | E40: =IF(A40<=$C$21,$C$17*EXP(-A40/$C$19),$C$18*EXP(-(A40-$C$21)/$C$20)) -> 116743.67 | F40: =IF(A40<=$C$21,IF($C$12*(1-$C$25*(EXP(A40/$C$19)-1))>0,$C$12*(1-$C$25*(EXP(A40/$C$19)-1)),0),IF($C$29*(1-$C$27*(EXP((A40-$C$21)/$C$20)-1))>0,$C$29*(1-$C$27*(EXP((A40-$C$21)/$C$20)-1)),0)) -> 25.264245 | G40: =IF(A40<=$C$21,($C$5-$C$8)*(F40/$C$12)^(1/$C$11)+$C$8, ($C$28-$C$8)*(F40/$C$29)^(1/$C$11)+$C$8) -> 11.367393 | H40: =A40-$C$6/2 -> -6000 | I40: =A40+$C$6/2 -> 4000
A41: 0 | E41: =IF(A41<=$C$21,$C$17*EXP(-A41/$C$19),$C$18*EXP(-(A41-$C$21)/$C$20)) -> 110434.78 | F41: =IF(A41<=$C$21,IF($C$12*(1-$C$25*(EXP(A41/$C$19)-1))>0,$C$12*(1-$C$25*(EXP(A41/$C$19)-1)),0),IF($C$29*(1-$C$27*(EXP((A41-$C$21)/$C$20)-1))>0,$C$29*(1-$C$27*(EXP((A41-$C$21)/$C$20)-1)),0)) -> 25 | G41: =IF(A41<=$C$21,($C$5-$C$8)*(F41/$C$12)^(1/$C$11)+$C$8, ($C$28-$C$8)*(F41/$C$29)^(1/$C$11)+$C$8) -> 11 | H41: =A41-$C$6/2 -> -5000 | I41: =A41+$C$6/2 -> 5000
A42: =A41+$C$4 -> 1000 | E42: =IF(A42<=$C$21,$C$17*EXP(-A42/$C$19),$C$18*EXP(-(A42-$C$21)/$C$20)) -> 104466.83 | F42: =IF(A42<=$C$21,IF($C$12*(1-$C$25*(EXP(A42/$C$19)-1))>0,$C$12*(1-$C$25*(EXP(A42/$C$19)-1)),0),IF($C$29*(1-$C$27*(EXP((A42-$C$21)/$C$20)-1))>0,$C$29*(1-$C$27*(EXP((A42-$C$21)/$C$20)-1)),0)) -> 24.720659 | G42: =IF(A42<=$C$21,($C$5-$C$8)*(F42/$C$12)^(1/$C$11)+$C$8, ($C$28-$C$8)*(F42/$C$29)^(1/$C$11)+$C$8) -> 10.621348 | H42: =A42-$C$6/2 -> -4000 | I42: =A42+$C$6/2 -> 6000
A43: =A42+$C$4 -> 2000 | E43: =IF(A43<=$C$21,$C$17*EXP(-A43/$C$19),$C$18*EXP(-(A43-$C$21)/$C$20)) -> 98821.385 | F43: =IF(A43<=$C$21,IF($C$12*(1-$C$25*(EXP(A43/$C$19)-1))>0,$C$12*(1-$C$25*(EXP(A43/$C$19)-1)),0),IF($C$29*(1-$C$27*(EXP((A43-$C$21)/$C$20)-1))>0,$C$29*(1-$C$27*(EXP((A43-$C$21)/$C$20)-1)),0)) -> 24.42536 | G43: =IF(A43<=$C$21,($C$5-$C$8)*(F43/$C$12)^(1/$C$11)+$C$8, ($C$28-$C$8)*(F43/$C$29)^(1/$C$11)+$C$8) -> 10.231774 | H43: =A43-$C$6/2 -> -3000 | I43: =A43+$C$6/2 -> 7000
...

Sheet Nov-2004
A1: STEADY SALT INTRUSION MODEL (TA)
A2: Elbe 11-2004
A3: Input | F3: Measurements
A4: Step length | B4: dx | C4: 1000 | D4: m | F4: x (m) | G4: HWS | H4: x (m) | I4: LWS
A5: Sea salinity | B5: S0 | C5: 9 | D5: kg/m3 | F5: 141500 | G5: 0.155
A6: Tidal Excursion | B6: E0 | C6: 10000 | D6: m | F6: 138000 | G6: 0.152
A7: Tidal Range | B7: H | C7: 2 | D7: m | F7: 128300 | G7: 0.146
A8: Fresh water salinity | B8: Cf | C8: 0.15 | D8: kg/m3 | F8: 118000 | G8: 0.137
F9: 111700 | G9: 0.139
A10: Calibration parameters | F10: 103500 | G10: 0.149
A11: Van Den Burgh | B11: K | C11: 0.3 | F11: 100300 | G11: 0.148
A12: Dispersion at mouth | B12: Do | C12: 40 | D12: m2/s | F12: 98200 | G12: 0.15
A13: Discharge | B13: Q | C13: 100 | D13: m3/s | F13: 90900 | G13: 0.147
A14: Alpha 0 | B14: α0 | C14: =C12/C13 -> 0.4 | D14: 1/m | F14: 86000 | G14: 0.15
F15: 81500 | G15: 0.156
A16: Geometry | F16: 77000 | G16: 0.169
A17: Area at mouth | B17: A0 | C17: =Overview!D18 -> 110434.78 | D17: m2 | F17: 74000 | G17: 0.166
A18: Area at x1 | B18: A1 | C18: =Overview!D19 -> 32531.307 | D18: m2 | F18: 72000 | G18: 0.17
A19: Convergence length | B19: a1 | C19: =Overview!D20 -> 18000 | D19: m | F19: 66500 | G19: 0.258
A20: Convergence length 2 | B20: a2 | C20: =Overview!D21 -> 66000 | D20: m | F20: 64300 | G20: 0.209
A21: Inflection point | B21: x1 | C21: =Overview!D22 -> 22000 | D21: m | F21: 62000 | G21: 0.245
A22: Depth | B22: h0 | C22: =Overview!D23 -> 11.5 | D22: m | F22: 57000 | G22: 0.255
F23: 51500 | G23: 0.316
F24: 45600 | G24: 0.505
F25: 38000 | G25: 1.31
F26: 34000 | G26: 2.03
F27: 23000 | G27: 4.41
F28: 17000 | G28: 5.21
F29: 5400 | G29: 8.45
F30: 0 | G30: 9.84
F31: -19300 | G31: 14.8
F32: -30000 | G32: 16.4
F33: 112100 | G33: 0.133
F34: 104400 | G34: 0.146
... F40: -30000 | G40: 15.9
A42: Calculations | F42: REMARKS
A43: Beta | B43: β | C43: =$C$11*$C$19/C$14/$C$17 -> 0.12224409 | F43: Q unknown
A44: Alpha 1 | B44: α1 | C44: =C47/C13 -> 0.28290369 | D44: 1/m
A45: Beta1 | B45: β1 | C45: =C11*C20/C44/C18 -> 2.1514193
A46: Salinity at x1 | B46: S1 | C46: =($C$5-$C$8)*(C47/C12)^(1/$C$11)+$C$8 -> 2.9395792 | D46: kg/m3
...

Sheet Feb-2004
A1: STEADY SALT INTRUSION MODEL (TA)
A2: Elbe 2-2004
A3: Input | F3: Measurements
A4: Step length | B4: dx | C4: 1000 | D4: m | F4: x (m) | G4: HWS | H4: x (m) | I4: LWS
A5: Sea salinity | B5: S0 | C5: 3 | D5: kg/m3 | F5: 141500 | G5: 0.083
A6: Tidal Excursion | B6: E0 | C6: 10000 | D6: m | F6: 138000 | G6: 0.083
A7: Tidal Range | B7: H | C7: 2 | D7: m | F7: 128300 | G7: 0.086
A8: Fresh water salinity | B8: Cf | C8: 0.15 | D8: kg/m3 | F8: 118000 | G8: 0.086
F9: 111700 | G9: 0.09
A10: Calibration parameters | F10: 103500 | G10: 0.09
A11: Van Den Burgh | B11: K | C11: 0.3 | F11: 100300 | G11: 0.108
A12: Dispersion at mouth | B12: Do | C12: 15 | D12: m2/s | F12: 98200 | G12: 0.11
A13: Discharge | B13: Q | C13: 100 | D13: m3/s | F13: 90900 | G13: 0.113
A14: Alpha 0 | B14: α0 | C14: =C12/C13 -> 0.15 | D14: 1/m | F14: 86000 | G14: 0.115
F15: 81500 | G15: 0.119
A16: Geometry | F16: 77000 | G16: 0.118
A17: Area at mouth | B17: A0 | C17: =Overview!D18 -> 110434.78 | D17: m2 | F17: 74000 | G17: 0.119
A18: Area at x1 | B18: A1 | C18: =Overview!D19 -> 32531.307 | D18: m2 | F18: 72000 | G18: 0.119
A19: Convergence length | B19: a1 | C19: =Overview!D20 -> 18000 | D19: m | F19: 66500 | G19: 0.124
A20: Convergence length 2 | B20: a2 | C20: =Overview!D21 -> 66000 | D20: m | F20: 64300 | G20: 0.133
A21: Inflection point | B21: x1 | C21: =Overview!D22 -> 22000 | D21: m | F21: 62000 | G21: 0.136
A22: Depth | B22: h0 | C22: =Overview!D23 -> 11.5 | D22: m | F22: 57000 | G22: 0.15
F23: 51500 | G23: 0.17
F24: 45600 | G24: 0.189
F25: 38000 | G25: 0.198
F26: 34000 | G26: 0.2
F27: 23000 | G27: 0.548
F28: 17000 | G28: 1.01
F29: 5400 | G29: 2.95
F30: 0 | G30: 3.92
F31: -19300 | G31: 10.5
F32: -30000 | G32: 13.2
F33: 112100 | G33: 0.088
F34: 104400 | G34: 0.091
... F40: -30000 | G40: 13.5
A42: Calculations | F42: REMARKS
A43: Beta | B43: β | C43: =$C$11*$C$19/C$14/$C$17 -> 0.32598425 | F43: Q unknown
A44: Alpha 1 | B44: α1 | C44: =C47/C13 -> 0.032903693 | D44: 1/m
A45: Beta1 | B45: β1 | C45: =C11*C20/C44/C18 -> 18.497755
A46: Salinity at x1 | B46: S1 | C46: =($C$5-$C$8)*(C47/C12)^(1/$C$11)+$C$8 -> 0.16814218 | D46: kg/m3
...

Sheet Sheet3
