Workbook

Sheet Overview
B2: This sheet is provided as a tool to calculate salt intrusion in alluvial estuaries. It uses the analytical model as described in Salinity and Tides by H.H.G Savenije 2005
B14: Estuary
B15: Incomati
B17: Geometry
B18: Area at mouth | C18: A0 | D18: 8100 | E18: m2
B19: Area at x1 | C19: A1 | D19: 1252.5699 | E19: m2
B20: Convergence length | C20: a1 | D20: 7500 | E20: m
B21: Convergence length 2 | C21: a2 | D21: 42000 | E21: m
B22: Inflection point | C22: x1 | D22: 14000 | E22: m
B23: Depth | C23: h0 | D23: 2.9 | E23: m
B25: Measurements
B26: 30199
B27: 34143
B28: 34157

Sheet 5-9-1982
A1: STEADY SALT INTRUSION MODEL (TA)
A2: Incomati 5-9-1982
A3: Input | F3: Measurements
A4: Step length | B4: dx | C4: 1000 | D4: m | F4: x (m) | G4: HWS | H4: x (m) | I4: LWS
A5: Sea salinity | B5: S0 | C5: 35 | D5: kg/m3 | F5: 12000 | G5: 31.5 | H5: 12000 | I5: 23
A6: Tidal Excursion | B6: E0 | C6: 7000 | D6: m | F6: 20000 | G6: 21
A7: Tidal Range | B7: H | C7: 1.4 | D7: m | F7: 25500 | G7: 13
A8: Fresh water salinity | B8: Cf | C8: 0 | D8: kg/m3 | F8: 28000 | G8: 10.5
F9: 31500 | G9: 7
A10: Calibration parameters | F10: 37500 | G10: 3.5
A11: Van Den Burgh | B11: K | C11: 0.2 | F11: 46000 | G11: 0.6
A12: Dispersion at mouth | B12: Do | C12: 28 | D12: m2/s
A13: Discharge | B13: Q | C13: 2 | D13: m3/s
A14: Alpha 0 | B14: α0 | C14: =C12/C13 -> 14 | D14: 1/m
A16: Geometry
A17: Area at mouth | B17: A0 | C17: =Overview!D18 -> 8100 | D17: m2
A18: Area at x1 | B18: A1 | C18: =Overview!D19 -> 1252.5699 | D18: m2
A19: Convergence length | B19: a1 | C19: =Overview!D20 -> 7500 | D19: m
A20: Convergence length 2 | B20: a2 | C20: =Overview!D21 -> 42000 | D20: m
A21: Inflection point | B21: x1 | C21: =Overview!D22 -> 14000 | D21: m
A22: Depth | B22: h0 | C22: =Overview!D23 -> 2.9 | D22: m
A24: Calculations | F24: REMARKS
A25: Beta | B25: β | C25: =$C$11*$C$19/C$14/$C$17 -> 0.013227513
A26: Alpha 1 | B26: α1 | C26: =C29/C13 -> 12.987647 | D26: 1/m
A27: Beta1 | B27: β1 | C27: =C11*C20/C26/C18 -> 0.51635313
A28: Salinity at x1 | B28: S1 | C28: =($C$5-$C$8)*(C29/C12)^(1/$C$11)+$C$8 -> 24.048074 | D28: kg/m3
A29: Dispersion at x1 | B29: D1 | C29: =C12*(1-C25*(EXP(C21/C19)-1)) -> 25.975295
A31: x: | B31: Shifted x | E31: A | F31: D | G31: S | H31: xLWS | I31: xHWS
A32: =A33-$C$4-9000 -> -18000 | E32: =IF(A32<=$C$21,$C$17*EXP(-A32/$C$19),$C$18*EXP(-(A32-$C$21)/$C$20)) -> 89287.729 | F32: =IF(A32<=$C$21,IF($C$12*(1-$C$25*(EXP(A32/$C$19)-1))>0,$C$12*(1-$C$25*(EXP(A32/$C$19)-1)),0),IF($C$29*(1-$C$27*(EXP((A32-$C$21)/$C$20)-1))>0,$C$29*(1-$C$27*(EXP((A32-$C$21)/$C$20)-1)),0)) -> 28.336771 | G32: =IF(A32<=$C$21,($C$5-$C$8)*(F32/$C$12)^(1/$C$11)+$C$8, ($C$28-$C$8)*(F32/$C$29)^(1/$C$11)+$C$8) -> 37.156064 | H32: =A32-$C$6/2 -> -21500 | I32: =A32+$C$6/2 -> -14500
A33: =A34-$C$4 -> -8000 | E33: =IF(A33<=$C$21,$C$17*EXP(-A33/$C$19),$C$18*EXP(-(A33-$C$21)/$C$20)) -> 23535.99 | F33: =IF(A33<=$C$21,IF($C$12*(1-$C$25*(EXP(A33/$C$19)-1))>0,$C$12*(1-$C$25*(EXP(A33/$C$19)-1)),0),IF($C$29*(1-$C$27*(EXP((A33-$C$21)/$C$20)-1))>0,$C$29*(1-$C$27*(EXP((A33-$C$21)/$C$20)-1)),0)) -> 28.242906 | G33: =IF(A33<=$C$21,($C$5-$C$8)*(F33/$C$12)^(1/$C$11)+$C$8, ($C$28-$C$8)*(F33/$C$29)^(1/$C$11)+$C$8) -> 36.544733 | H33: =A33-$C$6/2 -> -11500 | I33: =A33+$C$6/2 -> -4500
A34: =A35-$C$4 -> -7000 | E34: =IF(A34<=$C$21,$C$17*EXP(-A34/$C$19),$C$18*EXP(-(A34-$C$21)/$C$20)) -> 20598.07 | F34: =IF(A34<=$C$21,IF($C$12*(1-$C$25*(EXP(A34/$C$19)-1))>0,$C$12*(1-$C$25*(EXP(A34/$C$19)-1)),0),IF($C$29*(1-$C$27*(EXP((A34-$C$21)/$C$20)-1))>0,$C$29*(1-$C$27*(EXP((A34-$C$21)/$C$20)-1)),0)) -> 28.224726 | G34: =IF(A34<=$C$21,($C$5-$C$8)*(F34/$C$12)^(1/$C$11)+$C$8, ($C$28-$C$8)*(F34/$C$29)^(1/$C$11)+$C$8) -> 36.427262 | H34: =A34-$C$6/2 -> -10500 | I34: =A34+$C$6/2 -> -3500
A35: =A36-$C$4 -> -6000 | E35: =IF(A35<=$C$21,$C$17*EXP(-A35/$C$19),$C$18*EXP(-(A35-$C$21)/$C$20)) -> 18026.882 | F35: =IF(A35<=$C$21,IF($C$12*(1-$C$25*(EXP(A35/$C$19)-1))>0,$C$12*(1-$C$25*(EXP(A35/$C$19)-1)),0),IF($C$29*(1-$C$27*(EXP((A35-$C$21)/$C$20)-1))>0,$C$29*(1-$C$27*(EXP((A35-$C$21)/$C$20)-1)),0)) -> 28.203952 | G35: =IF(A35<=$C$21,($C$5-$C$8)*(F35/$C$12)^(1/$C$11)+$C$8, ($C$28-$C$8)*(F35/$C$29)^(1/$C$11)+$C$8) -> 36.293407 | H35: =A35-$C$6/2 -> -9500 | I35: =A35+$C$6/2 -> -2500
A36: =A37-$C$4 -> -5000 | E36: =IF(A36<=$C$21,$C$17*EXP(-A36/$C$19),$C$18*EXP(-(A36-$C$21)/$C$20)) -> 15776.646 | F36: =IF(A36<=$C$21,IF($C$12*(1-$C$25*(EXP(A36/$C$19)-1))>0,$C$12*(1-$C$25*(EXP(A36/$C$19)-1)),0),IF($C$29*(1-$C$27*(EXP((A36-$C$21)/$C$20)-1))>0,$C$29*(1-$C$27*(EXP((A36-$C$21)/$C$20)-1)),0)) -> 28.180216 | G36: =IF(A36<=$C$21,($C$5-$C$8)*(F36/$C$12)^(1/$C$11)+$C$8, ($C$28-$C$8)*(F36/$C$29)^(1/$C$11)+$C$8) -> 36.140942 | H36: =A36-$C$6/2 -> -8500 | I36: =A36+$C$6/2 -> -1500
A37: =A38-$C$4 -> -4000 | E37: =IF(A37<=$C$21,$C$17*EXP(-A37/$C$19),$C$18*EXP(-(A37-$C$21)/$C$20)) -> 13807.299 | F37: =IF(A37<=$C$21,IF($C$12*(1-$C$25*(EXP(A37/$C$19)-1))>0,$C$12*(1-$C$25*(EXP(A37/$C$19)-1)),0),IF($C$29*(1-$C$27*(EXP((A37-$C$21)/$C$20)-1))>0,$C$29*(1-$C$27*(EXP((A37-$C$21)/$C$20)-1)),0)) -> 28.153094 | G37: =IF(A37<=$C$21,($C$5-$C$8)*(F37/$C$12)^(1/$C$11)+$C$8, ($C$28-$C$8)*(F37/$C$29)^(1/$C$11)+$C$8) -> 35.967358 | H37: =A37-$C$6/2 -> -7500 | I37: =A37+$C$6/2 -> -500
A38: =A39-$C$4 -> -3000 | E38: =IF(A38<=$C$21,$C$17*EXP(-A38/$C$19),$C$18*EXP(-(A38-$C$21)/$C$20)) -> 12083.78 | F38: =IF(A38<=$C$21,IF($C$12*(1-$C$25*(EXP(A38/$C$19)-1))>0,$C$12*(1-$C$25*(EXP(A38/$C$19)-1)),0),IF($C$29*(1-$C$27*(EXP((A38-$C$21)/$C$20)-1))>0,$C$29*(1-$C$27*(EXP((A38-$C$21)/$C$20)-1)),0)) -> 28.122104 | G38: =IF(A38<=$C$21,($C$5-$C$8)*(F38/$C$12)^(1/$C$11)+$C$8, ($C$28-$C$8)*(F38/$C$29)^(1/$C$11)+$C$8) -> 35.769833 | H38: =A38-$C$6/2 -> -6500 | I38: =A38+$C$6/2 -> 500
A39: =A40-$C$4 -> -2000 | E39: =IF(A39<=$C$21,$C$17*EXP(-A39/$C$19),$C$18*EXP(-(A39-$C$21)/$C$20)) -> 10575.402 | F39: =IF(A39<=$C$21,IF($C$12*(1-$C$25*(EXP(A39/$C$19)-1))>0,$C$12*(1-$C$25*(EXP(A39/$C$19)-1)),0),IF($C$29*(1-$C$27*(EXP((A39-$C$21)/$C$20)-1))>0,$C$29*(1-$C$27*(EXP((A39-$C$21)/$C$20)-1)),0)) -> 28.086693 | G39: =IF(A39<=$C$21,($C$5-$C$8)*(F39/$C$12)^(1/$C$11)+$C$8, ($C$28-$C$8)*(F39/$C$29)^(1/$C$11)+$C$8) -> 35.545198 | H39: =A39-$C$6/2 -> -5500 | I39: =A39+$C$6/2 -> 1500
A40: =A41-$C$4 -> -1000 | E40: =IF(A40<=$C$21,$C$17*EXP(-A40/$C$19),$C$18*EXP(-(A40-$C$21)/$C$20)) -> 9255.3096 | F40: =IF(A40<=$C$21,IF($C$12*(1-$C$25*(EXP(A40/$C$19)-1))>0,$C$12*(1-$C$25*(EXP(A40/$C$19)-1)),0),IF($C$29*(1-$C$27*(EXP((A40-$C$21)/$C$20)-1))>0,$C$29*(1-$C$27*(EXP((A40-$C$21)/$C$20)-1)),0)) -> 28.046232 | G40: =IF(A40<=$C$21,($C$5-$C$8)*(F40/$C$12)^(1/$C$11)+$C$8, ($C$28-$C$8)*(F40/$C$29)^(1/$C$11)+$C$8) -> 35.289906 | H40: =A40-$C$6/2 -> -4500 | I40: =A40+$C$6/2 -> 2500
A41: 0 | E41: =IF(A41<=$C$21,$C$17*EXP(-A41/$C$19),$C$18*EXP(-(A41-$C$21)/$C$20)) -> 8100 | F41: =IF(A41<=$C$21,IF($C$12*(1-$C$25*(EXP(A41/$C$19)-1))>0,$C$12*(1-$C$25*(EXP(A41/$C$19)-1)),0),IF($C$29*(1-$C$27*(EXP((A41-$C$21)/$C$20)-1))>0,$C$29*(1-$C$27*(EXP((A41-$C$21)/$C$20)-1)),0)) -> 28 | G41: =IF(A41<=$C$21,($C$5-$C$8)*(F41/$C$12)^(1/$C$11)+$C$8, ($C$28-$C$8)*(F41/$C$29)^(1/$C$11)+$C$8) -> 35 | H41: =A41-$C$6/2 -> -3500 | I41: =A41+$C$6/2 -> 3500
A42: =A41+$C$4 -> 1000 | E42: =IF(A42<=$C$21,$C$17*EXP(-A42/$C$19),$C$18*EXP(-(A42-$C$21)/$C$20)) -> 7088.9039 | F42: =IF(A42<=$C$21,IF($C$12*(1-$C$25*(EXP(A42/$C$19)-1))>0,$C$12*(1-$C$25*(EXP(A42/$C$19)-1)),0),IF($C$29*(1-$C$27*(EXP((A42-$C$21)/$C$20)-1))>0,$C$29*(1-$C$27*(EXP((A42-$C$21)/$C$20)-1)),0)) -> 27.947174 | G42: =IF(A42<=$C$21,($C$5-$C$8)*(F42/$C$12)^(1/$C$11)+$C$8, ($C$28-$C$8)*(F42/$C$29)^(1/$C$11)+$C$8) -> 34.67108 | H42: =A42-$C$6/2 -> -2500 | I42: =A42+$C$6/2 -> 4500
A43: =A42+$C$4 -> 2000 | E43: =IF(A43<=$C$21,$C$17*EXP(-A43/$C$19),$C$18*EXP(-(A43-$C$21)/$C$20)) -> 6204.0195 | F43: =IF(A43<=$C$21,IF($C$12*(1-$C$25*(EXP(A43/$C$19)-1))>0,$C$12*(1-$C$25*(EXP(A43/$C$19)-1)),0),IF($C$29*(1-$C$27*(EXP((A43-$C$21)/$C$20)-1))>0,$C$29*(1-$C$27*(EXP((A43-$C$21)/$C$20)-1)),0)) -> 27.886813 | G43: =IF(A43<=$C$21,($C$5-$C$8)*(F43/$C$12)^(1/$C$11)+$C$8, ($C$28-$C$8)*(F43/$C$29)^(1/$C$11)+$C$8) -> 34.298277 | H43: =A43-$C$6/2 -> -1500 | I43: =A43+$C$6/2 -> 5500
...

Sheet 23-6-1993
A1: STEADY SALT INTRUSION MODEL (TA)
A2: Incomati 23-6-1993
A3: Input | F3: Measurements
A4: Step length | B4: dx | C4: 1000 | D4: m | F4: x (m) | G4: HWS | H4: x (m) | I4: LWS
A5: Sea salinity | B5: S0 | C5: 35 | D5: kg/m3 | F5: 0 | G5: 35.5 | H5: 11800 | I5: 13.7
A6: Tidal Excursion | B6: E0 | C6: 8000 | D6: m | F6: 1800 | G6: 35.5 | H6: 14200 | I6: 10
A7: Tidal Range | B7: H | C7: 1.4 | D7: m | F7: 5900 | G7: 33.6 | H7: 16400 | I7: 7.9
A8: Fresh water salinity | B8: Cf | C8: 0 | D8: kg/m3 | F8: 7500 | G8: 31 | H8: 17800 | I8: 5.9
F9: 11800 | G9: 29 | H9: 18700 | I9: 4.9
A10: Calibration parameters | F10: 14200 | G10: 24.77 | H10: 19600 | I10: 5
A11: Van Den Burgh | B11: K | C11: 0.2 | F11: 15100 | G11: 20.7 | H11: 22700 | I11: 3
A12: Dispersion at mouth | B12: Do | C12: 32 | D12: m2/s | F12: 17800 | G12: 16.75 | H12: 25700 | I12: 1.5
A13: Discharge | B13: Q | C13: 4 | D13: m3/s | F13: 18700 | G13: 14.79 | H13: 27100 | I13: 1
A14: Alpha 0 | B14: α0 | C14: =C12/C13 -> 8 | D14: 1/m | F14: 19600 | G14: 14.36 | H14: 31700 | I14: 0.4
F15: 22700 | G15: 9.9
A16: Geometry | F16: 25700 | G16: 6.4
A17: Area at mouth | B17: A0 | C17: =Overview!D18 -> 8100 | D17: m2 | F17: 27100 | G17: 4.5
A18: Area at x1 | B18: A1 | C18: =Overview!D19 -> 1252.5699 | D18: m2 | F18: 28700 | G18: 3.4
A19: Convergence length | B19: a1 | C19: =Overview!D20 -> 7500 | D19: m | F19: 31700 | G19: 2.2
A20: Convergence length 2 | B20: a2 | C20: =Overview!D21 -> 42000 | D20: m | F20: 34400 | G20: 1.2
A21: Inflection point | B21: x1 | C21: =Overview!D22 -> 14000 | D21: m | F21: 36200 | G21: 0.9
A22: Depth | B22: h0 | C22: =Overview!D23 -> 2.9 | D22: m | F22: 38700 | G22: 0.6
F23: 40900 | G23: 0.4
F24: 41600 | G24: 0.2
F25: 44700 | G25: 0.1
A27: Calculations | F27: REMARKS
A28: Beta | B28: β | C28: =$C$11*$C$19/C$14/$C$17 -> 0.023148148
A29: Alpha 1 | B29: α1 | C29: =C32/C13 -> 6.9876473 | D29: 1/m
A30: Beta1 | B30: β1 | C30: =C11*C20/C29/C18 -> 0.95972394
A31: Salinity at x1 | B31: S1 | C31: =($C$5-$C$8)*(C32/C12)^(1/$C$11)+$C$8 -> 17.793975 | D31: kg/m3
A32: Dispersion at x1 | B32: D1 | C32: =C12*(1-C28*(EXP(C21/C19)-1)) -> 27.950589
A34: x: | B34: Shifted x | E34: A | F34: D | G34: S | H34: xLWS | I34: xHWS
A35: =A36-$C$4-9000 -> -18000 | E35: =IF(A35<=$C$21,$C$17*EXP(-A35/$C$19),$C$18*EXP(-(A35-$C$21)/$C$20)) -> 89287.729 | F35: =IF(A35<=$C$21,IF($C$12*(1-$C$28*(EXP(A35/$C$19)-1))>0,$C$12*(1-$C$28*(EXP(A35/$C$19)-1)),0),IF($C$32*(1-$C$30*(EXP((A35-$C$21)/$C$20)-1))>0,$C$32*(1-$C$30*(EXP((A35-$C$21)/$C$20)-1)),0)) -> 32.673542 | G35: =IF(A35<=$C$21,($C$5-$C$8)*(F35/$C$12)^(1/$C$11)+$C$8, ($C$31-$C$8)*(F35/$C$32)^(1/$C$11)+$C$8) -> 38.841792 | H35: =A35-$C$6/2 -> -22000 | I35: =A35+$C$6/2 -> -14000
A36: =A37-$C$4 -> -8000 | E36: =IF(A36<=$C$21,$C$17*EXP(-A36/$C$19),$C$18*EXP(-(A36-$C$21)/$C$20)) -> 23535.99 | F36: =IF(A36<=$C$21,IF($C$12*(1-$C$28*(EXP(A36/$C$19)-1))>0,$C$12*(1-$C$28*(EXP(A36/$C$19)-1)),0),IF($C$32*(1-$C$30*(EXP((A36-$C$21)/$C$20)-1))>0,$C$32*(1-$C$30*(EXP((A36-$C$21)/$C$20)-1)),0)) -> 32.485812 | G36: =IF(A36<=$C$21,($C$5-$C$8)*(F36/$C$12)^(1/$C$11)+$C$8, ($C$31-$C$8)*(F36/$C$32)^(1/$C$11)+$C$8) -> 37.738687 | H36: =A36-$C$6/2 -> -12000 | I36: =A36+$C$6/2 -> -4000
A37: =A38-$C$4 -> -7000 | E37: =IF(A37<=$C$21,$C$17*EXP(-A37/$C$19),$C$18*EXP(-(A37-$C$21)/$C$20)) -> 20598.07 | F37: =IF(A37<=$C$21,IF($C$12*(1-$C$28*(EXP(A37/$C$19)-1))>0,$C$12*(1-$C$28*(EXP(A37/$C$19)-1)),0),IF($C$32*(1-$C$30*(EXP((A37-$C$21)/$C$20)-1))>0,$C$32*(1-$C$30*(EXP((A37-$C$21)/$C$20)-1)),0)) -> 32.449451 | G37: =IF(A37<=$C$21,($C$5-$C$8)*(F37/$C$12)^(1/$C$11)+$C$8, ($C$31-$C$8)*(F37/$C$32)^(1/$C$11)+$C$8) -> 37.527959 | H37: =A37-$C$6/2 -> -11000 | I37: =A37+$C$6/2 -> -3000
A38: =A39-$C$4 -> -6000 | E38: =IF(A38<=$C$21,$C$17*EXP(-A38/$C$19),$C$18*EXP(-(A38-$C$21)/$C$20)) -> 18026.882 | F38: =IF(A38<=$C$21,IF($C$12*(1-$C$28*(EXP(A38/$C$19)-1))>0,$C$12*(1-$C$28*(EXP(A38/$C$19)-1)),0),IF($C$32*(1-$C$30*(EXP((A38-$C$21)/$C$20)-1))>0,$C$32*(1-$C$30*(EXP((A38-$C$21)/$C$20)-1)),0)) -> 32.407904 | G38: =IF(A38<=$C$21,($C$5-$C$8)*(F38/$C$12)^(1/$C$11)+$C$8, ($C$31-$C$8)*(F38/$C$32)^(1/$C$11)+$C$8) -> 37.288327 | H38: =A38-$C$6/2 -> -10000 | I38: =A38+$C$6/2 -> -2000
A39: =A40-$C$4 -> -5000 | E39: =IF(A39<=$C$21,$C$17*EXP(-A39/$C$19),$C$18*EXP(-(A39-$C$21)/$C$20)) -> 15776.646 | F39: =IF(A39<=$C$21,IF($C$12*(1-$C$28*(EXP(A39/$C$19)-1))>0,$C$12*(1-$C$28*(EXP(A39/$C$19)-1)),0),IF($C$32*(1-$C$30*(EXP((A39-$C$21)/$C$20)-1))>0,$C$32*(1-$C$30*(EXP((A39-$C$21)/$C$20)-1)),0)) -> 32.360432 | G39: =IF(A39<=$C$21,($C$5-$C$8)*(F39/$C$12)^(1/$C$11)+$C$8, ($C$31-$C$8)*(F39/$C$32)^(1/$C$11)+$C$8) -> 37.016017 | H39: =A39-$C$6/2 -> -9000 | I39: =A39+$C$6/2 -> -1000
A40: =A41-$C$4 -> -4000 | E40: =IF(A40<=$C$21,$C$17*EXP(-A40/$C$19),$C$18*EXP(-(A40-$C$21)/$C$20)) -> 13807.299 | F40: =IF(A40<=$C$21,IF($C$12*(1-$C$28*(EXP(A40/$C$19)-1))>0,$C$12*(1-$C$28*(EXP(A40/$C$19)-1)),0),IF($C$32*(1-$C$30*(EXP((A40-$C$21)/$C$20)-1))>0,$C$32*(1-$C$30*(EXP((A40-$C$21)/$C$20)-1)),0)) -> 32.306188 | G40: =IF(A40<=$C$21,($C$5-$C$8)*(F40/$C$12)^(1/$C$11)+$C$8, ($C$31-$C$8)*(F40/$C$32)^(1/$C$11)+$C$8) -> 36.706817 | H40: =A40-$C$6/2 -> -8000 | I40: =A40+$C$6/2 -> 0
A41: =A42-$C$4 -> -3000 | E41: =IF(A41<=$C$21,$C$17*EXP(-A41/$C$19),$C$18*EXP(-(A41-$C$21)/$C$20)) -> 12083.78 | F41: =IF(A41<=$C$21,IF($C$12*(1-$C$28*(EXP(A41/$C$19)-1))>0,$C$12*(1-$C$28*(EXP(A41/$C$19)-1)),0),IF($C$32*(1-$C$30*(EXP((A41-$C$21)/$C$20)-1))>0,$C$32*(1-$C$30*(EXP((A41-$C$21)/$C$20)-1)),0)) -> 32.244207 | G41: =IF(A41<=$C$21,($C$5-$C$8)*(F41/$C$12)^(1/$C$11)+$C$8, ($C$31-$C$8)*(F41/$C$32)^(1/$C$11)+$C$8) -> 36.356049 | H41: =A41-$C$6/2 -> -7000 | I41: =A41+$C$6/2 -> 1000
A42: =A43-$C$4 -> -2000 | E42: =IF(A42<=$C$21,$C$17*EXP(-A42/$C$19),$C$18*EXP(-(A42-$C$21)/$C$20)) -> 10575.402 | F42: =IF(A42<=$C$21,IF($C$12*(1-$C$28*(EXP(A42/$C$19)-1))>0,$C$12*(1-$C$28*(EXP(A42/$C$19)-1)),0),IF($C$32*(1-$C$30*(EXP((A42-$C$21)/$C$20)-1))>0,$C$32*(1-$C$30*(EXP((A42-$C$21)/$C$20)-1)),0)) -> 32.173386 | G42: =IF(A42<=$C$21,($C$5-$C$8)*(F42/$C$12)^(1/$C$11)+$C$8, ($C$31-$C$8)*(F42/$C$32)^(1/$C$11)+$C$8) -> 35.958538 | H42: =A42-$C$6/2 -> -6000 | I42: =A42+$C$6/2 -> 2000
...

Sheet 7-7-1993
A1: STEADY SALT INTRUSION MODEL (TA)
A2: Incomati 7-7-1993
A3: Input | F3: Measurements
A4: Step length | B4: dx | C4: 1000 | D4: m | F4: x (m) | G4: HWS | H4: x (m) | I4: LWS
A5: Sea salinity | B5: S0 | C5: 35 | D5: kg/m3 | F5: 16600 | G5: 19.61 | H5: 1800 | I5: 29.29
A6: Tidal Excursion | B6: E0 | C6: 9000 | D6: m | F6: 18100 | G6: 16.9 | H6: 6400 | I6: 23.29
A7: Tidal Range | B7: H | C7: 2.6 | D7: m | F7: 20600 | H7: 7150 | I7: 23.5
A8: Fresh water salinity | B8: Cf | C8: 0 | D8: kg/m3 | F8: 22700 | G8: 10.2 | H8: 7900 | I8: 20.14
F9: 27100 | G9: 5 | H9: 11700 | I9: 13.11
A10: Calibration parameters | F10: 29200 | G10: 4.1 | H10: 14100 | I10: 9.55
A11: Van Den Burgh | B11: K | C11: 0.2 | F11: 31700 | G11: 2.3 | H11: 15000 | I11: 7.88
A12: Dispersion at mouth | B12: Do | C12: 30 | D12: m2/s | F12: 36200 | G12: 1.42 | H12: 16600 | I12: 7.35
A13: Discharge | B13: Q | C13: 4 | D13: m3/s | F13: 38700 | G13: 1.09 | H13: 18100 | I13: 4.97
A14: Alpha 0 | B14: α0 | C14: =C12/C13 -> 7.5 | D14: 1/m | F14: 40100 | G14: 1 | H14: 20600 | I14: 4.63
F15: 41900 | G15: 0.98 | H15: 22700 | I15: 2.79
A16: Geometry | F16: 44700 | G16: 0.74
A17: Area at mouth | B17: A0 | C17: =Overview!D18 -> 8100 | D17: m2
A18: Area at x1 | B18: A1 | C18: =Overview!D19 -> 1252.5699 | D18: m2
A19: Convergence length | B19: a1 | C19: =Overview!D20 -> 7500 | D19: m
A20: Convergence length 2 | B20: a2 | C20: =Overview!D21 -> 42000 | D20: m
A21: Inflection point | B21: x1 | C21: =Overview!D22 -> 14000 | D21: m
A22: Depth | B22: h0 | C22: =Overview!D23 -> 2.9 | D22: m
A24: Calculations | F24: REMARKS
A25: Beta | B25: β | C25: =$C$11*$C$19/C$14/$C$17 -> 0.024691358
A26: Alpha 1 | B26: α1 | C26: =C29/C13 -> 6.4876473 | D26: 1/m
A27: Beta1 | B27: β1 | C27: =C11*C20/C26/C18 -> 1.0336894
A28: Salinity at x1 | B28: S1 | C28: =($C$5-$C$8)*(C29/C12)^(1/$C$11)+$C$8 -> 16.9511 | D28: kg/m3
A29: Dispersion at x1 | B29: D1 | C29: =C12*(1-C25*(EXP(C21/C19)-1)) -> 25.950589
A31: x: | B31: Shifted x | E31: A | F31: D | G31: S | H31: xLWS | I31: xHWS
A32: =A33-$C$4-9000 -> -18000 | E32: =IF(A32<=$C$21,$C$17*EXP(-A32/$C$19),$C$18*EXP(-(A32-$C$21)/$C$20)) -> 89287.729 | F32: =IF(A32<=$C$21,IF($C$12*(1-$C$25*(EXP(A32/$C$19)-1))>0,$C$12*(1-$C$25*(EXP(A32/$C$19)-1)),0),IF($C$29*(1-$C$27*(EXP((A32-$C$21)/$C$20)-1))>0,$C$29*(1-$C$27*(EXP((A32-$C$21)/$C$20)-1)),0)) -> 30.673542 | G32: =IF(A32<=$C$21,($C$5-$C$8)*(F32/$C$12)^(1/$C$11)+$C$8, ($C$28-$C$8)*(F32/$C$29)^(1/$C$11)+$C$8) -> 39.109425 | H32: =A32-$C$6/2 -> -22500 | I32: =A32+$C$6/2 -> -13500
A33: =A34-$C$4 -> -8000 | E33: =IF(A33<=$C$21,$C$17*EXP(-A33/$C$19),$C$18*EXP(-(A33-$C$21)/$C$20)) -> 23535.99 | F33: =IF(A33<=$C$21,IF($C$12*(1-$C$25*(EXP(A33/$C$19)-1))>0,$C$12*(1-$C$25*(EXP(A33/$C$19)-1)),0),IF($C$29*(1-$C$27*(EXP((A33-$C$21)/$C$20)-1))>0,$C$29*(1-$C$27*(EXP((A33-$C$21)/$C$20)-1)),0)) -> 30.485812 | G33: =IF(A33<=$C$21,($C$5-$C$8)*(F33/$C$12)^(1/$C$11)+$C$8, ($C$28-$C$8)*(F33/$C$29)^(1/$C$11)+$C$8) -> 37.927185 | H33: =A33-$C$6/2 -> -12500 | I33: =A33+$C$6/2 -> -3500
A34: =A35-$C$4 -> -7000 | E34: =IF(A34<=$C$21,$C$17*EXP(-A34/$C$19),$C$18*EXP(-(A34-$C$21)/$C$20)) -> 20598.07 | F34: =IF(A34<=$C$21,IF($C$12*(1-$C$25*(EXP(A34/$C$19)-1))>0,$C$12*(1-$C$25*(EXP(A34/$C$19)-1)),0),IF($C$29*(1-$C$27*(EXP((A34-$C$21)/$C$20)-1))>0,$C$29*(1-$C$27*(EXP((A34-$C$21)/$C$20)-1)),0)) -> 30.449451 | G34: =IF(A34<=$C$21,($C$5-$C$8)*(F34/$C$12)^(1/$C$11)+$C$8, ($C$28-$C$8)*(F34/$C$29)^(1/$C$11)+$C$8) -> 37.701543 | H34: =A34-$C$6/2 -> -11500 | I34: =A34+$C$6/2 -> -2500
A35: =A36-$C$4 -> -6000 | E35: =IF(A35<=$C$21,$C$17*EXP(-A35/$C$19),$C$18*EXP(-(A35-$C$21)/$C$20)) -> 18026.882 | F35: =IF(A35<=$C$21,IF($C$12*(1-$C$25*(EXP(A35/$C$19)-1))>0,$C$12*(1-$C$25*(EXP(A35/$C$19)-1)),0),IF($C$29*(1-$C$27*(EXP((A35-$C$21)/$C$20)-1))>0,$C$29*(1-$C$27*(EXP((A35-$C$21)/$C$20)-1)),0)) -> 30.407904 | G35: =IF(A35<=$C$21,($C$5-$C$8)*(F35/$C$12)^(1/$C$11)+$C$8, ($C$28-$C$8)*(F35/$C$29)^(1/$C$11)+$C$8) -> 37.445034 | H35: =A35-$C$6/2 -> -10500 | I35: =A35+$C$6/2 -> -1500
A36: =A37-$C$4 -> -5000 | E36: =IF(A36<=$C$21,$C$17*EXP(-A36/$C$19),$C$18*EXP(-(A36-$C$21)/$C$20)) -> 15776.646 | F36: =IF(A36<=$C$21,IF($C$12*(1-$C$25*(EXP(A36/$C$19)-1))>0,$C$12*(1-$C$25*(EXP(A36/$C$19)-1)),0),IF($C$29*(1-$C$27*(EXP((A36-$C$21)/$C$20)-1))>0,$C$29*(1-$C$27*(EXP((A36-$C$21)/$C$20)-1)),0)) -> 30.360432 | G36: =IF(A36<=$C$21,($C$5-$C$8)*(F36/$C$12)^(1/$C$11)+$C$8, ($C$28-$C$8)*(F36/$C$29)^(1/$C$11)+$C$8) -> 37.15365 | H36: =A36-$C$6/2 -> -9500 | I36: =A36+$C$6/2 -> -500
A37: =A38-$C$4 -> -4000 | E37: =IF(A37<=$C$21,$C$17*EXP(-A37/$C$19),$C$18*EXP(-(A37-$C$21)/$C$20)) -> 13807.299 | F37: =IF(A37<=$C$21,IF($C$12*(1-$C$25*(EXP(A37/$C$19)-1))>0,$C$12*(1-$C$25*(EXP(A37/$C$19)-1)),0),IF($C$29*(1-$C$27*(EXP((A37-$C$21)/$C$20)-1))>0,$C$29*(1-$C$27*(EXP((A37-$C$21)/$C$20)-1)),0)) -> 30.306188 | G37: =IF(A37<=$C$21,($C$5-$C$8)*(F37/$C$12)^(1/$C$11)+$C$8, ($C$28-$C$8)*(F37/$C$29)^(1/$C$11)+$C$8) -> 36.822929 | H37: =A37-$C$6/2 -> -8500 | I37: =A37+$C$6/2 -> 500
A38: =A39-$C$4 -> -3000 | E38: =IF(A38<=$C$21,$C$17*EXP(-A38/$C$19),$C$18*EXP(-(A38-$C$21)/$C$20)) -> 12083.78 | F38: =IF(A38<=$C$21,IF($C$12*(1-$C$25*(EXP(A38/$C$19)-1))>0,$C$12*(1-$C$25*(EXP(A38/$C$19)-1)),0),IF($C$29*(1-$C$27*(EXP((A38-$C$21)/$C$20)-1))>0,$C$29*(1-$C$27*(EXP((A38-$C$21)/$C$20)-1)),0)) -> 30.244207 | G38: =IF(A38<=$C$21,($C$5-$C$8)*(F38/$C$12)^(1/$C$11)+$C$8, ($C$28-$C$8)*(F38/$C$29)^(1/$C$11)+$C$8) -> 36.447925 | H38: =A38-$C$6/2 -> -7500 | I38: =A38+$C$6/2 -> 1500
A39: =A40-$C$4 -> -2000 | E39: =IF(A39<=$C$21,$C$17*EXP(-A39/$C$19),$C$18*EXP(-(A39-$C$21)/$C$20)) -> 10575.402 | F39: =IF(A39<=$C$21,IF($C$12*(1-$C$25*(EXP(A39/$C$19)-1))>0,$C$12*(1-$C$25*(EXP(A39/$C$19)-1)),0),IF($C$29*(1-$C$27*(EXP((A39-$C$21)/$C$20)-1))>0,$C$29*(1-$C$27*(EXP((A39-$C$21)/$C$20)-1)),0)) -> 30.173386 | G39: =IF(A39<=$C$21,($C$5-$C$8)*(F39/$C$12)^(1/$C$11)+$C$8, ($C$28-$C$8)*(F39/$C$29)^(1/$C$11)+$C$8) -> 36.02318 | H39: =A39-$C$6/2 -> -6500 | I39: =A39+$C$6/2 -> 2500
A40: =A41-$C$4 -> -1000 | E40: =IF(A40<=$C$21,$C$17*EXP(-A40/$C$19),$C$18*EXP(-(A40-$C$21)/$C$20)) -> 9255.3096 | F40: =IF(A40<=$C$21,IF($C$12*(1-$C$25*(EXP(A40/$C$19)-1))>0,$C$12*(1-$C$25*(EXP(A40/$C$19)-1)),0),IF($C$29*(1-$C$27*(EXP((A40-$C$21)/$C$20)-1))>0,$C$29*(1-$C$27*(EXP((A40-$C$21)/$C$20)-1)),0)) -> 30.092464 | G40: =IF(A40<=$C$21,($C$5-$C$8)*(F40/$C$12)^(1/$C$11)+$C$8, ($C$28-$C$8)*(F40/$C$29)^(1/$C$11)+$C$8) -> 35.54271 | H40: =A40-$C$6/2 -> -5500 | I40: =A40+$C$6/2 -> 3500
A41: 0 | E41: =IF(A41<=$C$21,$C$17*EXP(-A41/$C$19),$C$18*EXP(-(A41-$C$21)/$C$20)) -> 8100 | F41: =IF(A41<=$C$21,IF($C$12*(1-$C$25*(EXP(A41/$C$19)-1))>0,$C$12*(1-$C$25*(EXP(A41/$C$19)-1)),0),IF($C$29*(1-$C$27*(EXP((A41-$C$21)/$C$20)-1))>0,$C$29*(1-$C$27*(EXP((A41-$C$21)/$C$20)-1)),0)) -> 30 | G41: =IF(A41<=$C$21,($C$5-$C$8)*(F41/$C$12)^(1/$C$11)+$C$8, ($C$28-$C$8)*(F41/$C$29)^(1/$C$11)+$C$8) -> 35 | H41: =A41-$C$6/2 -> -4500 | I41: =A41+$C$6/2 -> 4500
A42: =A41+$C$4 -> 1000 | E42: =IF(A42<=$C$21,$C$17*EXP(-A42/$C$19),$C$18*EXP(-(A42-$C$21)/$C$20)) -> 7088.9039 | F42: =IF(A42<=$C$21,IF($C$12*(1-$C$25*(EXP(A42/$C$19)-1))>0,$C$12*(1-$C$25*(EXP(A42/$C$19)-1)),0),IF($C$29*(1-$C$27*(EXP((A42-$C$21)/$C$20)-1))>0,$C$29*(1-$C$27*(EXP((A42-$C$21)/$C$20)-1)),0)) -> 29.894348 | G42: =IF(A42<=$C$21,($C$5-$C$8)*(F42/$C$12)^(1/$C$11)+$C$8, ($C$28-$C$8)*(F42/$C$29)^(1/$C$11)+$C$8) -> 34.38802 | H42: =A42-$C$6/2 -> -3500 | I42: =A42+$C$6/2 -> 5500
...
