Workbook

Sheet Overview
B2: This sheet is provided as a tool to calculate salt intrusion in alluvial estuaries. It uses the analytical model as described in Salinity and Tides by H.H.G Savenije 2005
B14: Estuary
B15: Lalang
B17: Geometry
B18: Area at mouth | C18: A0 | D18: 2070 | E18: m2
B19: Area at x1 | C19: A1 | D19: 2070 | E19: m2
B20: Convergence length | C20: a1 | D20: 217000 | E20: m
B21: Convergence length 2 | C21: a2 | D21: 217000 | E21: m
B22: Inflection point | C22: x1 | D22: 0 | E22: m
B23: Depth | C23: h0 | D23: 10.6 | E23: m
B25: Measurements
B26: 32801

Sheet 20-10-1989
A1: STEADY SALT INTRUSION MODEL (TA)
A2: Lalang 20-10-1989
A3: Input | F3: Measurements
A4: Step length | B4: dx | C4: 1000 | D4: m | F4: x (m) | G4: HWS | H4: x (m) | I4: LWS
A5: Sea salinity | B5: S0 | C5: 18 | D5: kg/m3 | F5: 0 | G5: 26 | H5: 0 | I5: 10
A6: Tidal Excursion | B6: E0 | C6: 27000 | D6: m | F6: 5000 | G6: 19 | H6: 5000 | I6: 6
A7: Tidal Range | B7: H | C7: 2.6 | D7: m | F7: 10000 | G7: 22.5 | H7: 10000 | I7: 4
A8: Fresh water salinity | B8: Cf | C8: 0 | D8: kg/m3 | F8: 12900 | G8: 22.5 | H8: 13000 | I8: 2
F9: 15000 | G9: =20+3/10*5 -> 21.5 | H9: 15000 | I9: 0.5
A10: Calibration parameters | F10: 20000 | G10: 20
A11: Van Den Burgh | B11: K | C11: 0.7 | F11: 25000 | G11: 16.5
A12: Dispersion at mouth | B12: Do | C12: 1500 | D12: m2/s | F12: 30000 | G12: 12
A13: Discharge | B13: Q | C13: 120 | D13: m3/s | F13: 35000 | G13: 7
A14: Alpha 0 | B14: α0 | C14: =C12/C13 -> 12.5 | D14: 1/m | F14: 40000 | G14: 3
F15: 42000 | G15: 1
A16: Geometry | F16: 45000 | G16: 0.5
A17: Area at mouth | B17: A0 | C17: =Overview!D18 -> 2070 | D17: m2
A18: Area at x1 | B18: A1 | C18: =Overview!D19 -> 2070 | D18: m2
A19: Convergence length | B19: a1 | C19: =Overview!D20 -> 217000 | D19: m
A20: Convergence length 2 | B20: a2 | C20: =Overview!D21 -> 217000 | D20: m
A21: Inflection point | B21: x1 | C21: =Overview!D22 -> 0 | D21: m
A22: Depth | B22: h0 | C22: =Overview!D23 -> 10.6 | D22: m
A24: Calculations | F24: REMARKS
A25: Beta | B25: β | C25: =$C$11*$C$19/C$14/$C$17 -> 5.8705314
A26: Alpha 1 | B26: α1 | C26: =C29/C13 -> 12.5 | D26: 1/m
A27: Beta1 | B27: β1 | C27: =C11*C20/C26/C18 -> 5.8705314
A28: Salinity at x1 | B28: S1 | C28: =($C$5-$C$8)*(C29/C12)^(1/$C$11)+$C$8 -> 18 | D28: kg/m3
A29: Dispersion at x1 | B29: D1 | C29: =C12*(1-C25*(EXP(C21/C19)-1)) -> 1500
A31: x: | B31: Shifted x | E31: A | F31: D | G31: S | H31: xLWS | I31: xHWS
A32: =A33-$C$4-9000 -> -18000 | E32: =IF(A32<=$C$21,$C$17*EXP(-A32/$C$19),$C$18*EXP(-(A32-$C$21)/$C$20)) -> 2249.0275 | F32: =IF(A32<=$C$21,IF($C$12*(1-$C$25*(EXP(A32/$C$19)-1))>0,$C$12*(1-$C$25*(EXP(A32/$C$19)-1)),0),IF($C$29*(1-$C$27*(EXP((A32-$C$21)/$C$20)-1))>0,$C$29*(1-$C$27*(EXP((A32-$C$21)/$C$20)-1)),0)) -> 2200.9608 | G32: =IF(A32<=$C$21,($C$5-$C$8)*(F32/$C$12)^(1/$C$11)+$C$8, ($C$28-$C$8)*(F32/$C$29)^(1/$C$11)+$C$8) -> 31.128609 | H32: =A32-$C$6/2 -> -31500 | I32: =A32+$C$6/2 -> -4500
A33: =A34-$C$4 -> -8000 | E33: =IF(A33<=$C$21,$C$17*EXP(-A33/$C$19),$C$18*EXP(-(A33-$C$21)/$C$20)) -> 2147.7375 | F33: =IF(A33<=$C$21,IF($C$12*(1-$C$25*(EXP(A33/$C$19)-1))>0,$C$12*(1-$C$25*(EXP(A33/$C$19)-1)),0),IF($C$29*(1-$C$27*(EXP((A33-$C$21)/$C$20)-1))>0,$C$29*(1-$C$27*(EXP((A33-$C$21)/$C$20)-1)),0)) -> 1818.7264 | G33: =IF(A33<=$C$21,($C$5-$C$8)*(F33/$C$12)^(1/$C$11)+$C$8, ($C$28-$C$8)*(F33/$C$29)^(1/$C$11)+$C$8) -> 23.703355 | H33: =A33-$C$6/2 -> -21500 | I33: =A33+$C$6/2 -> 5500
A34: =A35-$C$4 -> -7000 | E34: =IF(A34<=$C$21,$C$17*EXP(-A34/$C$19),$C$18*EXP(-(A34-$C$21)/$C$20)) -> 2137.8629 | F34: =IF(A34<=$C$21,IF($C$12*(1-$C$25*(EXP(A34/$C$19)-1))>0,$C$12*(1-$C$25*(EXP(A34/$C$19)-1)),0),IF($C$29*(1-$C$27*(EXP((A34-$C$21)/$C$20)-1))>0,$C$29*(1-$C$27*(EXP((A34-$C$21)/$C$20)-1)),0)) -> 1779.5253 | G34: =IF(A34<=$C$21,($C$5-$C$8)*(F34/$C$12)^(1/$C$11)+$C$8, ($C$28-$C$8)*(F34/$C$29)^(1/$C$11)+$C$8) -> 22.976873 | H34: =A34-$C$6/2 -> -20500 | I34: =A34+$C$6/2 -> 6500
A35: =A36-$C$4 -> -6000 | E35: =IF(A35<=$C$21,$C$17*EXP(-A35/$C$19),$C$18*EXP(-(A35-$C$21)/$C$20)) -> 2128.0336 | F35: =IF(A35<=$C$21,IF($C$12*(1-$C$25*(EXP(A35/$C$19)-1))>0,$C$12*(1-$C$25*(EXP(A35/$C$19)-1)),0),IF($C$29*(1-$C$27*(EXP((A35-$C$21)/$C$20)-1))>0,$C$29*(1-$C$27*(EXP((A35-$C$21)/$C$20)-1)),0)) -> 1740.143 | G35: =IF(A35<=$C$21,($C$5-$C$8)*(F35/$C$12)^(1/$C$11)+$C$8, ($C$28-$C$8)*(F35/$C$29)^(1/$C$11)+$C$8) -> 22.253911 | H35: =A35-$C$6/2 -> -19500 | I35: =A35+$C$6/2 -> 7500
A36: =A37-$C$4 -> -5000 | E36: =IF(A36<=$C$21,$C$17*EXP(-A36/$C$19),$C$18*EXP(-(A36-$C$21)/$C$20)) -> 2118.2496 | F36: =IF(A36<=$C$21,IF($C$12*(1-$C$25*(EXP(A36/$C$19)-1))>0,$C$12*(1-$C$25*(EXP(A36/$C$19)-1)),0),IF($C$29*(1-$C$27*(EXP((A36-$C$21)/$C$20)-1))>0,$C$29*(1-$C$27*(EXP((A36-$C$21)/$C$20)-1)),0)) -> 1700.5789 | G36: =IF(A36<=$C$21,($C$5-$C$8)*(F36/$C$12)^(1/$C$11)+$C$8, ($C$28-$C$8)*(F36/$C$29)^(1/$C$11)+$C$8) -> 21.534636 | H36: =A36-$C$6/2 -> -18500 | I36: =A36+$C$6/2 -> 8500
A37: =A38-$C$4 -> -4000 | E37: =IF(A37<=$C$21,$C$17*EXP(-A37/$C$19),$C$18*EXP(-(A37-$C$21)/$C$20)) -> 2108.5105 | F37: =IF(A37<=$C$21,IF($C$12*(1-$C$25*(EXP(A37/$C$19)-1))>0,$C$12*(1-$C$25*(EXP(A37/$C$19)-1)),0),IF($C$29*(1-$C$27*(EXP((A37-$C$21)/$C$20)-1))>0,$C$29*(1-$C$27*(EXP((A37-$C$21)/$C$20)-1)),0)) -> 1660.832 | G37: =IF(A37<=$C$21,($C$5-$C$8)*(F37/$C$12)^(1/$C$11)+$C$8, ($C$28-$C$8)*(F37/$C$29)^(1/$C$11)+$C$8) -> 20.819225 | H37: =A37-$C$6/2 -> -17500 | I37: =A37+$C$6/2 -> 9500
A38: =A39-$C$4 -> -3000 | E38: =IF(A38<=$C$21,$C$17*EXP(-A38/$C$19),$C$18*EXP(-(A38-$C$21)/$C$20)) -> 2098.8162 | F38: =IF(A38<=$C$21,IF($C$12*(1-$C$25*(EXP(A38/$C$19)-1))>0,$C$12*(1-$C$25*(EXP(A38/$C$19)-1)),0),IF($C$29*(1-$C$27*(EXP((A38-$C$21)/$C$20)-1))>0,$C$29*(1-$C$27*(EXP((A38-$C$21)/$C$20)-1)),0)) -> 1620.9015 | G38: =IF(A38<=$C$21,($C$5-$C$8)*(F38/$C$12)^(1/$C$11)+$C$8, ($C$28-$C$8)*(F38/$C$29)^(1/$C$11)+$C$8) -> 20.107861 | H38: =A38-$C$6/2 -> -16500 | I38: =A38+$C$6/2 -> 10500
A39: =A40-$C$4 -> -2000 | E39: =IF(A39<=$C$21,$C$17*EXP(-A39/$C$19),$C$18*EXP(-(A39-$C$21)/$C$20)) -> 2089.1665 | F39: =IF(A39<=$C$21,IF($C$12*(1-$C$25*(EXP(A39/$C$19)-1))>0,$C$12*(1-$C$25*(EXP(A39/$C$19)-1)),0),IF($C$29*(1-$C$27*(EXP((A39-$C$21)/$C$20)-1))>0,$C$29*(1-$C$27*(EXP((A39-$C$21)/$C$20)-1)),0)) -> 1580.7866 | G39: =IF(A39<=$C$21,($C$5-$C$8)*(F39/$C$12)^(1/$C$11)+$C$8, ($C$28-$C$8)*(F39/$C$29)^(1/$C$11)+$C$8) -> 19.400735 | H39: =A39-$C$6/2 -> -15500 | I39: =A39+$C$6/2 -> 11500
A40: =A41-$C$4 -> -1000 | E40: =IF(A40<=$C$21,$C$17*EXP(-A40/$C$19),$C$18*EXP(-(A40-$C$21)/$C$20)) -> 2079.5612 | F40: =IF(A40<=$C$21,IF($C$12*(1-$C$25*(EXP(A40/$C$19)-1))>0,$C$12*(1-$C$25*(EXP(A40/$C$19)-1)),0),IF($C$29*(1-$C$27*(EXP((A40-$C$21)/$C$20)-1))>0,$C$29*(1-$C$27*(EXP((A40-$C$21)/$C$20)-1)),0)) -> 1540.4864 | G40: =IF(A40<=$C$21,($C$5-$C$8)*(F40/$C$12)^(1/$C$11)+$C$8, ($C$28-$C$8)*(F40/$C$29)^(1/$C$11)+$C$8) -> 18.698046 | H40: =A40-$C$6/2 -> -14500 | I40: =A40+$C$6/2 -> 12500
A41: 0 | E41: =IF(A41<=$C$21,$C$17*EXP(-A41/$C$19),$C$18*EXP(-(A41-$C$21)/$C$20)) -> 2070 | F41: =IF(A41<=$C$21,IF($C$12*(1-$C$25*(EXP(A41/$C$19)-1))>0,$C$12*(1-$C$25*(EXP(A41/$C$19)-1)),0),IF($C$29*(1-$C$27*(EXP((A41-$C$21)/$C$20)-1))>0,$C$29*(1-$C$27*(EXP((A41-$C$21)/$C$20)-1)),0)) -> 1500 | G41: =IF(A41<=$C$21,($C$5-$C$8)*(F41/$C$12)^(1/$C$11)+$C$8, ($C$28-$C$8)*(F41/$C$29)^(1/$C$11)+$C$8) -> 18 | H41: =A41-$C$6/2 -> -13500 | I41: =A41+$C$6/2 -> 13500
A42: =A41+$C$4 -> 1000 | E42: =IF(A42<=$C$21,$C$17*EXP(-A42/$C$19),$C$18*EXP(-(A42-$C$21)/$C$20)) -> 2060.4828 | F42: =IF(A42<=$C$21,IF($C$12*(1-$C$25*(EXP(A42/$C$19)-1))>0,$C$12*(1-$C$25*(EXP(A42/$C$19)-1)),0),IF($C$29*(1-$C$27*(EXP((A42-$C$21)/$C$20)-1))>0,$C$29*(1-$C$27*(EXP((A42-$C$21)/$C$20)-1)),0)) -> 1459.3266 | G42: =IF(A42<=$C$21,($C$5-$C$8)*(F42/$C$12)^(1/$C$11)+$C$8, ($C$28-$C$8)*(F42/$C$29)^(1/$C$11)+$C$8) -> 17.306815 | H42: =A42-$C$6/2 -> -12500 | I42: =A42+$C$6/2 -> 14500
A43: =A42+$C$4 -> 2000 | E43: =IF(A43<=$C$21,$C$17*EXP(-A43/$C$19),$C$18*EXP(-(A43-$C$21)/$C$20)) -> 2051.0093 | F43: =IF(A43<=$C$21,IF($C$12*(1-$C$25*(EXP(A43/$C$19)-1))>0,$C$12*(1-$C$25*(EXP(A43/$C$19)-1)),0),IF($C$29*(1-$C$27*(EXP((A43-$C$21)/$C$20)-1))>0,$C$29*(1-$C$27*(EXP((A43-$C$21)/$C$20)-1)),0)) -> 1418.4654 | G43: =IF(A43<=$C$21,($C$5-$C$8)*(F43/$C$12)^(1/$C$11)+$C$8, ($C$28-$C$8)*(F43/$C$29)^(1/$C$11)+$C$8) -> 16.618717 | H43: =A43-$C$6/2 -> -11500 | I43: =A43+$C$6/2 -> 15500
A44: =A43+$C$4 -> 3000 | E44: =IF(A44<=$C$21,$C$17*EXP(-A44/$C$19),$C$18*EXP(-(A44-$C$21)/$C$20)) -> 2041.5794 | F44: =IF(A44<=$C$21,IF($C$12*(1-$C$25*(EXP(A44/$C$19)-1))>0,$C$12*(1-$C$25*(EXP(A44/$C$19)-1)),0),IF($C$29*(1-$C$27*(EXP((A44-$C$21)/$C$20)-1))>0,$C$29*(1-$C$27*(EXP((A44-$C$21)/$C$20)-1)),0)) -> 1377.4155 | G44: =IF(A44<=$C$21,($C$5-$C$8)*(F44/$C$12)^(1/$C$11)+$C$8, ($C$28-$C$8)*(F44/$C$29)^(1/$C$11)+$C$8) -> 15.935944 | H44: =A44-$C$6/2 -> -10500 | I44: =A44+$C$6/2 -> 16500
A45: =A44+$C$4 -> 4000 | E45: =IF(A45<=$C$21,$C$17*EXP(-A45/$C$19),$C$18*EXP(-(A45-$C$21)/$C$20)) -> 2032.1928 | F45: =IF(A45<=$C$21,IF($C$12*(1-$C$25*(EXP(A45/$C$19)-1))>0,$C$12*(1-$C$25*(EXP(A45/$C$19)-1)),0),IF($C$29*(1-$C$27*(EXP((A45-$C$21)/$C$20)-1))>0,$C$29*(1-$C$27*(EXP((A45-$C$21)/$C$20)-1)),0)) -> 1336.1759 | G45: =IF(A45<=$C$21,($C$5-$C$8)*(F45/$C$12)^(1/$C$11)+$C$8, ($C$28-$C$8)*(F45/$C$29)^(1/$C$11)+$C$8) -> 15.258743 | H45: =A45-$C$6/2 -> -9500 | I45: =A45+$C$6/2 -> 17500
A46: =A45+$C$4 -> 5000 | E46: =IF(A46<=$C$21,$C$17*EXP(-A46/$C$19),$C$18*EXP(-(A46-$C$21)/$C$20)) -> 2022.8494 | F46: =IF(A46<=$C$21,IF($C$12*(1-$C$25*(EXP(A46/$C$19)-1))>0,$C$12*(1-$C$25*(EXP(A46/$C$19)-1)),0),IF($C$29*(1-$C$27*(EXP((A46-$C$21)/$C$20)-1))>0,$C$29*(1-$C$27*(EXP((A46-$C$21)/$C$20)-1)),0)) -> 1294.7459 | G46: =IF(A46<=$C$21,($C$5-$C$8)*(F46/$C$12)^(1/$C$11)+$C$8, ($C$28-$C$8)*(F46/$C$29)^(1/$C$11)+$C$8) -> 14.587376 | H46: =A46-$C$6/2 -> -8500 | I46: =A46+$C$6/2 -> 18500
A47: =A46+$C$4 -> 6000 | E47: =IF(A47<=$C$21,$C$17*EXP(-A47/$C$19),$C$18*EXP(-(A47-$C$21)/$C$20)) -> 2013.549 | F47: =IF(A47<=$C$21,IF($C$12*(1-$C$25*(EXP(A47/$C$19)-1))>0,$C$12*(1-$C$25*(EXP(A47/$C$19)-1)),0),IF($C$29*(1-$C$27*(EXP((A47-$C$21)/$C$20)-1))>0,$C$29*(1-$C$27*(EXP((A47-$C$21)/$C$20)-1)),0)) -> 1253.1244 | G47: =IF(A47<=$C$21,($C$5-$C$8)*(F47/$C$12)^(1/$C$11)+$C$8, ($C$28-$C$8)*(F47/$C$29)^(1/$C$11)+$C$8) -> 13.922117 | H47: =A47-$C$6/2 -> -7500 | I47: =A47+$C$6/2 -> 19500
A48: =A47+$C$4 -> 7000 | E48: =IF(A48<=$C$21,$C$17*EXP(-A48/$C$19),$C$18*EXP(-(A48-$C$21)/$C$20)) -> 2004.2913 | F48: =IF(A48<=$C$21,IF($C$12*(1-$C$25*(EXP(A48/$C$19)-1))>0,$C$12*(1-$C$25*(EXP(A48/$C$19)-1)),0),IF($C$29*(1-$C$27*(EXP((A48-$C$21)/$C$20)-1))>0,$C$29*(1-$C$27*(EXP((A48-$C$21)/$C$20)-1)),0)) -> 1211.3108 | G48: =IF(A48<=$C$21,($C$5-$C$8)*(F48/$C$12)^(1/$C$11)+$C$8, ($C$28-$C$8)*(F48/$C$29)^(1/$C$11)+$C$8) -> 13.263255 | H48: =A48-$C$6/2 -> -6500 | I48: =A48+$C$6/2 -> 20500
A49: =A48+$C$4 -> 8000 | E49: =IF(A49<=$C$21,$C$17*EXP(-A49/$C$19),$C$18*EXP(-(A49-$C$21)/$C$20)) -> 1995.0762 | F49: =IF(A49<=$C$21,IF($C$12*(1-$C$25*(EXP(A49/$C$19)-1))>0,$C$12*(1-$C$25*(EXP(A49/$C$19)-1)),0),IF($C$29*(1-$C$27*(EXP((A49-$C$21)/$C$20)-1))>0,$C$29*(1-$C$27*(EXP((A49-$C$21)/$C$20)-1)),0)) -> 1169.304 | G49: =IF(A49<=$C$21,($C$5-$C$8)*(F49/$C$12)^(1/$C$11)+$C$8, ($C$28-$C$8)*(F49/$C$29)^(1/$C$11)+$C$8) -> 12.611094 | H49: =A49-$C$6/2 -> -5500 | I49: =A49+$C$6/2 -> 21500
A50: =A49+$C$4 -> 9000 | E50: =IF(A50<=$C$21,$C$17*EXP(-A50/$C$19),$C$18*EXP(-(A50-$C$21)/$C$20)) -> 1985.9035 | F50: =IF(A50<=$C$21,IF($C$12*(1-$C$25*(EXP(A50/$C$19)-1))>0,$C$12*(1-$C$25*(EXP(A50/$C$19)-1)),0),IF($C$29*(1-$C$27*(EXP((A50-$C$21)/$C$20)-1))>0,$C$29*(1-$C$27*(EXP((A50-$C$21)/$C$20)-1)),0)) -> 1127.1032 | G50: =IF(A50<=$C$21,($C$5-$C$8)*(F50/$C$12)^(1/$C$11)+$C$8, ($C$28-$C$8)*(F50/$C$29)^(1/$C$11)+$C$8) -> 11.965956 | H50: =A50-$C$6/2 -> -4500 | I50: =A50+$C$6/2 -> 22500
A51: =A50+$C$4 -> 10000 | E51: =IF(A51<=$C$21,$C$17*EXP(-A51/$C$19),$C$18*EXP(-(A51-$C$21)/$C$20)) -> 1976.7729 | F51: =IF(A51<=$C$21,IF($C$12*(1-$C$25*(EXP(A51/$C$19)-1))>0,$C$12*(1-$C$25*(EXP(A51/$C$19)-1)),0),IF($C$29*(1-$C$27*(EXP((A51-$C$21)/$C$20)-1))>0,$C$29*(1-$C$27*(EXP((A51-$C$21)/$C$20)-1)),0)) -> 1084.7074 | G51: =IF(A51<=$C$21,($C$5-$C$8)*(F51/$C$12)^(1/$C$11)+$C$8, ($C$28-$C$8)*(F51/$C$29)^(1/$C$11)+$C$8) -> 11.328181 | H51: =A51-$C$6/2 -> -3500 | I51: =A51+$C$6/2 -> 23500
A52: =A51+$C$4 -> 11000 | E52: =IF(A52<=$C$21,$C$17*EXP(-A52/$C$19),$C$18*EXP(-(A52-$C$21)/$C$20)) -> 1967.6843 | F52: =IF(A52<=$C$21,IF($C$12*(1-$C$25*(EXP(A52/$C$19)-1))>0,$C$12*(1-$C$25*(EXP(A52/$C$19)-1)),0),IF($C$29*(1-$C$27*(EXP((A52-$C$21)/$C$20)-1))>0,$C$29*(1-$C$27*(EXP((A52-$C$21)/$C$20)-1)),0)) -> 1042.1159 | G52: =IF(A52<=$C$21,($C$5-$C$8)*(F52/$C$12)^(1/$C$11)+$C$8, ($C$28-$C$8)*(F52/$C$29)^(1/$C$11)+$C$8) -> 10.69813 | H52: =A52-$C$6/2 -> -2500 | I52: =A52+$C$6/2 -> 24500
A53: =A52+$C$4 -> 12000 | E53: =IF(A53<=$C$21,$C$17*EXP(-A53/$C$19),$C$18*EXP(-(A53-$C$21)/$C$20)) -> 1958.6375 | F53: =IF(A53<=$C$21,IF($C$12*(1-$C$25*(EXP(A53/$C$19)-1))>0,$C$12*(1-$C$25*(EXP(A53/$C$19)-1)),0),IF($C$29*(1-$C$27*(EXP((A53-$C$21)/$C$20)-1))>0,$C$29*(1-$C$27*(EXP((A53-$C$21)/$C$20)-1)),0)) -> 999.32758 | G53: =IF(A53<=$C$21,($C$5-$C$8)*(F53/$C$12)^(1/$C$11)+$C$8, ($C$28-$C$8)*(F53/$C$29)^(1/$C$11)+$C$8) -> 10.076188 | H53: =A53-$C$6/2 -> -1500 | I53: =A53+$C$6/2 -> 25500
... A167: =A166+$C$4 -> 126000 | E167: =IF(A167<=$C$21,$C$17*EXP(-A167/$C$19),$C$18*EXP(-(A167-$C$21)/$C$20)) -> 1158.2421 | F167: =IF(A167<=$C$21,IF($C$12*(1-$C$25*(EXP(A167/$C$19)-1))>0,$C$12*(1-$C$25*(EXP(A167/$C$19)-1)),0),IF($C$29*(1-$C$27*(EXP((A167-$C$21)/$C$20)-1))>0,$C$29*(1-$C$27*(EXP((A167-$C$21)/$C$20)-1)),0)) -> 0 | G167: =IF(A167<=$C$21,($C$5-$C$8)*(F167/$C$12)^(1/$C$11)+$C$8, ($C$28-$C$8)*(F167/$C$29)^(1/$C$11)+$C$8) -> 0 | H167: =A167-$C$6/2 -> 112500 | I167: =A167+$C$6/2 -> 139500
