Workbook

Sheet Overview
B2: This sheet is provided as a tool to calculate salt intrusion in alluvial estuaries. It uses the analytical model as described in Salinity and Tides by H.H.G Savenije 2005
B14: Estuary
B15: Limpopo
B17: Geometry
B18: Area at mouth | C18: A0 | D18: 1710 | E18: m2
B19: Area at x1 | C19: A1 | D19: 1149.8919 | E19: m2
B20: Convergence length | C20: a1 | D20: 50400 | E20: m
B21: Convergence length 2 | C21: a2 | D21: 130000 | E21: m
B22: Inflection point | C22: x1 | D22: 20000 | E22: m
B23: Depth | C23: h0 | D23: 7 | E23: m
B25: Measurements
B26: 29315
B27: 30316
B28: 34529
B29: 34539
B30: 34556

Sheet 4-4-1980
A1: STEADY SALT INTRUSION MODEL (TA)
A2: Limpopo 4-4-1980
A3: Input | F3: Measurements
A4: Step length | B4: dx | C4: 1000 | D4: m | F4: x (m) | G4: HWS | H4: x (m) | I4: LWS
A5: Sea salinity | B5: S0 | C5: 24 | D5: kg/m3 | H5: 4000 | I5: 12
A6: Tidal Excursion | B6: E0 | C6: 7000 | D6: m | H6: 8000 | I6: 8
A7: Tidal Range | B7: H | C7: 1.1 | D7: m | H7: 11000 | I7: 3
A8: Fresh water salinity | B8: Cf | C8: 0 | D8: kg/m3 | H8: 14000 | I8: 0.5
H9: 18000 | I9: 0.2
A10: Calibration parameters | H10: 21000 | I10: 0.2
A11: Van Den Burgh | B11: K | C11: 0.5
A12: Dispersion at mouth | B12: Do | C12: 1350 | D12: m2/s
A13: Discharge | B13: Q | C13: 150 | D13: m3/s
A14: Alpha 0 | B14: α0 | C14: =C12/C13 -> 9 | D14: 1/m
A16: Geometry
A17: Area at mouth | B17: A0 | C17: =Overview!D18 -> 1710 | D17: m2
A18: Area at x1 | B18: A1 | C18: =Overview!D19 -> 1149.8919 | D18: m2
A19: Convergence length | B19: a1 | C19: =Overview!D20 -> 50400 | D19: m
A20: Convergence length 2 | B20: a2 | C20: =Overview!D21 -> 130000 | D20: m
A21: Inflection point | B21: x1 | C21: =Overview!D22 -> 20000 | D21: m
A22: Depth | B22: h0 | C22: =Overview!D23 -> 7 | D22: m
A24: Calculations | F24: REMARKS
A25: Beta | B25: β | C25: =$C$11*$C$19/C$14/$C$17 -> 1.6374269
A26: Alpha 1 | B26: α1 | C26: =C29/C13 -> 1.8217394 | D26: 1/m
A27: Beta1 | B27: β1 | C27: =C11*C20/C26/C18 -> 31.029164
A28: Salinity at x1 | B28: S1 | C28: =($C$5-$C$8)*(C29/C12)^(1/$C$11)+$C$8 -> 0.98332871 | D28: kg/m3
A29: Dispersion at x1 | B29: D1 | C29: =C12*(1-C25*(EXP(C21/C19)-1)) -> 273.26091
A31: x: | B31: Shifted x | E31: A | F31: D | G31: S | H31: xLWS | I31: xHWS
A32: =A33-$C$4-9000 -> -18000 | E32: =IF(A32<=$C$21,$C$17*EXP(-A32/$C$19),$C$18*EXP(-(A32-$C$21)/$C$20)) -> 2444.0005 | F32: =IF(A32<=$C$21,IF($C$12*(1-$C$25*(EXP(A32/$C$19)-1))>0,$C$12*(1-$C$25*(EXP(A32/$C$19)-1)),0),IF($C$29*(1-$C$27*(EXP((A32-$C$21)/$C$20)-1))>0,$C$29*(1-$C$27*(EXP((A32-$C$21)/$C$20)-1)),0)) -> 2013.8818 | G32: =IF(A32<=$C$21,($C$5-$C$8)*(F32/$C$12)^(1/$C$11)+$C$8, ($C$28-$C$8)*(F32/$C$29)^(1/$C$11)+$C$8) -> 53.408655 | H32: =A32-$C$6/2 -> -21500 | I32: =A32+$C$6/2 -> -14500
A33: =A34-$C$4 -> -8000 | E33: =IF(A33<=$C$21,$C$17*EXP(-A33/$C$19),$C$18*EXP(-(A33-$C$21)/$C$20)) -> 2004.157 | F33: =IF(A33<=$C$21,IF($C$12*(1-$C$25*(EXP(A33/$C$19)-1))>0,$C$12*(1-$C$25*(EXP(A33/$C$19)-1)),0),IF($C$29*(1-$C$27*(EXP((A33-$C$21)/$C$20)-1))>0,$C$29*(1-$C$27*(EXP((A33-$C$21)/$C$20)-1)),0)) -> 1674.4465 | G33: =IF(A33<=$C$21,($C$5-$C$8)*(F33/$C$12)^(1/$C$11)+$C$8, ($C$28-$C$8)*(F33/$C$29)^(1/$C$11)+$C$8) -> 36.92209 | H33: =A33-$C$6/2 -> -11500 | I33: =A33+$C$6/2 -> -4500
A34: =A35-$C$4 -> -7000 | E34: =IF(A34<=$C$21,$C$17*EXP(-A34/$C$19),$C$18*EXP(-(A34-$C$21)/$C$20)) -> 1964.7839 | F34: =IF(A34<=$C$21,IF($C$12*(1-$C$25*(EXP(A34/$C$19)-1))>0,$C$12*(1-$C$25*(EXP(A34/$C$19)-1)),0),IF($C$29*(1-$C$27*(EXP((A34-$C$21)/$C$20)-1))>0,$C$29*(1-$C$27*(EXP((A34-$C$21)/$C$20)-1)),0)) -> 1636.6506 | G34: =IF(A34<=$C$21,($C$5-$C$8)*(F34/$C$12)^(1/$C$11)+$C$8, ($C$28-$C$8)*(F34/$C$29)^(1/$C$11)+$C$8) -> 35.274077 | H34: =A34-$C$6/2 -> -10500 | I34: =A34+$C$6/2 -> -3500
A35: =A36-$C$4 -> -6000 | E35: =IF(A35<=$C$21,$C$17*EXP(-A35/$C$19),$C$18*EXP(-(A35-$C$21)/$C$20)) -> 1926.1843 | F35: =IF(A35<=$C$21,IF($C$12*(1-$C$25*(EXP(A35/$C$19)-1))>0,$C$12*(1-$C$25*(EXP(A35/$C$19)-1)),0),IF($C$29*(1-$C$27*(EXP((A35-$C$21)/$C$20)-1))>0,$C$29*(1-$C$27*(EXP((A35-$C$21)/$C$20)-1)),0)) -> 1598.0973 | G35: =IF(A35<=$C$21,($C$5-$C$8)*(F35/$C$12)^(1/$C$11)+$C$8, ($C$28-$C$8)*(F35/$C$29)^(1/$C$11)+$C$8) -> 33.631801 | H35: =A35-$C$6/2 -> -9500 | I35: =A35+$C$6/2 -> -2500
A36: =A37-$C$4 -> -5000 | E36: =IF(A36<=$C$21,$C$17*EXP(-A36/$C$19),$C$18*EXP(-(A36-$C$21)/$C$20)) -> 1888.343 | F36: =IF(A36<=$C$21,IF($C$12*(1-$C$25*(EXP(A36/$C$19)-1))>0,$C$12*(1-$C$25*(EXP(A36/$C$19)-1)),0),IF($C$29*(1-$C$27*(EXP((A36-$C$21)/$C$20)-1))>0,$C$29*(1-$C$27*(EXP((A36-$C$21)/$C$20)-1)),0)) -> 1558.7713 | G36: =IF(A36<=$C$21,($C$5-$C$8)*(F36/$C$12)^(1/$C$11)+$C$8, ($C$28-$C$8)*(F36/$C$29)^(1/$C$11)+$C$8) -> 31.996946 | H36: =A36-$C$6/2 -> -8500 | I36: =A36+$C$6/2 -> -1500
A37: =A38-$C$4 -> -4000 | E37: =IF(A37<=$C$21,$C$17*EXP(-A37/$C$19),$C$18*EXP(-(A37-$C$21)/$C$20)) -> 1851.2451 | F37: =IF(A37<=$C$21,IF($C$12*(1-$C$25*(EXP(A37/$C$19)-1))>0,$C$12*(1-$C$25*(EXP(A37/$C$19)-1)),0),IF($C$29*(1-$C$27*(EXP((A37-$C$21)/$C$20)-1))>0,$C$29*(1-$C$27*(EXP((A37-$C$21)/$C$20)-1)),0)) -> 1518.6573 | G37: =IF(A37<=$C$21,($C$5-$C$8)*(F37/$C$12)^(1/$C$11)+$C$8, ($C$28-$C$8)*(F37/$C$29)^(1/$C$11)+$C$8) -> 30.371293 | H37: =A37-$C$6/2 -> -7500 | I37: =A37+$C$6/2 -> -500
A38: =A39-$C$4 -> -3000 | E38: =IF(A38<=$C$21,$C$17*EXP(-A38/$C$19),$C$18*EXP(-(A38-$C$21)/$C$20)) -> 1814.8761 | F38: =IF(A38<=$C$21,IF($C$12*(1-$C$25*(EXP(A38/$C$19)-1))>0,$C$12*(1-$C$25*(EXP(A38/$C$19)-1)),0),IF($C$29*(1-$C$27*(EXP((A38-$C$21)/$C$20)-1))>0,$C$29*(1-$C$27*(EXP((A38-$C$21)/$C$20)-1)),0)) -> 1477.7395 | G38: =IF(A38<=$C$21,($C$5-$C$8)*(F38/$C$12)^(1/$C$11)+$C$8, ($C$28-$C$8)*(F38/$C$29)^(1/$C$11)+$C$8) -> 28.756727 | H38: =A38-$C$6/2 -> -6500 | I38: =A38+$C$6/2 -> 500
A39: =A40-$C$4 -> -2000 | E39: =IF(A39<=$C$21,$C$17*EXP(-A39/$C$19),$C$18*EXP(-(A39-$C$21)/$C$20)) -> 1779.2215 | F39: =IF(A39<=$C$21,IF($C$12*(1-$C$25*(EXP(A39/$C$19)-1))>0,$C$12*(1-$C$25*(EXP(A39/$C$19)-1)),0),IF($C$29*(1-$C$27*(EXP((A39-$C$21)/$C$20)-1))>0,$C$29*(1-$C$27*(EXP((A39-$C$21)/$C$20)-1)),0)) -> 1436.0016 | G39: =IF(A39<=$C$21,($C$5-$C$8)*(F39/$C$12)^(1/$C$11)+$C$8, ($C$28-$C$8)*(F39/$C$29)^(1/$C$11)+$C$8) -> 27.155235 | H39: =A39-$C$6/2 -> -5500 | I39: =A39+$C$6/2 -> 1500
A40: =A41-$C$4 -> -1000 | E40: =IF(A40<=$C$21,$C$17*EXP(-A40/$C$19),$C$18*EXP(-(A40-$C$21)/$C$20)) -> 1744.2674 | F40: =IF(A40<=$C$21,IF($C$12*(1-$C$25*(EXP(A40/$C$19)-1))>0,$C$12*(1-$C$25*(EXP(A40/$C$19)-1)),0),IF($C$29*(1-$C$27*(EXP((A40-$C$21)/$C$20)-1))>0,$C$29*(1-$C$27*(EXP((A40-$C$21)/$C$20)-1)),0)) -> 1393.4274 | G40: =IF(A40<=$C$21,($C$5-$C$8)*(F40/$C$12)^(1/$C$11)+$C$8, ($C$28-$C$8)*(F40/$C$29)^(1/$C$11)+$C$8) -> 25.568921 | H40: =A40-$C$6/2 -> -4500 | I40: =A40+$C$6/2 -> 2500
A41: 0 | E41: =IF(A41<=$C$21,$C$17*EXP(-A41/$C$19),$C$18*EXP(-(A41-$C$21)/$C$20)) -> 1710 | F41: =IF(A41<=$C$21,IF($C$12*(1-$C$25*(EXP(A41/$C$19)-1))>0,$C$12*(1-$C$25*(EXP(A41/$C$19)-1)),0),IF($C$29*(1-$C$27*(EXP((A41-$C$21)/$C$20)-1))>0,$C$29*(1-$C$27*(EXP((A41-$C$21)/$C$20)-1)),0)) -> 1350 | G41: =IF(A41<=$C$21,($C$5-$C$8)*(F41/$C$12)^(1/$C$11)+$C$8, ($C$28-$C$8)*(F41/$C$29)^(1/$C$11)+$C$8) -> 24 | H41: =A41-$C$6/2 -> -3500 | I41: =A41+$C$6/2 -> 3500
A42: =A41+$C$4 -> 1000 | E42: =IF(A42<=$C$21,$C$17*EXP(-A42/$C$19),$C$18*EXP(-(A42-$C$21)/$C$20)) -> 1676.4058 | F42: =IF(A42<=$C$21,IF($C$12*(1-$C$25*(EXP(A42/$C$19)-1))>0,$C$12*(1-$C$25*(EXP(A42/$C$19)-1)),0),IF($C$29*(1-$C$27*(EXP((A42-$C$21)/$C$20)-1))>0,$C$29*(1-$C$27*(EXP((A42-$C$21)/$C$20)-1)),0)) -> 1305.7023 | G42: =IF(A42<=$C$21,($C$5-$C$8)*(F42/$C$12)^(1/$C$11)+$C$8, ($C$28-$C$8)*(F42/$C$29)^(1/$C$11)+$C$8) -> 22.450813 | H42: =A42-$C$6/2 -> -2500 | I42: =A42+$C$6/2 -> 4500
A43: =A42+$C$4 -> 2000 | E43: =IF(A43<=$C$21,$C$17*EXP(-A43/$C$19),$C$18*EXP(-(A43-$C$21)/$C$20)) -> 1643.4716 | F43: =IF(A43<=$C$21,IF($C$12*(1-$C$25*(EXP(A43/$C$19)-1))>0,$C$12*(1-$C$25*(EXP(A43/$C$19)-1)),0),IF($C$29*(1-$C$27*(EXP((A43-$C$21)/$C$20)-1))>0,$C$29*(1-$C$27*(EXP((A43-$C$21)/$C$20)-1)),0)) -> 1260.517 | G43: =IF(A43<=$C$21,($C$5-$C$8)*(F43/$C$12)^(1/$C$11)+$C$8, ($C$28-$C$8)*(F43/$C$29)^(1/$C$11)+$C$8) -> 20.923827 | H43: =A43-$C$6/2 -> -1500 | I43: =A43+$C$6/2 -> 5500
A44: =A43+$C$4 -> 3000 | E44: =IF(A44<=$C$21,$C$17*EXP(-A44/$C$19),$C$18*EXP(-(A44-$C$21)/$C$20)) -> 1611.1844 | F44: =IF(A44<=$C$21,IF($C$12*(1-$C$25*(EXP(A44/$C$19)-1))>0,$C$12*(1-$C$25*(EXP(A44/$C$19)-1)),0),IF($C$29*(1-$C$27*(EXP((A44-$C$21)/$C$20)-1))>0,$C$29*(1-$C$27*(EXP((A44-$C$21)/$C$20)-1)),0)) -> 1214.4261 | G44: =IF(A44<=$C$21,($C$5-$C$8)*(F44/$C$12)^(1/$C$11)+$C$8, ($C$28-$C$8)*(F44/$C$29)^(1/$C$11)+$C$8) -> 19.421641 | H44: =A44-$C$6/2 -> -500 | I44: =A44+$C$6/2 -> 6500
A45: =A44+$C$4 -> 4000 | E45: =IF(A45<=$C$21,$C$17*EXP(-A45/$C$19),$C$18*EXP(-(A45-$C$21)/$C$20)) -> 1579.5315 | F45: =IF(A45<=$C$21,IF($C$12*(1-$C$25*(EXP(A45/$C$19)-1))>0,$C$12*(1-$C$25*(EXP(A45/$C$19)-1)),0),IF($C$29*(1-$C$27*(EXP((A45-$C$21)/$C$20)-1))>0,$C$29*(1-$C$27*(EXP((A45-$C$21)/$C$20)-1)),0)) -> 1167.4117 | G45: =IF(A45<=$C$21,($C$5-$C$8)*(F45/$C$12)^(1/$C$11)+$C$8, ($C$28-$C$8)*(F45/$C$29)^(1/$C$11)+$C$8) -> 17.946996 | H45: =A45-$C$6/2 -> 500 | I45: =A45+$C$6/2 -> 7500
A46: =A45+$C$4 -> 5000 | E46: =IF(A46<=$C$21,$C$17*EXP(-A46/$C$19),$C$18*EXP(-(A46-$C$21)/$C$20)) -> 1548.5005 | F46: =IF(A46<=$C$21,IF($C$12*(1-$C$25*(EXP(A46/$C$19)-1))>0,$C$12*(1-$C$25*(EXP(A46/$C$19)-1)),0),IF($C$29*(1-$C$27*(EXP((A46-$C$21)/$C$20)-1))>0,$C$29*(1-$C$27*(EXP((A46-$C$21)/$C$20)-1)),0)) -> 1119.455 | G46: =IF(A46<=$C$21,($C$5-$C$8)*(F46/$C$12)^(1/$C$11)+$C$8, ($C$28-$C$8)*(F46/$C$29)^(1/$C$11)+$C$8) -> 16.502777 | H46: =A46-$C$6/2 -> 1500 | I46: =A46+$C$6/2 -> 8500
A47: =A46+$C$4 -> 6000 | E47: =IF(A47<=$C$21,$C$17*EXP(-A47/$C$19),$C$18*EXP(-(A47-$C$21)/$C$20)) -> 1518.079 | F47: =IF(A47<=$C$21,IF($C$12*(1-$C$25*(EXP(A47/$C$19)-1))>0,$C$12*(1-$C$25*(EXP(A47/$C$19)-1)),0),IF($C$29*(1-$C$27*(EXP((A47-$C$21)/$C$20)-1))>0,$C$29*(1-$C$27*(EXP((A47-$C$21)/$C$20)-1)),0)) -> 1070.5374 | G47: =IF(A47<=$C$21,($C$5-$C$8)*(F47/$C$12)^(1/$C$11)+$C$8, ($C$28-$C$8)*(F47/$C$29)^(1/$C$11)+$C$8) -> 15.092021 | H47: =A47-$C$6/2 -> 2500 | I47: =A47+$C$6/2 -> 9500
A48: =A47+$C$4 -> 7000 | E48: =IF(A48<=$C$21,$C$17*EXP(-A48/$C$19),$C$18*EXP(-(A48-$C$21)/$C$20)) -> 1488.2553 | F48: =IF(A48<=$C$21,IF($C$12*(1-$C$25*(EXP(A48/$C$19)-1))>0,$C$12*(1-$C$25*(EXP(A48/$C$19)-1)),0),IF($C$29*(1-$C$27*(EXP((A48-$C$21)/$C$20)-1))>0,$C$29*(1-$C$27*(EXP((A48-$C$21)/$C$20)-1)),0)) -> 1020.6395 | G48: =IF(A48<=$C$21,($C$5-$C$8)*(F48/$C$12)^(1/$C$11)+$C$8, ($C$28-$C$8)*(F48/$C$29)^(1/$C$11)+$C$8) -> 13.717925 | H48: =A48-$C$6/2 -> 3500 | I48: =A48+$C$6/2 -> 10500
A49: =A48+$C$4 -> 8000 | E49: =IF(A49<=$C$21,$C$17*EXP(-A49/$C$19),$C$18*EXP(-(A49-$C$21)/$C$20)) -> 1459.0174 | F49: =IF(A49<=$C$21,IF($C$12*(1-$C$25*(EXP(A49/$C$19)-1))>0,$C$12*(1-$C$25*(EXP(A49/$C$19)-1)),0),IF($C$29*(1-$C$27*(EXP((A49-$C$21)/$C$20)-1))>0,$C$29*(1-$C$27*(EXP((A49-$C$21)/$C$20)-1)),0)) -> 969.74163 | G49: =IF(A49<=$C$21,($C$5-$C$8)*(F49/$C$12)^(1/$C$11)+$C$8, ($C$28-$C$8)*(F49/$C$29)^(1/$C$11)+$C$8) -> 12.383853 | H49: =A49-$C$6/2 -> 4500 | I49: =A49+$C$6/2 -> 11500
A50: =A49+$C$4 -> 9000 | E50: =IF(A50<=$C$21,$C$17*EXP(-A50/$C$19),$C$18*EXP(-(A50-$C$21)/$C$20)) -> 1430.354 | F50: =IF(A50<=$C$21,IF($C$12*(1-$C$25*(EXP(A50/$C$19)-1))>0,$C$12*(1-$C$25*(EXP(A50/$C$19)-1)),0),IF($C$29*(1-$C$27*(EXP((A50-$C$21)/$C$20)-1))>0,$C$29*(1-$C$27*(EXP((A50-$C$21)/$C$20)-1)),0)) -> 917.82382 | G50: =IF(A50<=$C$21,($C$5-$C$8)*(F50/$C$12)^(1/$C$11)+$C$8, ($C$28-$C$8)*(F50/$C$29)^(1/$C$11)+$C$8) -> 11.093341 | H50: =A50-$C$6/2 -> 5500 | I50: =A50+$C$6/2 -> 12500
A51: =A50+$C$4 -> 10000 | E51: =IF(A51<=$C$21,$C$17*EXP(-A51/$C$19),$C$18*EXP(-(A51-$C$21)/$C$20)) -> 1402.2536 | F51: =IF(A51<=$C$21,IF($C$12*(1-$C$25*(EXP(A51/$C$19)-1))>0,$C$12*(1-$C$25*(EXP(A51/$C$19)-1)),0),IF($C$29*(1-$C$27*(EXP((A51-$C$21)/$C$20)-1))>0,$C$29*(1-$C$27*(EXP((A51-$C$21)/$C$20)-1)),0)) -> 864.8656 | G51: =IF(A51<=$C$21,($C$5-$C$8)*(F51/$C$12)^(1/$C$11)+$C$8, ($C$28-$C$8)*(F51/$C$29)^(1/$C$11)+$C$8) -> 9.8501071 | H51: =A51-$C$6/2 -> 6500 | I51: =A51+$C$6/2 -> 13500
A52: =A51+$C$4 -> 11000 | E52: =IF(A52<=$C$21,$C$17*EXP(-A52/$C$19),$C$18*EXP(-(A52-$C$21)/$C$20)) -> 1374.7053 | F52: =IF(A52<=$C$21,IF($C$12*(1-$C$25*(EXP(A52/$C$19)-1))>0,$C$12*(1-$C$25*(EXP(A52/$C$19)-1)),0),IF($C$29*(1-$C$27*(EXP((A52-$C$21)/$C$20)-1))>0,$C$29*(1-$C$27*(EXP((A52-$C$21)/$C$20)-1)),0)) -> 810.84613 | G52: =IF(A52<=$C$21,($C$5-$C$8)*(F52/$C$12)^(1/$C$11)+$C$8, ($C$28-$C$8)*(F52/$C$29)^(1/$C$11)+$C$8) -> 8.6580603 | H52: =A52-$C$6/2 -> 7500 | I52: =A52+$C$6/2 -> 14500
A53: =A52+$C$4 -> 12000 | E53: =IF(A53<=$C$21,$C$17*EXP(-A53/$C$19),$C$18*EXP(-(A53-$C$21)/$C$20)) -> 1347.6982 | F53: =IF(A53<=$C$21,IF($C$12*(1-$C$25*(EXP(A53/$C$19)-1))>0,$C$12*(1-$C$25*(EXP(A53/$C$19)-1)),0),IF($C$29*(1-$C$27*(EXP((A53-$C$21)/$C$20)-1))>0,$C$29*(1-$C$27*(EXP((A53-$C$21)/$C$20)-1)),0)) -> 755.74415 | G53: =IF(A53<=$C$21,($C$5-$C$8)*(F53/$C$12)^(1/$C$11)+$C$8, ($C$28-$C$8)*(F53/$C$29)^(1/$C$11)+$C$8) -> 7.5213066 | H53: =A53-$C$6/2 -> 8500 | I53: =A53+$C$6/2 -> 15500
... A167: =A166+$C$4 -> 126000 | E167: =IF(A167<=$C$21,$C$17*EXP(-A167/$C$19),$C$18*EXP(-(A167-$C$21)/$C$20)) -> 508.79167 | F167: =IF(A167<=$C$21,IF($C$12*(1-$C$25*(EXP(A167/$C$19)-1))>0,$C$12*(1-$C$25*(EXP(A167/$C$19)-1)),0),IF($C$29*(1-$C$27*(EXP((A167-$C$21)/$C$20)-1))>0,$C$29*(1-$C$27*(EXP((A167-$C$21)/$C$20)-1)),0)) -> 0 | G167: =IF(A167<=$C$21,($C$5-$C$8)*(F167/$C$12)^(1/$C$11)+$C$8, ($C$28-$C$8)*(F167/$C$29)^(1/$C$11)+$C$8) -> 0 | H167: =A167-$C$6/2 -> 122500 | I167: =A167+$C$6/2 -> 129500

Sheet 31-12-1982
A1: STEADY SALT INTRUSION MODEL (TA)
A2: Limpopo 31-12-1982
A3: Input | F3: Measurements
A4: Step length | B4: dx | C4: 1000 | D4: m | F4: x (m) | G4: HWS | H4: x (m) | I4: LWS
A5: Sea salinity | B5: S0 | C5: 35 | D5: kg/m3 | F5: 40000 | G5: 13 | H5: 27000 | I5: 15.5
A6: Tidal Excursion | B6: E0 | C6: 8000 | D6: m | F6: 45000 | G6: 10.2 | H6: 34000 | I6: 12
A7: Tidal Range | B7: H | C7: 1.1 | D7: m | F7: 48000 | G7: 8.5 | H7: 40000 | I7: 8.2
A8: Fresh water salinity | B8: Cf | C8: 1.5 | D8: kg/m3 | F8: 53000 | G8: 5.5 | H8: 48000 | I8: 4.1
F9: 55000 | G9: 4 | H9: 53000 | I9: 2.3
A10: Calibration parameters | F10: 56000 | G10: 3.3 | H10: 55000 | I10: 1.7
A11: Van Den Burgh | B11: K | C11: 0.5 | F11: 60000 | G11: 2 | H11: 58000 | I11: 1.5
A12: Dispersion at mouth | B12: Do | C12: 67 | D12: m2/s | F12: 64000 | G12: 1.5
A13: Discharge | B13: Q | C13: 2 | D13: m3/s
A14: Alpha 0 | B14: α0 | C14: =C12/C13 -> 33.5 | D14: 1/m
A16: Geometry
A17: Area at mouth | B17: A0 | C17: =Overview!D18 -> 1710 | D17: m2
A18: Area at x1 | B18: A1 | C18: =Overview!D19 -> 1149.8919 | D18: m2
A19: Convergence length | B19: a1 | C19: =Overview!D20 -> 50400 | D19: m
A20: Convergence length 2 | B20: a2 | C20: =Overview!D21 -> 130000 | D20: m
A21: Inflection point | B21: x1 | C21: =Overview!D22 -> 20000 | D21: m
A22: Depth | B22: h0 | C22: =Overview!D23 -> 7 | D22: m
A24: Calculations | F24: REMARKS
A25: Beta | B25: β | C25: =$C$11*$C$19/C$14/$C$17 -> 0.43990573
A26: Alpha 1 | B26: α1 | C26: =C29/C13 -> 26.321739 | D26: 1/m
A27: Beta1 | B27: β1 | C27: =C11*C20/C26/C18 -> 2.1475424
A28: Salinity at x1 | B28: S1 | C28: =($C$5-$C$8)*(C29/C12)^(1/$C$11)+$C$8 -> 22.181611 | D28: kg/m3
A29: Dispersion at x1 | B29: D1 | C29: =C12*(1-C25*(EXP(C21/C19)-1)) -> 52.643479
A31: x: | B31: Shifted x | E31: A | F31: D | G31: S | H31: xLWS | I31: xHWS
A32: =A33-$C$4-9000 -> -18000 | E32: =IF(A32<=$C$21,$C$17*EXP(-A32/$C$19),$C$18*EXP(-(A32-$C$21)/$C$20)) -> 2444.0005 | F32: =IF(A32<=$C$21,IF($C$12*(1-$C$25*(EXP(A32/$C$19)-1))>0,$C$12*(1-$C$25*(EXP(A32/$C$19)-1)),0),IF($C$29*(1-$C$27*(EXP((A32-$C$21)/$C$20)-1))>0,$C$29*(1-$C$27*(EXP((A32-$C$21)/$C$20)-1)),0)) -> 75.851757 | G32: =IF(A32<=$C$21,($C$5-$C$8)*(F32/$C$12)^(1/$C$11)+$C$8, ($C$28-$C$8)*(F32/$C$29)^(1/$C$11)+$C$8) -> 44.436485 | H32: =A32-$C$6/2 -> -22000 | I32: =A32+$C$6/2 -> -14000
A33: =A34-$C$4 -> -8000 | E33: =IF(A33<=$C$21,$C$17*EXP(-A33/$C$19),$C$18*EXP(-(A33-$C$21)/$C$20)) -> 2004.157 | F33: =IF(A33<=$C$21,IF($C$12*(1-$C$25*(EXP(A33/$C$19)-1))>0,$C$12*(1-$C$25*(EXP(A33/$C$19)-1)),0),IF($C$29*(1-$C$27*(EXP((A33-$C$21)/$C$20)-1))>0,$C$29*(1-$C$27*(EXP((A33-$C$21)/$C$20)-1)),0)) -> 71.325954 | G33: =IF(A33<=$C$21,($C$5-$C$8)*(F33/$C$12)^(1/$C$11)+$C$8, ($C$28-$C$8)*(F33/$C$29)^(1/$C$11)+$C$8) -> 39.46561 | H33: =A33-$C$6/2 -> -12000 | I33: =A33+$C$6/2 -> -4000
A34: =A35-$C$4 -> -7000 | E34: =IF(A34<=$C$21,$C$17*EXP(-A34/$C$19),$C$18*EXP(-(A34-$C$21)/$C$20)) -> 1964.7839 | F34: =IF(A34<=$C$21,IF($C$12*(1-$C$25*(EXP(A34/$C$19)-1))>0,$C$12*(1-$C$25*(EXP(A34/$C$19)-1)),0),IF($C$29*(1-$C$27*(EXP((A34-$C$21)/$C$20)-1))>0,$C$29*(1-$C$27*(EXP((A34-$C$21)/$C$20)-1)),0)) -> 70.822008 | G34: =IF(A34<=$C$21,($C$5-$C$8)*(F34/$C$12)^(1/$C$11)+$C$8, ($C$28-$C$8)*(F34/$C$29)^(1/$C$11)+$C$8) -> 38.931021 | H34: =A34-$C$6/2 -> -11000 | I34: =A34+$C$6/2 -> -3000
A35: =A36-$C$4 -> -6000 | E35: =IF(A35<=$C$21,$C$17*EXP(-A35/$C$19),$C$18*EXP(-(A35-$C$21)/$C$20)) -> 1926.1843 | F35: =IF(A35<=$C$21,IF($C$12*(1-$C$25*(EXP(A35/$C$19)-1))>0,$C$12*(1-$C$25*(EXP(A35/$C$19)-1)),0),IF($C$29*(1-$C$27*(EXP((A35-$C$21)/$C$20)-1))>0,$C$29*(1-$C$27*(EXP((A35-$C$21)/$C$20)-1)),0)) -> 70.307963 | G35: =IF(A35<=$C$21,($C$5-$C$8)*(F35/$C$12)^(1/$C$11)+$C$8, ($C$28-$C$8)*(F35/$C$29)^(1/$C$11)+$C$8) -> 38.389625 | H35: =A35-$C$6/2 -> -10000 | I35: =A35+$C$6/2 -> -2000
A36: =A37-$C$4 -> -5000 | E36: =IF(A36<=$C$21,$C$17*EXP(-A36/$C$19),$C$18*EXP(-(A36-$C$21)/$C$20)) -> 1888.343 | F36: =IF(A36<=$C$21,IF($C$12*(1-$C$25*(EXP(A36/$C$19)-1))>0,$C$12*(1-$C$25*(EXP(A36/$C$19)-1)),0),IF($C$29*(1-$C$27*(EXP((A36-$C$21)/$C$20)-1))>0,$C$29*(1-$C$27*(EXP((A36-$C$21)/$C$20)-1)),0)) -> 69.783618 | G36: =IF(A36<=$C$21,($C$5-$C$8)*(F36/$C$12)^(1/$C$11)+$C$8, ($C$28-$C$8)*(F36/$C$29)^(1/$C$11)+$C$8) -> 37.841443 | H36: =A36-$C$6/2 -> -9000 | I36: =A36+$C$6/2 -> -1000
A37: =A38-$C$4 -> -4000 | E37: =IF(A37<=$C$21,$C$17*EXP(-A37/$C$19),$C$18*EXP(-(A37-$C$21)/$C$20)) -> 1851.2451 | F37: =IF(A37<=$C$21,IF($C$12*(1-$C$25*(EXP(A37/$C$19)-1))>0,$C$12*(1-$C$25*(EXP(A37/$C$19)-1)),0),IF($C$29*(1-$C$27*(EXP((A37-$C$21)/$C$20)-1))>0,$C$29*(1-$C$27*(EXP((A37-$C$21)/$C$20)-1)),0)) -> 69.248764 | G37: =IF(A37<=$C$21,($C$5-$C$8)*(F37/$C$12)^(1/$C$11)+$C$8, ($C$28-$C$8)*(F37/$C$29)^(1/$C$11)+$C$8) -> 37.286503 | H37: =A37-$C$6/2 -> -8000 | I37: =A37+$C$6/2 -> 0
A38: =A39-$C$4 -> -3000 | E38: =IF(A38<=$C$21,$C$17*EXP(-A38/$C$19),$C$18*EXP(-(A38-$C$21)/$C$20)) -> 1814.8761 | F38: =IF(A38<=$C$21,IF($C$12*(1-$C$25*(EXP(A38/$C$19)-1))>0,$C$12*(1-$C$25*(EXP(A38/$C$19)-1)),0),IF($C$29*(1-$C$27*(EXP((A38-$C$21)/$C$20)-1))>0,$C$29*(1-$C$27*(EXP((A38-$C$21)/$C$20)-1)),0)) -> 68.703193 | G38: =IF(A38<=$C$21,($C$5-$C$8)*(F38/$C$12)^(1/$C$11)+$C$8, ($C$28-$C$8)*(F38/$C$29)^(1/$C$11)+$C$8) -> 36.724841 | H38: =A38-$C$6/2 -> -7000 | I38: =A38+$C$6/2 -> 1000
A39: =A40-$C$4 -> -2000 | E39: =IF(A39<=$C$21,$C$17*EXP(-A39/$C$19),$C$18*EXP(-(A39-$C$21)/$C$20)) -> 1779.2215 | F39: =IF(A39<=$C$21,IF($C$12*(1-$C$25*(EXP(A39/$C$19)-1))>0,$C$12*(1-$C$25*(EXP(A39/$C$19)-1)),0),IF($C$29*(1-$C$27*(EXP((A39-$C$21)/$C$20)-1))>0,$C$29*(1-$C$27*(EXP((A39-$C$21)/$C$20)-1)),0)) -> 68.146688 | G39: =IF(A39<=$C$21,($C$5-$C$8)*(F39/$C$12)^(1/$C$11)+$C$8, ($C$28-$C$8)*(F39/$C$29)^(1/$C$11)+$C$8) -> 36.156501 | H39: =A39-$C$6/2 -> -6000 | I39: =A39+$C$6/2 -> 2000
A40: =A41-$C$4 -> -1000 | E40: =IF(A40<=$C$21,$C$17*EXP(-A40/$C$19),$C$18*EXP(-(A40-$C$21)/$C$20)) -> 1744.2674 | F40: =IF(A40<=$C$21,IF($C$12*(1-$C$25*(EXP(A40/$C$19)-1))>0,$C$12*(1-$C$25*(EXP(A40/$C$19)-1)),0),IF($C$29*(1-$C$27*(EXP((A40-$C$21)/$C$20)-1))>0,$C$29*(1-$C$27*(EXP((A40-$C$21)/$C$20)-1)),0)) -> 67.579032 | G40: =IF(A40<=$C$21,($C$5-$C$8)*(F40/$C$12)^(1/$C$11)+$C$8, ($C$28-$C$8)*(F40/$C$29)^(1/$C$11)+$C$8) -> 35.581534 | H40: =A40-$C$6/2 -> -5000 | I40: =A40+$C$6/2 -> 3000
A41: 0 | E41: =IF(A41<=$C$21,$C$17*EXP(-A41/$C$19),$C$18*EXP(-(A41-$C$21)/$C$20)) -> 1710 | F41: =IF(A41<=$C$21,IF($C$12*(1-$C$25*(EXP(A41/$C$19)-1))>0,$C$12*(1-$C$25*(EXP(A41/$C$19)-1)),0),IF($C$29*(1-$C$27*(EXP((A41-$C$21)/$C$20)-1))>0,$C$29*(1-$C$27*(EXP((A41-$C$21)/$C$20)-1)),0)) -> 67 | G41: =IF(A41<=$C$21,($C$5-$C$8)*(F41/$C$12)^(1/$C$11)+$C$8, ($C$28-$C$8)*(F41/$C$29)^(1/$C$11)+$C$8) -> 35 | H41: =A41-$C$6/2 -> -4000 | I41: =A41+$C$6/2 -> 4000
A42: =A41+$C$4 -> 1000 | E42: =IF(A42<=$C$21,$C$17*EXP(-A42/$C$19),$C$18*EXP(-(A42-$C$21)/$C$20)) -> 1676.4058 | F42: =IF(A42<=$C$21,IF($C$12*(1-$C$25*(EXP(A42/$C$19)-1))>0,$C$12*(1-$C$25*(EXP(A42/$C$19)-1)),0),IF($C$29*(1-$C$27*(EXP((A42-$C$21)/$C$20)-1))>0,$C$29*(1-$C$27*(EXP((A42-$C$21)/$C$20)-1)),0)) -> 66.409365 | G42: =IF(A42<=$C$21,($C$5-$C$8)*(F42/$C$12)^(1/$C$11)+$C$8, ($C$28-$C$8)*(F42/$C$29)^(1/$C$11)+$C$8) -> 34.411968 | H42: =A42-$C$6/2 -> -3000 | I42: =A42+$C$6/2 -> 5000
A43: =A42+$C$4 -> 2000 | E43: =IF(A43<=$C$21,$C$17*EXP(-A43/$C$19),$C$18*EXP(-(A43-$C$21)/$C$20)) -> 1643.4716 | F43: =IF(A43<=$C$21,IF($C$12*(1-$C$25*(EXP(A43/$C$19)-1))>0,$C$12*(1-$C$25*(EXP(A43/$C$19)-1)),0),IF($C$29*(1-$C$27*(EXP((A43-$C$21)/$C$20)-1))>0,$C$29*(1-$C$27*(EXP((A43-$C$21)/$C$20)-1)),0)) -> 65.806893 | G43: =IF(A43<=$C$21,($C$5-$C$8)*(F43/$C$12)^(1/$C$11)+$C$8, ($C$28-$C$8)*(F43/$C$29)^(1/$C$11)+$C$8) -> 33.817516 | H43: =A43-$C$6/2 -> -2000 | I43: =A43+$C$6/2 -> 6000
A44: =A43+$C$4 -> 3000 | E44: =IF(A44<=$C$21,$C$17*EXP(-A44/$C$19),$C$18*EXP(-(A44-$C$21)/$C$20)) -> 1611.1844 | F44: =IF(A44<=$C$21,IF($C$12*(1-$C$25*(EXP(A44/$C$19)-1))>0,$C$12*(1-$C$25*(EXP(A44/$C$19)-1)),0),IF($C$29*(1-$C$27*(EXP((A44-$C$21)/$C$20)-1))>0,$C$29*(1-$C$27*(EXP((A44-$C$21)/$C$20)-1)),0)) -> 65.192349 | G44: =IF(A44<=$C$21,($C$5-$C$8)*(F44/$C$12)^(1/$C$11)+$C$8, ($C$28-$C$8)*(F44/$C$29)^(1/$C$11)+$C$8) -> 33.216734 | H44: =A44-$C$6/2 -> -1000 | I44: =A44+$C$6/2 -> 7000
A45: =A44+$C$4 -> 4000 | E45: =IF(A45<=$C$21,$C$17*EXP(-A45/$C$19),$C$18*EXP(-(A45-$C$21)/$C$20)) -> 1579.5315 | F45: =IF(A45<=$C$21,IF($C$12*(1-$C$25*(EXP(A45/$C$19)-1))>0,$C$12*(1-$C$25*(EXP(A45/$C$19)-1)),0),IF($C$29*(1-$C$27*(EXP((A45-$C$21)/$C$20)-1))>0,$C$29*(1-$C$27*(EXP((A45-$C$21)/$C$20)-1)),0)) -> 64.565489 | G45: =IF(A45<=$C$21,($C$5-$C$8)*(F45/$C$12)^(1/$C$11)+$C$8, ($C$28-$C$8)*(F45/$C$29)^(1/$C$11)+$C$8) -> 32.609719 | H45: =A45-$C$6/2 -> 0 | I45: =A45+$C$6/2 -> 8000
A46: =A45+$C$4 -> 5000 | E46: =IF(A46<=$C$21,$C$17*EXP(-A46/$C$19),$C$18*EXP(-(A46-$C$21)/$C$20)) -> 1548.5005 | F46: =IF(A46<=$C$21,IF($C$12*(1-$C$25*(EXP(A46/$C$19)-1))>0,$C$12*(1-$C$25*(EXP(A46/$C$19)-1)),0),IF($C$29*(1-$C$27*(EXP((A46-$C$21)/$C$20)-1))>0,$C$29*(1-$C$27*(EXP((A46-$C$21)/$C$20)-1)),0)) -> 63.926067 | G46: =IF(A46<=$C$21,($C$5-$C$8)*(F46/$C$12)^(1/$C$11)+$C$8, ($C$28-$C$8)*(F46/$C$29)^(1/$C$11)+$C$8) -> 31.996583 | H46: =A46-$C$6/2 -> 1000 | I46: =A46+$C$6/2 -> 9000
A47: =A46+$C$4 -> 6000 | E47: =IF(A47<=$C$21,$C$17*EXP(-A47/$C$19),$C$18*EXP(-(A47-$C$21)/$C$20)) -> 1518.079 | F47: =IF(A47<=$C$21,IF($C$12*(1-$C$25*(EXP(A47/$C$19)-1))>0,$C$12*(1-$C$25*(EXP(A47/$C$19)-1)),0),IF($C$29*(1-$C$27*(EXP((A47-$C$21)/$C$20)-1))>0,$C$29*(1-$C$27*(EXP((A47-$C$21)/$C$20)-1)),0)) -> 63.273832 | G47: =IF(A47<=$C$21,($C$5-$C$8)*(F47/$C$12)^(1/$C$11)+$C$8, ($C$28-$C$8)*(F47/$C$29)^(1/$C$11)+$C$8) -> 31.377446 | H47: =A47-$C$6/2 -> 2000 | I47: =A47+$C$6/2 -> 10000
A48: =A47+$C$4 -> 7000 | E48: =IF(A48<=$C$21,$C$17*EXP(-A48/$C$19),$C$18*EXP(-(A48-$C$21)/$C$20)) -> 1488.2553 | F48: =IF(A48<=$C$21,IF($C$12*(1-$C$25*(EXP(A48/$C$19)-1))>0,$C$12*(1-$C$25*(EXP(A48/$C$19)-1)),0),IF($C$29*(1-$C$27*(EXP((A48-$C$21)/$C$20)-1))>0,$C$29*(1-$C$27*(EXP((A48-$C$21)/$C$20)-1)),0)) -> 62.608526 | G48: =IF(A48<=$C$21,($C$5-$C$8)*(F48/$C$12)^(1/$C$11)+$C$8, ($C$28-$C$8)*(F48/$C$29)^(1/$C$11)+$C$8) -> 30.752445 | H48: =A48-$C$6/2 -> 3000 | I48: =A48+$C$6/2 -> 11000
A49: =A48+$C$4 -> 8000 | E49: =IF(A49<=$C$21,$C$17*EXP(-A49/$C$19),$C$18*EXP(-(A49-$C$21)/$C$20)) -> 1459.0174 | F49: =IF(A49<=$C$21,IF($C$12*(1-$C$25*(EXP(A49/$C$19)-1))>0,$C$12*(1-$C$25*(EXP(A49/$C$19)-1)),0),IF($C$29*(1-$C$27*(EXP((A49-$C$21)/$C$20)-1))>0,$C$29*(1-$C$27*(EXP((A49-$C$21)/$C$20)-1)),0)) -> 61.929888 | G49: =IF(A49<=$C$21,($C$5-$C$8)*(F49/$C$12)^(1/$C$11)+$C$8, ($C$28-$C$8)*(F49/$C$29)^(1/$C$11)+$C$8) -> 30.121724 | H49: =A49-$C$6/2 -> 4000 | I49: =A49+$C$6/2 -> 12000
A50: =A49+$C$4 -> 9000 | E50: =IF(A50<=$C$21,$C$17*EXP(-A50/$C$19),$C$18*EXP(-(A50-$C$21)/$C$20)) -> 1430.354 | F50: =IF(A50<=$C$21,IF($C$12*(1-$C$25*(EXP(A50/$C$19)-1))>0,$C$12*(1-$C$25*(EXP(A50/$C$19)-1)),0),IF($C$29*(1-$C$27*(EXP((A50-$C$21)/$C$20)-1))>0,$C$29*(1-$C$27*(EXP((A50-$C$21)/$C$20)-1)),0)) -> 61.237651 | G50: =IF(A50<=$C$21,($C$5-$C$8)*(F50/$C$12)^(1/$C$11)+$C$8, ($C$28-$C$8)*(F50/$C$29)^(1/$C$11)+$C$8) -> 29.485447 | H50: =A50-$C$6/2 -> 5000 | I50: =A50+$C$6/2 -> 13000
A51: =A50+$C$4 -> 10000 | E51: =IF(A51<=$C$21,$C$17*EXP(-A51/$C$19),$C$18*EXP(-(A51-$C$21)/$C$20)) -> 1402.2536 | F51: =IF(A51<=$C$21,IF($C$12*(1-$C$25*(EXP(A51/$C$19)-1))>0,$C$12*(1-$C$25*(EXP(A51/$C$19)-1)),0),IF($C$29*(1-$C$27*(EXP((A51-$C$21)/$C$20)-1))>0,$C$29*(1-$C$27*(EXP((A51-$C$21)/$C$20)-1)),0)) -> 60.531541 | G51: =IF(A51<=$C$21,($C$5-$C$8)*(F51/$C$12)^(1/$C$11)+$C$8, ($C$28-$C$8)*(F51/$C$29)^(1/$C$11)+$C$8) -> 28.843787 | H51: =A51-$C$6/2 -> 6000 | I51: =A51+$C$6/2 -> 14000
A52: =A51+$C$4 -> 11000 | E52: =IF(A52<=$C$21,$C$17*EXP(-A52/$C$19),$C$18*EXP(-(A52-$C$21)/$C$20)) -> 1374.7053 | F52: =IF(A52<=$C$21,IF($C$12*(1-$C$25*(EXP(A52/$C$19)-1))>0,$C$12*(1-$C$25*(EXP(A52/$C$19)-1)),0),IF($C$29*(1-$C$27*(EXP((A52-$C$21)/$C$20)-1))>0,$C$29*(1-$C$27*(EXP((A52-$C$21)/$C$20)-1)),0)) -> 59.811282 | G52: =IF(A52<=$C$21,($C$5-$C$8)*(F52/$C$12)^(1/$C$11)+$C$8, ($C$28-$C$8)*(F52/$C$29)^(1/$C$11)+$C$8) -> 28.196936 | H52: =A52-$C$6/2 -> 7000 | I52: =A52+$C$6/2 -> 15000
A53: =A52+$C$4 -> 12000 | E53: =IF(A53<=$C$21,$C$17*EXP(-A53/$C$19),$C$18*EXP(-(A53-$C$21)/$C$20)) -> 1347.6982 | F53: =IF(A53<=$C$21,IF($C$12*(1-$C$25*(EXP(A53/$C$19)-1))>0,$C$12*(1-$C$25*(EXP(A53/$C$19)-1)),0),IF($C$29*(1-$C$27*(EXP((A53-$C$21)/$C$20)-1))>0,$C$29*(1-$C$27*(EXP((A53-$C$21)/$C$20)-1)),0)) -> 59.076589 | G53: =IF(A53<=$C$21,($C$5-$C$8)*(F53/$C$12)^(1/$C$11)+$C$8, ($C$28-$C$8)*(F53/$C$29)^(1/$C$11)+$C$8) -> 27.545099 | H53: =A53-$C$6/2 -> 8000 | I53: =A53+$C$6/2 -> 16000
... A167: =A166+$C$4 -> 126000 | E167: =IF(A167<=$C$21,$C$17*EXP(-A167/$C$19),$C$18*EXP(-(A167-$C$21)/$C$20)) -> 508.79167 | F167: =IF(A167<=$C$21,IF($C$12*(1-$C$25*(EXP(A167/$C$19)-1))>0,$C$12*(1-$C$25*(EXP(A167/$C$19)-1)),0),IF($C$29*(1-$C$27*(EXP((A167-$C$21)/$C$20)-1))>0,$C$29*(1-$C$27*(EXP((A167-$C$21)/$C$20)-1)),0)) -> 0 | G167: =IF(A167<=$C$21,($C$5-$C$8)*(F167/$C$12)^(1/$C$11)+$C$8, ($C$28-$C$8)*(F167/$C$29)^(1/$C$11)+$C$8) -> 1.5 | H167: =A167-$C$6/2 -> 122000 | I167: =A167+$C$6/2 -> 130000

Sheet 14-7-1994
A1: STEADY SALT INTRUSION MODEL (TA)
A2: Limpopo 14-7-1994
A3: Input | F3: Measurements
A4: Step length | B4: dx | C4: 1000 | D4: m | F4: x (m) | G4: HWS | H4: x (m) | I4: LWS
A5: Sea salinity | B5: S0 | C5: 32 | D5: kg/m3 | F5: 18000 | G5: 18.35
A6: Tidal Excursion | B6: E0 | C6: 7000 | D6: m | F6: 22000 | G6: 16.68
A7: Tidal Range | B7: H | C7: 1 | D7: m | F7: 27000 | G7: 12.25
A8: Fresh water salinity | B8: Cf | C8: 0.7 | D8: kg/m3 | F8: 34000 | G8: 7.6
F9: 40000 | G9: 2.29
A10: Calibration parameters | F10: 48500 | G10: 0.48
A11: Van Den Burgh | B11: K | C11: 0.5 | F11: 52500 | G11: 0.51
A12: Dispersion at mouth | B12: Do | C12: 100 | D12: m2/s
A13: Discharge | B13: Q | C13: 5 | D13: m3/s
A14: Alpha 0 | B14: α0 | C14: =C12/C13 -> 20 | D14: 1/m
A16: Geometry
A17: Area at mouth | B17: A0 | C17: =Overview!D18 -> 1710 | D17: m2
A18: Area at x1 | B18: A1 | C18: =Overview!D19 -> 1149.8919 | D18: m2
A19: Convergence length | B19: a1 | C19: =Overview!D20 -> 50400 | D19: m
A20: Convergence length 2 | B20: a2 | C20: =Overview!D21 -> 130000 | D20: m
A21: Inflection point | B21: x1 | C21: =Overview!D22 -> 20000 | D21: m
A22: Depth | B22: h0 | C22: =Overview!D23 -> 7 | D22: m
A24: Calculations | F24: REMARKS
A25: Beta | B25: β | C25: =$C$11*$C$19/C$14/$C$17 -> 0.73684211
A26: Alpha 1 | B26: α1 | C26: =C29/C13 -> 12.821739 | D26: 1/m
A27: Beta1 | B27: β1 | C27: =C11*C20/C26/C18 -> 4.4086882
A28: Salinity at x1 | B28: S1 | C28: =($C$5-$C$8)*(C29/C12)^(1/$C$11)+$C$8 -> 13.564065 | D28: kg/m3
A29: Dispersion at x1 | B29: D1 | C29: =C12*(1-C25*(EXP(C21/C19)-1)) -> 64.108697
A31: x: | B31: Shifted x | E31: A | F31: D | G31: S | H31: xLWS | I31: xHWS
A32: =A33-$C$4-9000 -> -18000 | E32: =IF(A32<=$C$21,$C$17*EXP(-A32/$C$19),$C$18*EXP(-(A32-$C$21)/$C$20)) -> 2444.0005 | F32: =IF(A32<=$C$21,IF($C$12*(1-$C$25*(EXP(A32/$C$19)-1))>0,$C$12*(1-$C$25*(EXP(A32/$C$19)-1)),0),IF($C$29*(1-$C$27*(EXP((A32-$C$21)/$C$20)-1))>0,$C$29*(1-$C$27*(EXP((A32-$C$21)/$C$20)-1)),0)) -> 122.12939 | G32: =IF(A32<=$C$21,($C$5-$C$8)*(F32/$C$12)^(1/$C$11)+$C$8, ($C$28-$C$8)*(F32/$C$29)^(1/$C$11)+$C$8) -> 47.385792 | H32: =A32-$C$6/2 -> -21500 | I32: =A32+$C$6/2 -> -14500
A33: =A34-$C$4 -> -8000 | E33: =IF(A33<=$C$21,$C$17*EXP(-A33/$C$19),$C$18*EXP(-(A33-$C$21)/$C$20)) -> 2004.157 | F33: =IF(A33<=$C$21,IF($C$12*(1-$C$25*(EXP(A33/$C$19)-1))>0,$C$12*(1-$C$25*(EXP(A33/$C$19)-1)),0),IF($C$29*(1-$C$27*(EXP((A33-$C$21)/$C$20)-1))>0,$C$29*(1-$C$27*(EXP((A33-$C$21)/$C$20)-1)),0)) -> 110.81488 | G33: =IF(A33<=$C$21,($C$5-$C$8)*(F33/$C$12)^(1/$C$11)+$C$8, ($C$28-$C$8)*(F33/$C$29)^(1/$C$11)+$C$8) -> 39.136208 | H33: =A33-$C$6/2 -> -11500 | I33: =A33+$C$6/2 -> -4500
A34: =A35-$C$4 -> -7000 | E34: =IF(A34<=$C$21,$C$17*EXP(-A34/$C$19),$C$18*EXP(-(A34-$C$21)/$C$20)) -> 1964.7839 | F34: =IF(A34<=$C$21,IF($C$12*(1-$C$25*(EXP(A34/$C$19)-1))>0,$C$12*(1-$C$25*(EXP(A34/$C$19)-1)),0),IF($C$29*(1-$C$27*(EXP((A34-$C$21)/$C$20)-1))>0,$C$29*(1-$C$27*(EXP((A34-$C$21)/$C$20)-1)),0)) -> 109.55502 | G34: =IF(A34<=$C$21,($C$5-$C$8)*(F34/$C$12)^(1/$C$11)+$C$8, ($C$28-$C$8)*(F34/$C$29)^(1/$C$11)+$C$8) -> 38.267207 | H34: =A34-$C$6/2 -> -10500 | I34: =A34+$C$6/2 -> -3500
A35: =A36-$C$4 -> -6000 | E35: =IF(A35<=$C$21,$C$17*EXP(-A35/$C$19),$C$18*EXP(-(A35-$C$21)/$C$20)) -> 1926.1843 | F35: =IF(A35<=$C$21,IF($C$12*(1-$C$25*(EXP(A35/$C$19)-1))>0,$C$12*(1-$C$25*(EXP(A35/$C$19)-1)),0),IF($C$29*(1-$C$27*(EXP((A35-$C$21)/$C$20)-1))>0,$C$29*(1-$C$27*(EXP((A35-$C$21)/$C$20)-1)),0)) -> 108.26991 | G35: =IF(A35<=$C$21,($C$5-$C$8)*(F35/$C$12)^(1/$C$11)+$C$8, ($C$28-$C$8)*(F35/$C$29)^(1/$C$11)+$C$8) -> 37.391028 | H35: =A35-$C$6/2 -> -9500 | I35: =A35+$C$6/2 -> -2500
A36: =A37-$C$4 -> -5000 | E36: =IF(A36<=$C$21,$C$17*EXP(-A36/$C$19),$C$18*EXP(-(A36-$C$21)/$C$20)) -> 1888.343 | F36: =IF(A36<=$C$21,IF($C$12*(1-$C$25*(EXP(A36/$C$19)-1))>0,$C$12*(1-$C$25*(EXP(A36/$C$19)-1)),0),IF($C$29*(1-$C$27*(EXP((A36-$C$21)/$C$20)-1))>0,$C$29*(1-$C$27*(EXP((A36-$C$21)/$C$20)-1)),0)) -> 106.95904 | G36: =IF(A36<=$C$21,($C$5-$C$8)*(F36/$C$12)^(1/$C$11)+$C$8, ($C$28-$C$8)*(F36/$C$29)^(1/$C$11)+$C$8) -> 36.507942 | H36: =A36-$C$6/2 -> -8500 | I36: =A36+$C$6/2 -> -1500
A37: =A38-$C$4 -> -4000 | E37: =IF(A37<=$C$21,$C$17*EXP(-A37/$C$19),$C$18*EXP(-(A37-$C$21)/$C$20)) -> 1851.2451 | F37: =IF(A37<=$C$21,IF($C$12*(1-$C$25*(EXP(A37/$C$19)-1))>0,$C$12*(1-$C$25*(EXP(A37/$C$19)-1)),0),IF($C$29*(1-$C$27*(EXP((A37-$C$21)/$C$20)-1))>0,$C$29*(1-$C$27*(EXP((A37-$C$21)/$C$20)-1)),0)) -> 105.62191 | G37: =IF(A37<=$C$21,($C$5-$C$8)*(F37/$C$12)^(1/$C$11)+$C$8, ($C$28-$C$8)*(F37/$C$29)^(1/$C$11)+$C$8) -> 35.618243 | H37: =A37-$C$6/2 -> -7500 | I37: =A37+$C$6/2 -> -500
A38: =A39-$C$4 -> -3000 | E38: =IF(A38<=$C$21,$C$17*EXP(-A38/$C$19),$C$18*EXP(-(A38-$C$21)/$C$20)) -> 1814.8761 | F38: =IF(A38<=$C$21,IF($C$12*(1-$C$25*(EXP(A38/$C$19)-1))>0,$C$12*(1-$C$25*(EXP(A38/$C$19)-1)),0),IF($C$29*(1-$C$27*(EXP((A38-$C$21)/$C$20)-1))>0,$C$29*(1-$C$27*(EXP((A38-$C$21)/$C$20)-1)),0)) -> 104.25798 | G38: =IF(A38<=$C$21,($C$5-$C$8)*(F38/$C$12)^(1/$C$11)+$C$8, ($C$28-$C$8)*(F38/$C$29)^(1/$C$11)+$C$8) -> 34.722245 | H38: =A38-$C$6/2 -> -6500 | I38: =A38+$C$6/2 -> 500
A39: =A40-$C$4 -> -2000 | E39: =IF(A39<=$C$21,$C$17*EXP(-A39/$C$19),$C$18*EXP(-(A39-$C$21)/$C$20)) -> 1779.2215 | F39: =IF(A39<=$C$21,IF($C$12*(1-$C$25*(EXP(A39/$C$19)-1))>0,$C$12*(1-$C$25*(EXP(A39/$C$19)-1)),0),IF($C$29*(1-$C$27*(EXP((A39-$C$21)/$C$20)-1))>0,$C$29*(1-$C$27*(EXP((A39-$C$21)/$C$20)-1)),0)) -> 102.86672 | G39: =IF(A39<=$C$21,($C$5-$C$8)*(F39/$C$12)^(1/$C$11)+$C$8, ($C$28-$C$8)*(F39/$C$29)^(1/$C$11)+$C$8) -> 33.82029 | H39: =A39-$C$6/2 -> -5500 | I39: =A39+$C$6/2 -> 1500
A40: =A41-$C$4 -> -1000 | E40: =IF(A40<=$C$21,$C$17*EXP(-A40/$C$19),$C$18*EXP(-(A40-$C$21)/$C$20)) -> 1744.2674 | F40: =IF(A40<=$C$21,IF($C$12*(1-$C$25*(EXP(A40/$C$19)-1))>0,$C$12*(1-$C$25*(EXP(A40/$C$19)-1)),0),IF($C$29*(1-$C$27*(EXP((A40-$C$21)/$C$20)-1))>0,$C$29*(1-$C$27*(EXP((A40-$C$21)/$C$20)-1)),0)) -> 101.44758 | G40: =IF(A40<=$C$21,($C$5-$C$8)*(F40/$C$12)^(1/$C$11)+$C$8, ($C$28-$C$8)*(F40/$C$29)^(1/$C$11)+$C$8) -> 32.912744 | H40: =A40-$C$6/2 -> -4500 | I40: =A40+$C$6/2 -> 2500
A41: 0 | E41: =IF(A41<=$C$21,$C$17*EXP(-A41/$C$19),$C$18*EXP(-(A41-$C$21)/$C$20)) -> 1710 | F41: =IF(A41<=$C$21,IF($C$12*(1-$C$25*(EXP(A41/$C$19)-1))>0,$C$12*(1-$C$25*(EXP(A41/$C$19)-1)),0),IF($C$29*(1-$C$27*(EXP((A41-$C$21)/$C$20)-1))>0,$C$29*(1-$C$27*(EXP((A41-$C$21)/$C$20)-1)),0)) -> 100 | G41: =IF(A41<=$C$21,($C$5-$C$8)*(F41/$C$12)^(1/$C$11)+$C$8, ($C$28-$C$8)*(F41/$C$29)^(1/$C$11)+$C$8) -> 32 | H41: =A41-$C$6/2 -> -3500 | I41: =A41+$C$6/2 -> 3500
A42: =A41+$C$4 -> 1000 | E42: =IF(A42<=$C$21,$C$17*EXP(-A42/$C$19),$C$18*EXP(-(A42-$C$21)/$C$20)) -> 1676.4058 | F42: =IF(A42<=$C$21,IF($C$12*(1-$C$25*(EXP(A42/$C$19)-1))>0,$C$12*(1-$C$25*(EXP(A42/$C$19)-1)),0),IF($C$29*(1-$C$27*(EXP((A42-$C$21)/$C$20)-1))>0,$C$29*(1-$C$27*(EXP((A42-$C$21)/$C$20)-1)),0)) -> 98.523411 | G42: =IF(A42<=$C$21,($C$5-$C$8)*(F42/$C$12)^(1/$C$11)+$C$8, ($C$28-$C$8)*(F42/$C$29)^(1/$C$11)+$C$8) -> 31.08248 | H42: =A42-$C$6/2 -> -2500 | I42: =A42+$C$6/2 -> 4500
A43: =A42+$C$4 -> 2000 | E43: =IF(A43<=$C$21,$C$17*EXP(-A43/$C$19),$C$18*EXP(-(A43-$C$21)/$C$20)) -> 1643.4716 | F43: =IF(A43<=$C$21,IF($C$12*(1-$C$25*(EXP(A43/$C$19)-1))>0,$C$12*(1-$C$25*(EXP(A43/$C$19)-1)),0),IF($C$29*(1-$C$27*(EXP((A43-$C$21)/$C$20)-1))>0,$C$29*(1-$C$27*(EXP((A43-$C$21)/$C$20)-1)),0)) -> 97.017233 | G43: =IF(A43<=$C$21,($C$5-$C$8)*(F43/$C$12)^(1/$C$11)+$C$8, ($C$28-$C$8)*(F43/$C$29)^(1/$C$11)+$C$8) -> 30.160635 | H43: =A43-$C$6/2 -> -1500 | I43: =A43+$C$6/2 -> 5500
A44: =A43+$C$4 -> 3000 | E44: =IF(A44<=$C$21,$C$17*EXP(-A44/$C$19),$C$18*EXP(-(A44-$C$21)/$C$20)) -> 1611.1844 | F44: =IF(A44<=$C$21,IF($C$12*(1-$C$25*(EXP(A44/$C$19)-1))>0,$C$12*(1-$C$25*(EXP(A44/$C$19)-1)),0),IF($C$29*(1-$C$27*(EXP((A44-$C$21)/$C$20)-1))>0,$C$29*(1-$C$27*(EXP((A44-$C$21)/$C$20)-1)),0)) -> 95.480871 | G44: =IF(A44<=$C$21,($C$5-$C$8)*(F44/$C$12)^(1/$C$11)+$C$8, ($C$28-$C$8)*(F44/$C$29)^(1/$C$11)+$C$8) -> 29.234948 | H44: =A44-$C$6/2 -> -500 | I44: =A44+$C$6/2 -> 6500
A45: =A44+$C$4 -> 4000 | E45: =IF(A45<=$C$21,$C$17*EXP(-A45/$C$19),$C$18*EXP(-(A45-$C$21)/$C$20)) -> 1579.5315 | F45: =IF(A45<=$C$21,IF($C$12*(1-$C$25*(EXP(A45/$C$19)-1))>0,$C$12*(1-$C$25*(EXP(A45/$C$19)-1)),0),IF($C$29*(1-$C$27*(EXP((A45-$C$21)/$C$20)-1))>0,$C$29*(1-$C$27*(EXP((A45-$C$21)/$C$20)-1)),0)) -> 93.913722 | G45: =IF(A45<=$C$21,($C$5-$C$8)*(F45/$C$12)^(1/$C$11)+$C$8, ($C$28-$C$8)*(F45/$C$29)^(1/$C$11)+$C$8) -> 28.305934 | H45: =A45-$C$6/2 -> 500 | I45: =A45+$C$6/2 -> 7500
A46: =A45+$C$4 -> 5000 | E46: =IF(A46<=$C$21,$C$17*EXP(-A46/$C$19),$C$18*EXP(-(A46-$C$21)/$C$20)) -> 1548.5005 | F46: =IF(A46<=$C$21,IF($C$12*(1-$C$25*(EXP(A46/$C$19)-1))>0,$C$12*(1-$C$25*(EXP(A46/$C$19)-1)),0),IF($C$29*(1-$C$27*(EXP((A46-$C$21)/$C$20)-1))>0,$C$29*(1-$C$27*(EXP((A46-$C$21)/$C$20)-1)),0)) -> 92.315168 | G46: =IF(A46<=$C$21,($C$5-$C$8)*(F46/$C$12)^(1/$C$11)+$C$8, ($C$28-$C$8)*(F46/$C$29)^(1/$C$11)+$C$8) -> 27.374143 | H46: =A46-$C$6/2 -> 1500 | I46: =A46+$C$6/2 -> 8500
A47: =A46+$C$4 -> 6000 | E47: =IF(A47<=$C$21,$C$17*EXP(-A47/$C$19),$C$18*EXP(-(A47-$C$21)/$C$20)) -> 1518.079 | F47: =IF(A47<=$C$21,IF($C$12*(1-$C$25*(EXP(A47/$C$19)-1))>0,$C$12*(1-$C$25*(EXP(A47/$C$19)-1)),0),IF($C$29*(1-$C$27*(EXP((A47-$C$21)/$C$20)-1))>0,$C$29*(1-$C$27*(EXP((A47-$C$21)/$C$20)-1)),0)) -> 90.68458 | G47: =IF(A47<=$C$21,($C$5-$C$8)*(F47/$C$12)^(1/$C$11)+$C$8, ($C$28-$C$8)*(F47/$C$29)^(1/$C$11)+$C$8) -> 26.440159 | H47: =A47-$C$6/2 -> 2500 | I47: =A47+$C$6/2 -> 9500
A48: =A47+$C$4 -> 7000 | E48: =IF(A48<=$C$21,$C$17*EXP(-A48/$C$19),$C$18*EXP(-(A48-$C$21)/$C$20)) -> 1488.2553 | F48: =IF(A48<=$C$21,IF($C$12*(1-$C$25*(EXP(A48/$C$19)-1))>0,$C$12*(1-$C$25*(EXP(A48/$C$19)-1)),0),IF($C$29*(1-$C$27*(EXP((A48-$C$21)/$C$20)-1))>0,$C$29*(1-$C$27*(EXP((A48-$C$21)/$C$20)-1)),0)) -> 89.021316 | G48: =IF(A48<=$C$21,($C$5-$C$8)*(F48/$C$12)^(1/$C$11)+$C$8, ($C$28-$C$8)*(F48/$C$29)^(1/$C$11)+$C$8) -> 25.504607 | H48: =A48-$C$6/2 -> 3500 | I48: =A48+$C$6/2 -> 10500
A49: =A48+$C$4 -> 8000 | E49: =IF(A49<=$C$21,$C$17*EXP(-A49/$C$19),$C$18*EXP(-(A49-$C$21)/$C$20)) -> 1459.0174 | F49: =IF(A49<=$C$21,IF($C$12*(1-$C$25*(EXP(A49/$C$19)-1))>0,$C$12*(1-$C$25*(EXP(A49/$C$19)-1)),0),IF($C$29*(1-$C$27*(EXP((A49-$C$21)/$C$20)-1))>0,$C$29*(1-$C$27*(EXP((A49-$C$21)/$C$20)-1)),0)) -> 87.324721 | G49: =IF(A49<=$C$21,($C$5-$C$8)*(F49/$C$12)^(1/$C$11)+$C$8, ($C$28-$C$8)*(F49/$C$29)^(1/$C$11)+$C$8) -> 24.56815 | H49: =A49-$C$6/2 -> 4500 | I49: =A49+$C$6/2 -> 11500
A50: =A49+$C$4 -> 9000 | E50: =IF(A50<=$C$21,$C$17*EXP(-A50/$C$19),$C$18*EXP(-(A50-$C$21)/$C$20)) -> 1430.354 | F50: =IF(A50<=$C$21,IF($C$12*(1-$C$25*(EXP(A50/$C$19)-1))>0,$C$12*(1-$C$25*(EXP(A50/$C$19)-1)),0),IF($C$29*(1-$C$27*(EXP((A50-$C$21)/$C$20)-1))>0,$C$29*(1-$C$27*(EXP((A50-$C$21)/$C$20)-1)),0)) -> 85.594127 | G50: =IF(A50<=$C$21,($C$5-$C$8)*(F50/$C$12)^(1/$C$11)+$C$8, ($C$28-$C$8)*(F50/$C$29)^(1/$C$11)+$C$8) -> 23.63149 | H50: =A50-$C$6/2 -> 5500 | I50: =A50+$C$6/2 -> 12500
A51: =A50+$C$4 -> 10000 | E51: =IF(A51<=$C$21,$C$17*EXP(-A51/$C$19),$C$18*EXP(-(A51-$C$21)/$C$20)) -> 1402.2536 | F51: =IF(A51<=$C$21,IF($C$12*(1-$C$25*(EXP(A51/$C$19)-1))>0,$C$12*(1-$C$25*(EXP(A51/$C$19)-1)),0),IF($C$29*(1-$C$27*(EXP((A51-$C$21)/$C$20)-1))>0,$C$29*(1-$C$27*(EXP((A51-$C$21)/$C$20)-1)),0)) -> 83.828853 | G51: =IF(A51<=$C$21,($C$5-$C$8)*(F51/$C$12)^(1/$C$11)+$C$8, ($C$28-$C$8)*(F51/$C$29)^(1/$C$11)+$C$8) -> 22.695376 | H51: =A51-$C$6/2 -> 6500 | I51: =A51+$C$6/2 -> 13500
A52: =A51+$C$4 -> 11000 | E52: =IF(A52<=$C$21,$C$17*EXP(-A52/$C$19),$C$18*EXP(-(A52-$C$21)/$C$20)) -> 1374.7053 | F52: =IF(A52<=$C$21,IF($C$12*(1-$C$25*(EXP(A52/$C$19)-1))>0,$C$12*(1-$C$25*(EXP(A52/$C$19)-1)),0),IF($C$29*(1-$C$27*(EXP((A52-$C$21)/$C$20)-1))>0,$C$29*(1-$C$27*(EXP((A52-$C$21)/$C$20)-1)),0)) -> 82.028204 | G52: =IF(A52<=$C$21,($C$5-$C$8)*(F52/$C$12)^(1/$C$11)+$C$8, ($C$28-$C$8)*(F52/$C$29)^(1/$C$11)+$C$8) -> 21.7606 | H52: =A52-$C$6/2 -> 7500 | I52: =A52+$C$6/2 -> 14500
A53: =A52+$C$4 -> 12000 | E53: =IF(A53<=$C$21,$C$17*EXP(-A53/$C$19),$C$18*EXP(-(A53-$C$21)/$C$20)) -> 1347.6982 | F53: =IF(A53<=$C$21,IF($C$12*(1-$C$25*(EXP(A53/$C$19)-1))>0,$C$12*(1-$C$25*(EXP(A53/$C$19)-1)),0),IF($C$29*(1-$C$27*(EXP((A53-$C$21)/$C$20)-1))>0,$C$29*(1-$C$27*(EXP((A53-$C$21)/$C$20)-1)),0)) -> 80.191472 | G53: =IF(A53<=$C$21,($C$5-$C$8)*(F53/$C$12)^(1/$C$11)+$C$8, ($C$28-$C$8)*(F53/$C$29)^(1/$C$11)+$C$8) -> 20.828004 | H53: =A53-$C$6/2 -> 8500 | I53: =A53+$C$6/2 -> 15500
... A167: =A166+$C$4 -> 126000 | E167: =IF(A167<=$C$21,$C$17*EXP(-A167/$C$19),$C$18*EXP(-(A167-$C$21)/$C$20)) -> 508.79167 | F167: =IF(A167<=$C$21,IF($C$12*(1-$C$25*(EXP(A167/$C$19)-1))>0,$C$12*(1-$C$25*(EXP(A167/$C$19)-1)),0),IF($C$29*(1-$C$27*(EXP((A167-$C$21)/$C$20)-1))>0,$C$29*(1-$C$27*(EXP((A167-$C$21)/$C$20)-1)),0)) -> 0 | G167: =IF(A167<=$C$21,($C$5-$C$8)*(F167/$C$12)^(1/$C$11)+$C$8, ($C$28-$C$8)*(F167/$C$29)^(1/$C$11)+$C$8) -> 0.7 | H167: =A167-$C$6/2 -> 122500 | I167: =A167+$C$6/2 -> 129500

Sheet 24-7-1994
A1: STEADY SALT INTRUSION MODEL (TA)
A2: Limpopo 24-7-1994
A3: Input | F3: Measurements
A4: Step length | B4: dx | C4: 1000 | D4: m | F4: x (m) | G4: HWS | H4: x (m) | I4: LWS
A5: Sea salinity | B5: S0 | C5: 35 | D5: kg/m3 | F5: 6000 | G5: 35.54 | H5: 2000 | I5: 29.7
A6: Tidal Excursion | B6: E0 | C6: 6800 | D6: m | F6: 11000 | G6: 30.2 | H6: 6000 | I6: 32.7
A7: Tidal Range | B7: H | C7: 0.9 | D7: m | F7: 15000 | G7: 25.32 | H7: 11000 | I7: 20.92
A8: Fresh water salinity | B8: Cf | C8: 0.7 | D8: kg/m3 | F8: 18000 | G8: 22.15 | H8: 15000 | I8: 18.4
F9: 22000 | G9: 19.42 | H9: 18000 | I9: 17.1
A10: Calibration parameters | F10: 27000 | G10: 16 | H10: 22000 | I10: 12.9
A11: Van Den Burgh | B11: K | C11: 0.5 | F11: 40000 | G11: 7.32 | H11: 27000 | I11: 10.38
A12: Dispersion at mouth | B12: Do | C12: 125 | D12: m2/s | F12: 48500 | G12: 2.22 | H12: 40000 | I12: 3.7
A13: Discharge | B13: Q | C13: 5 | D13: m3/s | F13: 50500 | G13: 1.12 | H13: 48500 | I13: 0.6
A14: Alpha 0 | B14: α0 | C14: =C12/C13 -> 25 | D14: 1/m | F14: 52500 | G14: 0.63
F15: 55500 | G15: 0.62
A16: Geometry
A17: Area at mouth | B17: A0 | C17: =Overview!D18 -> 1710 | D17: m2
A18: Area at x1 | B18: A1 | C18: =Overview!D19 -> 1149.8919 | D18: m2
A19: Convergence length | B19: a1 | C19: =Overview!D20 -> 50400 | D19: m
A20: Convergence length 2 | B20: a2 | C20: =Overview!D21 -> 130000 | D20: m
A21: Inflection point | B21: x1 | C21: =Overview!D22 -> 20000 | D21: m
A22: Depth | B22: h0 | C22: =Overview!D23 -> 7 | D22: m
A24: Calculations | F24: REMARKS
A25: Beta | B25: β | C25: =$C$11*$C$19/C$14/$C$17 -> 0.58947368
A26: Alpha 1 | B26: α1 | C26: =C29/C13 -> 17.821739 | D26: 1/m
A27: Beta1 | B27: β1 | C27: =C11*C20/C26/C18 -> 3.1718032
A28: Salinity at x1 | B28: S1 | C28: =($C$5-$C$8)*(C29/C12)^(1/$C$11)+$C$8 -> 18.130678 | D28: kg/m3
A29: Dispersion at x1 | B29: D1 | C29: =C12*(1-C25*(EXP(C21/C19)-1)) -> 89.108697
A31: x: | B31: Shifted x | E31: A | F31: D | G31: S | H31: xLWS | I31: xHWS
A32: =A33-$C$4-9000 -> -18000 | E32: =IF(A32<=$C$21,$C$17*EXP(-A32/$C$19),$C$18*EXP(-(A32-$C$21)/$C$20)) -> 2444.0005 | F32: =IF(A32<=$C$21,IF($C$12*(1-$C$25*(EXP(A32/$C$19)-1))>0,$C$12*(1-$C$25*(EXP(A32/$C$19)-1)),0),IF($C$29*(1-$C$27*(EXP((A32-$C$21)/$C$20)-1))>0,$C$29*(1-$C$27*(EXP((A32-$C$21)/$C$20)-1)),0)) -> 147.12939 | G32: =IF(A32<=$C$21,($C$5-$C$8)*(F32/$C$12)^(1/$C$11)+$C$8, ($C$28-$C$8)*(F32/$C$29)^(1/$C$11)+$C$8) -> 48.219622 | H32: =A32-$C$6/2 -> -21400 | I32: =A32+$C$6/2 -> -14600
A33: =A34-$C$4 -> -8000 | E33: =IF(A33<=$C$21,$C$17*EXP(-A33/$C$19),$C$18*EXP(-(A33-$C$21)/$C$20)) -> 2004.157 | F33: =IF(A33<=$C$21,IF($C$12*(1-$C$25*(EXP(A33/$C$19)-1))>0,$C$12*(1-$C$25*(EXP(A33/$C$19)-1)),0),IF($C$29*(1-$C$27*(EXP((A33-$C$21)/$C$20)-1))>0,$C$29*(1-$C$27*(EXP((A33-$C$21)/$C$20)-1)),0)) -> 135.81488 | G33: =IF(A33<=$C$21,($C$5-$C$8)*(F33/$C$12)^(1/$C$11)+$C$8, ($C$28-$C$8)*(F33/$C$29)^(1/$C$11)+$C$8) -> 41.191963 | H33: =A33-$C$6/2 -> -11400 | I33: =A33+$C$6/2 -> -4600
A34: =A35-$C$4 -> -7000 | E34: =IF(A34<=$C$21,$C$17*EXP(-A34/$C$19),$C$18*EXP(-(A34-$C$21)/$C$20)) -> 1964.7839 | F34: =IF(A34<=$C$21,IF($C$12*(1-$C$25*(EXP(A34/$C$19)-1))>0,$C$12*(1-$C$25*(EXP(A34/$C$19)-1)),0),IF($C$29*(1-$C$27*(EXP((A34-$C$21)/$C$20)-1))>0,$C$29*(1-$C$27*(EXP((A34-$C$21)/$C$20)-1)),0)) -> 134.55502 | G34: =IF(A34<=$C$21,($C$5-$C$8)*(F34/$C$12)^(1/$C$11)+$C$8, ($C$28-$C$8)*(F34/$C$29)^(1/$C$11)+$C$8) -> 40.444213 | H34: =A34-$C$6/2 -> -10400 | I34: =A34+$C$6/2 -> -3600
A35: =A36-$C$4 -> -6000 | E35: =IF(A35<=$C$21,$C$17*EXP(-A35/$C$19),$C$18*EXP(-(A35-$C$21)/$C$20)) -> 1926.1843 | F35: =IF(A35<=$C$21,IF($C$12*(1-$C$25*(EXP(A35/$C$19)-1))>0,$C$12*(1-$C$25*(EXP(A35/$C$19)-1)),0),IF($C$29*(1-$C$27*(EXP((A35-$C$21)/$C$20)-1))>0,$C$29*(1-$C$27*(EXP((A35-$C$21)/$C$20)-1)),0)) -> 133.26991 | G35: =IF(A35<=$C$21,($C$5-$C$8)*(F35/$C$12)^(1/$C$11)+$C$8, ($C$28-$C$8)*(F35/$C$29)^(1/$C$11)+$C$8) -> 39.688659 | H35: =A35-$C$6/2 -> -9400 | I35: =A35+$C$6/2 -> -2600
A36: =A37-$C$4 -> -5000 | E36: =IF(A36<=$C$21,$C$17*EXP(-A36/$C$19),$C$18*EXP(-(A36-$C$21)/$C$20)) -> 1888.343 | F36: =IF(A36<=$C$21,IF($C$12*(1-$C$25*(EXP(A36/$C$19)-1))>0,$C$12*(1-$C$25*(EXP(A36/$C$19)-1)),0),IF($C$29*(1-$C$27*(EXP((A36-$C$21)/$C$20)-1))>0,$C$29*(1-$C$27*(EXP((A36-$C$21)/$C$20)-1)),0)) -> 131.95904 | G36: =IF(A36<=$C$21,($C$5-$C$8)*(F36/$C$12)^(1/$C$11)+$C$8, ($C$28-$C$8)*(F36/$C$29)^(1/$C$11)+$C$8) -> 38.925433 | H36: =A36-$C$6/2 -> -8400 | I36: =A36+$C$6/2 -> -1600
A37: =A38-$C$4 -> -4000 | E37: =IF(A37<=$C$21,$C$17*EXP(-A37/$C$19),$C$18*EXP(-(A37-$C$21)/$C$20)) -> 1851.2451 | F37: =IF(A37<=$C$21,IF($C$12*(1-$C$25*(EXP(A37/$C$19)-1))>0,$C$12*(1-$C$25*(EXP(A37/$C$19)-1)),0),IF($C$29*(1-$C$27*(EXP((A37-$C$21)/$C$20)-1))>0,$C$29*(1-$C$27*(EXP((A37-$C$21)/$C$20)-1)),0)) -> 130.62191 | G37: =IF(A37<=$C$21,($C$5-$C$8)*(F37/$C$12)^(1/$C$11)+$C$8, ($C$28-$C$8)*(F37/$C$29)^(1/$C$11)+$C$8) -> 38.154686 | H37: =A37-$C$6/2 -> -7400 | I37: =A37+$C$6/2 -> -600
A38: =A39-$C$4 -> -3000 | E38: =IF(A38<=$C$21,$C$17*EXP(-A38/$C$19),$C$18*EXP(-(A38-$C$21)/$C$20)) -> 1814.8761 | F38: =IF(A38<=$C$21,IF($C$12*(1-$C$25*(EXP(A38/$C$19)-1))>0,$C$12*(1-$C$25*(EXP(A38/$C$19)-1)),0),IF($C$29*(1-$C$27*(EXP((A38-$C$21)/$C$20)-1))>0,$C$29*(1-$C$27*(EXP((A38-$C$21)/$C$20)-1)),0)) -> 129.25798 | G38: =IF(A38<=$C$21,($C$5-$C$8)*(F38/$C$12)^(1/$C$11)+$C$8, ($C$28-$C$8)*(F38/$C$29)^(1/$C$11)+$C$8) -> 37.37658 | H38: =A38-$C$6/2 -> -6400 | I38: =A38+$C$6/2 -> 400
A39: =A40-$C$4 -> -2000 | E39: =IF(A39<=$C$21,$C$17*EXP(-A39/$C$19),$C$18*EXP(-(A39-$C$21)/$C$20)) -> 1779.2215 | F39: =IF(A39<=$C$21,IF($C$12*(1-$C$25*(EXP(A39/$C$19)-1))>0,$C$12*(1-$C$25*(EXP(A39/$C$19)-1)),0),IF($C$29*(1-$C$27*(EXP((A39-$C$21)/$C$20)-1))>0,$C$29*(1-$C$27*(EXP((A39-$C$21)/$C$20)-1)),0)) -> 127.86672 | G39: =IF(A39<=$C$21,($C$5-$C$8)*(F39/$C$12)^(1/$C$11)+$C$8, ($C$28-$C$8)*(F39/$C$29)^(1/$C$11)+$C$8) -> 36.591297 | H39: =A39-$C$6/2 -> -5400 | I39: =A39+$C$6/2 -> 1400
A40: =A41-$C$4 -> -1000 | E40: =IF(A40<=$C$21,$C$17*EXP(-A40/$C$19),$C$18*EXP(-(A40-$C$21)/$C$20)) -> 1744.2674 | F40: =IF(A40<=$C$21,IF($C$12*(1-$C$25*(EXP(A40/$C$19)-1))>0,$C$12*(1-$C$25*(EXP(A40/$C$19)-1)),0),IF($C$29*(1-$C$27*(EXP((A40-$C$21)/$C$20)-1))>0,$C$29*(1-$C$27*(EXP((A40-$C$21)/$C$20)-1)),0)) -> 126.44758 | G40: =IF(A40<=$C$21,($C$5-$C$8)*(F40/$C$12)^(1/$C$11)+$C$8, ($C$28-$C$8)*(F40/$C$29)^(1/$C$11)+$C$8) -> 35.799032 | H40: =A40-$C$6/2 -> -4400 | I40: =A40+$C$6/2 -> 2400
A41: 0 | E41: =IF(A41<=$C$21,$C$17*EXP(-A41/$C$19),$C$18*EXP(-(A41-$C$21)/$C$20)) -> 1710 | F41: =IF(A41<=$C$21,IF($C$12*(1-$C$25*(EXP(A41/$C$19)-1))>0,$C$12*(1-$C$25*(EXP(A41/$C$19)-1)),0),IF($C$29*(1-$C$27*(EXP((A41-$C$21)/$C$20)-1))>0,$C$29*(1-$C$27*(EXP((A41-$C$21)/$C$20)-1)),0)) -> 125 | G41: =IF(A41<=$C$21,($C$5-$C$8)*(F41/$C$12)^(1/$C$11)+$C$8, ($C$28-$C$8)*(F41/$C$29)^(1/$C$11)+$C$8) -> 35 | H41: =A41-$C$6/2 -> -3400 | I41: =A41+$C$6/2 -> 3400
A42: =A41+$C$4 -> 1000 | E42: =IF(A42<=$C$21,$C$17*EXP(-A42/$C$19),$C$18*EXP(-(A42-$C$21)/$C$20)) -> 1676.4058 | F42: =IF(A42<=$C$21,IF($C$12*(1-$C$25*(EXP(A42/$C$19)-1))>0,$C$12*(1-$C$25*(EXP(A42/$C$19)-1)),0),IF($C$29*(1-$C$27*(EXP((A42-$C$21)/$C$20)-1))>0,$C$29*(1-$C$27*(EXP((A42-$C$21)/$C$20)-1)),0)) -> 123.52341 | G42: =IF(A42<=$C$21,($C$5-$C$8)*(F42/$C$12)^(1/$C$11)+$C$8, ($C$28-$C$8)*(F42/$C$29)^(1/$C$11)+$C$8) -> 34.194434 | H42: =A42-$C$6/2 -> -2400 | I42: =A42+$C$6/2 -> 4400
A43: =A42+$C$4 -> 2000 | E43: =IF(A43<=$C$21,$C$17*EXP(-A43/$C$19),$C$18*EXP(-(A43-$C$21)/$C$20)) -> 1643.4716 | F43: =IF(A43<=$C$21,IF($C$12*(1-$C$25*(EXP(A43/$C$19)-1))>0,$C$12*(1-$C$25*(EXP(A43/$C$19)-1)),0),IF($C$29*(1-$C$27*(EXP((A43-$C$21)/$C$20)-1))>0,$C$29*(1-$C$27*(EXP((A43-$C$21)/$C$20)-1)),0)) -> 122.01723 | G43: =IF(A43<=$C$21,($C$5-$C$8)*(F43/$C$12)^(1/$C$11)+$C$8, ($C$28-$C$8)*(F43/$C$29)^(1/$C$11)+$C$8) -> 33.382588 | H43: =A43-$C$6/2 -> -1400 | I43: =A43+$C$6/2 -> 5400
A44: =A43+$C$4 -> 3000 | E44: =IF(A44<=$C$21,$C$17*EXP(-A44/$C$19),$C$18*EXP(-(A44-$C$21)/$C$20)) -> 1611.1844 | F44: =IF(A44<=$C$21,IF($C$12*(1-$C$25*(EXP(A44/$C$19)-1))>0,$C$12*(1-$C$25*(EXP(A44/$C$19)-1)),0),IF($C$29*(1-$C$27*(EXP((A44-$C$21)/$C$20)-1))>0,$C$29*(1-$C$27*(EXP((A44-$C$21)/$C$20)-1)),0)) -> 120.48087 | G44: =IF(A44<=$C$21,($C$5-$C$8)*(F44/$C$12)^(1/$C$11)+$C$8, ($C$28-$C$8)*(F44/$C$29)^(1/$C$11)+$C$8) -> 32.564734 | H44: =A44-$C$6/2 -> -400 | I44: =A44+$C$6/2 -> 6400
A45: =A44+$C$4 -> 4000 | E45: =IF(A45<=$C$21,$C$17*EXP(-A45/$C$19),$C$18*EXP(-(A45-$C$21)/$C$20)) -> 1579.5315 | F45: =IF(A45<=$C$21,IF($C$12*(1-$C$25*(EXP(A45/$C$19)-1))>0,$C$12*(1-$C$25*(EXP(A45/$C$19)-1)),0),IF($C$29*(1-$C$27*(EXP((A45-$C$21)/$C$20)-1))>0,$C$29*(1-$C$27*(EXP((A45-$C$21)/$C$20)-1)),0)) -> 118.91372 | G45: =IF(A45<=$C$21,($C$5-$C$8)*(F45/$C$12)^(1/$C$11)+$C$8, ($C$28-$C$8)*(F45/$C$29)^(1/$C$11)+$C$8) -> 31.741167 | H45: =A45-$C$6/2 -> 600 | I45: =A45+$C$6/2 -> 7400
A46: =A45+$C$4 -> 5000 | E46: =IF(A46<=$C$21,$C$17*EXP(-A46/$C$19),$C$18*EXP(-(A46-$C$21)/$C$20)) -> 1548.5005 | F46: =IF(A46<=$C$21,IF($C$12*(1-$C$25*(EXP(A46/$C$19)-1))>0,$C$12*(1-$C$25*(EXP(A46/$C$19)-1)),0),IF($C$29*(1-$C$27*(EXP((A46-$C$21)/$C$20)-1))>0,$C$29*(1-$C$27*(EXP((A46-$C$21)/$C$20)-1)),0)) -> 117.31517 | G46: =IF(A46<=$C$21,($C$5-$C$8)*(F46/$C$12)^(1/$C$11)+$C$8, ($C$28-$C$8)*(F46/$C$29)^(1/$C$11)+$C$8) -> 30.912205 | H46: =A46-$C$6/2 -> 1600 | I46: =A46+$C$6/2 -> 8400
A47: =A46+$C$4 -> 6000 | E47: =IF(A47<=$C$21,$C$17*EXP(-A47/$C$19),$C$18*EXP(-(A47-$C$21)/$C$20)) -> 1518.079 | F47: =IF(A47<=$C$21,IF($C$12*(1-$C$25*(EXP(A47/$C$19)-1))>0,$C$12*(1-$C$25*(EXP(A47/$C$19)-1)),0),IF($C$29*(1-$C$27*(EXP((A47-$C$21)/$C$20)-1))>0,$C$29*(1-$C$27*(EXP((A47-$C$21)/$C$20)-1)),0)) -> 115.68458 | G47: =IF(A47<=$C$21,($C$5-$C$8)*(F47/$C$12)^(1/$C$11)+$C$8, ($C$28-$C$8)*(F47/$C$29)^(1/$C$11)+$C$8) -> 30.078191 | H47: =A47-$C$6/2 -> 2600 | I47: =A47+$C$6/2 -> 9400
A48: =A47+$C$4 -> 7000 | E48: =IF(A48<=$C$21,$C$17*EXP(-A48/$C$19),$C$18*EXP(-(A48-$C$21)/$C$20)) -> 1488.2553 | F48: =IF(A48<=$C$21,IF($C$12*(1-$C$25*(EXP(A48/$C$19)-1))>0,$C$12*(1-$C$25*(EXP(A48/$C$19)-1)),0),IF($C$29*(1-$C$27*(EXP((A48-$C$21)/$C$20)-1))>0,$C$29*(1-$C$27*(EXP((A48-$C$21)/$C$20)-1)),0)) -> 114.02132 | G48: =IF(A48<=$C$21,($C$5-$C$8)*(F48/$C$12)^(1/$C$11)+$C$8, ($C$28-$C$8)*(F48/$C$29)^(1/$C$11)+$C$8) -> 29.239489 | H48: =A48-$C$6/2 -> 3600 | I48: =A48+$C$6/2 -> 10400
A49: =A48+$C$4 -> 8000 | E49: =IF(A49<=$C$21,$C$17*EXP(-A49/$C$19),$C$18*EXP(-(A49-$C$21)/$C$20)) -> 1459.0174 | F49: =IF(A49<=$C$21,IF($C$12*(1-$C$25*(EXP(A49/$C$19)-1))>0,$C$12*(1-$C$25*(EXP(A49/$C$19)-1)),0),IF($C$29*(1-$C$27*(EXP((A49-$C$21)/$C$20)-1))>0,$C$29*(1-$C$27*(EXP((A49-$C$21)/$C$20)-1)),0)) -> 112.32472 | G49: =IF(A49<=$C$21,($C$5-$C$8)*(F49/$C$12)^(1/$C$11)+$C$8, ($C$28-$C$8)*(F49/$C$29)^(1/$C$11)+$C$8) -> 28.396494 | H49: =A49-$C$6/2 -> 4600 | I49: =A49+$C$6/2 -> 11400
A50: =A49+$C$4 -> 9000 | E50: =IF(A50<=$C$21,$C$17*EXP(-A50/$C$19),$C$18*EXP(-(A50-$C$21)/$C$20)) -> 1430.354 | F50: =IF(A50<=$C$21,IF($C$12*(1-$C$25*(EXP(A50/$C$19)-1))>0,$C$12*(1-$C$25*(EXP(A50/$C$19)-1)),0),IF($C$29*(1-$C$27*(EXP((A50-$C$21)/$C$20)-1))>0,$C$29*(1-$C$27*(EXP((A50-$C$21)/$C$20)-1)),0)) -> 110.59413 | G50: =IF(A50<=$C$21,($C$5-$C$8)*(F50/$C$12)^(1/$C$11)+$C$8, ($C$28-$C$8)*(F50/$C$29)^(1/$C$11)+$C$8) -> 27.549625 | H50: =A50-$C$6/2 -> 5600 | I50: =A50+$C$6/2 -> 12400
A51: =A50+$C$4 -> 10000 | E51: =IF(A51<=$C$21,$C$17*EXP(-A51/$C$19),$C$18*EXP(-(A51-$C$21)/$C$20)) -> 1402.2536 | F51: =IF(A51<=$C$21,IF($C$12*(1-$C$25*(EXP(A51/$C$19)-1))>0,$C$12*(1-$C$25*(EXP(A51/$C$19)-1)),0),IF($C$29*(1-$C$27*(EXP((A51-$C$21)/$C$20)-1))>0,$C$29*(1-$C$27*(EXP((A51-$C$21)/$C$20)-1)),0)) -> 108.82885 | G51: =IF(A51<=$C$21,($C$5-$C$8)*(F51/$C$12)^(1/$C$11)+$C$8, ($C$28-$C$8)*(F51/$C$29)^(1/$C$11)+$C$8) -> 26.699333 | H51: =A51-$C$6/2 -> 6600 | I51: =A51+$C$6/2 -> 13400
A52: =A51+$C$4 -> 11000 | E52: =IF(A52<=$C$21,$C$17*EXP(-A52/$C$19),$C$18*EXP(-(A52-$C$21)/$C$20)) -> 1374.7053 | F52: =IF(A52<=$C$21,IF($C$12*(1-$C$25*(EXP(A52/$C$19)-1))>0,$C$12*(1-$C$25*(EXP(A52/$C$19)-1)),0),IF($C$29*(1-$C$27*(EXP((A52-$C$21)/$C$20)-1))>0,$C$29*(1-$C$27*(EXP((A52-$C$21)/$C$20)-1)),0)) -> 107.0282 | G52: =IF(A52<=$C$21,($C$5-$C$8)*(F52/$C$12)^(1/$C$11)+$C$8, ($C$28-$C$8)*(F52/$C$29)^(1/$C$11)+$C$8) -> 25.846096 | H52: =A52-$C$6/2 -> 7600 | I52: =A52+$C$6/2 -> 14400
A53: =A52+$C$4 -> 12000 | E53: =IF(A53<=$C$21,$C$17*EXP(-A53/$C$19),$C$18*EXP(-(A53-$C$21)/$C$20)) -> 1347.6982 | F53: =IF(A53<=$C$21,IF($C$12*(1-$C$25*(EXP(A53/$C$19)-1))>0,$C$12*(1-$C$25*(EXP(A53/$C$19)-1)),0),IF($C$29*(1-$C$27*(EXP((A53-$C$21)/$C$20)-1))>0,$C$29*(1-$C$27*(EXP((A53-$C$21)/$C$20)-1)),0)) -> 105.19147 | G53: =IF(A53<=$C$21,($C$5-$C$8)*(F53/$C$12)^(1/$C$11)+$C$8, ($C$28-$C$8)*(F53/$C$29)^(1/$C$11)+$C$8) -> 24.990427 | H53: =A53-$C$6/2 -> 8600 | I53: =A53+$C$6/2 -> 15400
... A167: =A166+$C$4 -> 126000 | E167: =IF(A167<=$C$21,$C$17*EXP(-A167/$C$19),$C$18*EXP(-(A167-$C$21)/$C$20)) -> 508.79167 | F167: =IF(A167<=$C$21,IF($C$12*(1-$C$25*(EXP(A167/$C$19)-1))>0,$C$12*(1-$C$25*(EXP(A167/$C$19)-1)),0),IF($C$29*(1-$C$27*(EXP((A167-$C$21)/$C$20)-1))>0,$C$29*(1-$C$27*(EXP((A167-$C$21)/$C$20)-1)),0)) -> 0 | G167: =IF(A167<=$C$21,($C$5-$C$8)*(F167/$C$12)^(1/$C$11)+$C$8, ($C$28-$C$8)*(F167/$C$29)^(1/$C$11)+$C$8) -> 0.7 | H167: =A167-$C$6/2 -> 122600 | I167: =A167+$C$6/2 -> 129400

Sheet 10-8-1994
A1: STEADY SALT INTRUSION MODEL (TA)
A2: Limpopo 10-8-1994
A3: Input | F3: Measurements
A4: Step length | B4: dx | C4: 1000 | D4: m | F4: x (m) | G4: HWS | H4: x (m) | I4: LWS
A5: Sea salinity | B5: S0 | C5: 35 | D5: kg/m3 | F5: 1000 | G5: 35.82 | H5: 1000 | I5: 32
A6: Tidal Excursion | B6: E0 | C6: 7100 | D6: m | F6: 2000 | G6: 35.1 | H6: 2000 | I6: 31.24
A7: Tidal Range | B7: H | C7: 1 | D7: m | F7: 4000 | G7: 35.9 | H7: 6000 | I7: 29.4
A8: Fresh water salinity | B8: Cf | C8: 0.7 | D8: kg/m3 | F8: 6000 | G8: 35.66 | H8: 11000 | I8: 21.72
F9: 8000 | G9: 35.6 | H9: 15000 | I9: 18.76
A10: Calibration parameters | F10: 11000 | G10: 31.1 | H10: 18000 | I10: 17.6
A11: Van Den Burgh | B11: K | C11: 0.5 | F11: 15000 | G11: 26.7 | H11: 22000 | I11: 14.44
A12: Dispersion at mouth | B12: Do | C12: 87 | D12: m2/s | F12: 18000 | G12: 23.94 | H12: 27000 | I12: 12.24
A13: Discharge | B13: Q | C13: 3 | D13: m3/s | F13: 22000 | G13: 20.2 | H13: 30500 | I13: 9.96
A14: Alpha 0 | B14: α0 | C14: =C12/C13 -> 29 | D14: 1/m | F14: 27000 | G14: 16.22 | H14: 34000 | I14: 7.88
F15: 30500 | G15: 14.16 | H15: 36500 | I15: 7.02
A16: Geometry | F16: 34000 | G16: 12.9 | H16: 40000 | I16: 6.26
A17: Area at mouth | B17: A0 | C17: =Overview!D18 -> 1710 | D17: m2 | F17: 36500 | G17: 11.28 | H17: 44000 | I17: 3.1
A18: Area at x1 | B18: A1 | C18: =Overview!D19 -> 1149.8919 | D18: m2 | F18: 40000 | G18: 9.62 | H18: 48500 | I18: 1.12
A19: Convergence length | B19: a1 | C19: =Overview!D20 -> 50400 | D19: m | F19: 48500 | G19: 5 | H19: 50500 | I19: 0.8
A20: Convergence length 2 | B20: a2 | C20: =Overview!D21 -> 130000 | D20: m | F20: 50500 | G20: 3.88 | H20: 52500 | I20: 0.8
A21: Inflection point | B21: x1 | C21: =Overview!D22 -> 20000 | D21: m | F21: 52500 | G21: 3.22 | H21: 55500 | I21: 0.7
A22: Depth | B22: h0 | C22: =Overview!D23 -> 7 | D22: m | F22: 55500 | G22: 1.58
F23: 57000 | G23: 1.1
F24: 60000 | G24: 1.1
A27: Calculations | F27: REMARKS
A28: Beta | B28: β | C28: =$C$11*$C$19/C$14/$C$17 -> 0.50816697
A29: Alpha 1 | B29: α1 | C29: =C32/C13 -> 21.821739 | D29: 1/m
A30: Beta1 | B30: β1 | C30: =C11*C20/C29/C18 -> 2.5904008
A31: Salinity at x1 | B31: S1 | C31: =($C$5-$C$8)*(C32/C12)^(1/$C$11)+$C$8 -> 20.121235 | D31: kg/m3
A32: Dispersion at x1 | B32: D1 | C32: =C12*(1-C28*(EXP(C21/C19)-1)) -> 65.465218
A34: x: | B34: Shifted x | E34: A | F34: D | G34: S | H34: xLWS | I34: xHWS
A35: =A36-$C$4-9000 -> -18000 | E35: =IF(A35<=$C$21,$C$17*EXP(-A35/$C$19),$C$18*EXP(-(A35-$C$21)/$C$20)) -> 2444.0005 | F35: =IF(A35<=$C$21,IF($C$12*(1-$C$28*(EXP(A35/$C$19)-1))>0,$C$12*(1-$C$28*(EXP(A35/$C$19)-1)),0),IF($C$32*(1-$C$30*(EXP((A35-$C$21)/$C$20)-1))>0,$C$32*(1-$C$30*(EXP((A35-$C$21)/$C$20)-1)),0)) -> 100.27764 | G35: =IF(A35<=$C$21,($C$5-$C$8)*(F35/$C$12)^(1/$C$11)+$C$8, ($C$31-$C$8)*(F35/$C$32)^(1/$C$11)+$C$8) -> 46.2684 | H35: =A35-$C$6/2 -> -21550 | I35: =A35+$C$6/2 -> -14450
A36: =A37-$C$4 -> -8000 | E36: =IF(A36<=$C$21,$C$17*EXP(-A36/$C$19),$C$18*EXP(-(A36-$C$21)/$C$20)) -> 2004.157 | F36: =IF(A36<=$C$21,IF($C$12*(1-$C$28*(EXP(A36/$C$19)-1))>0,$C$12*(1-$C$28*(EXP(A36/$C$19)-1)),0),IF($C$32*(1-$C$30*(EXP((A36-$C$21)/$C$20)-1))>0,$C$32*(1-$C$30*(EXP((A36-$C$21)/$C$20)-1)),0)) -> 93.488931 | G36: =IF(A36<=$C$21,($C$5-$C$8)*(F36/$C$12)^(1/$C$11)+$C$8, ($C$31-$C$8)*(F36/$C$32)^(1/$C$11)+$C$8) -> 40.30737 | H36: =A36-$C$6/2 -> -11550 | I36: =A36+$C$6/2 -> -4450
A37: =A38-$C$4 -> -7000 | E37: =IF(A37<=$C$21,$C$17*EXP(-A37/$C$19),$C$18*EXP(-(A37-$C$21)/$C$20)) -> 1964.7839 | F37: =IF(A37<=$C$21,IF($C$12*(1-$C$28*(EXP(A37/$C$19)-1))>0,$C$12*(1-$C$28*(EXP(A37/$C$19)-1)),0),IF($C$32*(1-$C$30*(EXP((A37-$C$21)/$C$20)-1))>0,$C$32*(1-$C$30*(EXP((A37-$C$21)/$C$20)-1)),0)) -> 92.733012 | G37: =IF(A37<=$C$21,($C$5-$C$8)*(F37/$C$12)^(1/$C$11)+$C$8, ($C$31-$C$8)*(F37/$C$32)^(1/$C$11)+$C$8) -> 39.669456 | H37: =A37-$C$6/2 -> -10550 | I37: =A37+$C$6/2 -> -3450
A38: =A39-$C$4 -> -6000 | E38: =IF(A38<=$C$21,$C$17*EXP(-A38/$C$19),$C$18*EXP(-(A38-$C$21)/$C$20)) -> 1926.1843 | F38: =IF(A38<=$C$21,IF($C$12*(1-$C$28*(EXP(A38/$C$19)-1))>0,$C$12*(1-$C$28*(EXP(A38/$C$19)-1)),0),IF($C$32*(1-$C$30*(EXP((A38-$C$21)/$C$20)-1))>0,$C$32*(1-$C$30*(EXP((A38-$C$21)/$C$20)-1)),0)) -> 91.961945 | G38: =IF(A38<=$C$21,($C$5-$C$8)*(F38/$C$12)^(1/$C$11)+$C$8, ($C$31-$C$8)*(F38/$C$32)^(1/$C$11)+$C$8) -> 39.024095 | H38: =A38-$C$6/2 -> -9550 | I38: =A38+$C$6/2 -> -2450
A39: =A40-$C$4 -> -5000 | E39: =IF(A39<=$C$21,$C$17*EXP(-A39/$C$19),$C$18*EXP(-(A39-$C$21)/$C$20)) -> 1888.343 | F39: =IF(A39<=$C$21,IF($C$12*(1-$C$28*(EXP(A39/$C$19)-1))>0,$C$12*(1-$C$28*(EXP(A39/$C$19)-1)),0),IF($C$32*(1-$C$30*(EXP((A39-$C$21)/$C$20)-1))>0,$C$32*(1-$C$30*(EXP((A39-$C$21)/$C$20)-1)),0)) -> 91.175427 | G39: =IF(A39<=$C$21,($C$5-$C$8)*(F39/$C$12)^(1/$C$11)+$C$8, ($C$31-$C$8)*(F39/$C$32)^(1/$C$11)+$C$8) -> 38.371353 | H39: =A39-$C$6/2 -> -8550 | I39: =A39+$C$6/2 -> -1450
A40: =A41-$C$4 -> -4000 | E40: =IF(A40<=$C$21,$C$17*EXP(-A40/$C$19),$C$18*EXP(-(A40-$C$21)/$C$20)) -> 1851.2451 | F40: =IF(A40<=$C$21,IF($C$12*(1-$C$28*(EXP(A40/$C$19)-1))>0,$C$12*(1-$C$28*(EXP(A40/$C$19)-1)),0),IF($C$32*(1-$C$30*(EXP((A40-$C$21)/$C$20)-1))>0,$C$32*(1-$C$30*(EXP((A40-$C$21)/$C$20)-1)),0)) -> 90.373147 | G40: =IF(A40<=$C$21,($C$5-$C$8)*(F40/$C$12)^(1/$C$11)+$C$8, ($C$31-$C$8)*(F40/$C$32)^(1/$C$11)+$C$8) -> 37.711307 | H40: =A40-$C$6/2 -> -7550 | I40: =A40+$C$6/2 -> -450
A41: =A42-$C$4 -> -3000 | E41: =IF(A41<=$C$21,$C$17*EXP(-A41/$C$19),$C$18*EXP(-(A41-$C$21)/$C$20)) -> 1814.8761 | F41: =IF(A41<=$C$21,IF($C$12*(1-$C$28*(EXP(A41/$C$19)-1))>0,$C$12*(1-$C$28*(EXP(A41/$C$19)-1)),0),IF($C$32*(1-$C$30*(EXP((A41-$C$21)/$C$20)-1))>0,$C$32*(1-$C$30*(EXP((A41-$C$21)/$C$20)-1)),0)) -> 89.554789 | G41: =IF(A41<=$C$21,($C$5-$C$8)*(F41/$C$12)^(1/$C$11)+$C$8, ($C$31-$C$8)*(F41/$C$32)^(1/$C$11)+$C$8) -> 37.044044 | H41: =A41-$C$6/2 -> -6550 | I41: =A41+$C$6/2 -> 550
A42: =A43-$C$4 -> -2000 | E42: =IF(A42<=$C$21,$C$17*EXP(-A42/$C$19),$C$18*EXP(-(A42-$C$21)/$C$20)) -> 1779.2215 | F42: =IF(A42<=$C$21,IF($C$12*(1-$C$28*(EXP(A42/$C$19)-1))>0,$C$12*(1-$C$28*(EXP(A42/$C$19)-1)),0),IF($C$32*(1-$C$30*(EXP((A42-$C$21)/$C$20)-1))>0,$C$32*(1-$C$30*(EXP((A42-$C$21)/$C$20)-1)),0)) -> 88.720033 | G42: =IF(A42<=$C$21,($C$5-$C$8)*(F42/$C$12)^(1/$C$11)+$C$8, ($C$31-$C$8)*(F42/$C$32)^(1/$C$11)+$C$8) -> 36.369663 | H42: =A42-$C$6/2 -> -5550 | I42: =A42+$C$6/2 -> 1550
A43: =A44-$C$4 -> -1000 | E43: =IF(A43<=$C$21,$C$17*EXP(-A43/$C$19),$C$18*EXP(-(A43-$C$21)/$C$20)) -> 1744.2674 | F43: =IF(A43<=$C$21,IF($C$12*(1-$C$28*(EXP(A43/$C$19)-1))>0,$C$12*(1-$C$28*(EXP(A43/$C$19)-1)),0),IF($C$32*(1-$C$30*(EXP((A43-$C$21)/$C$20)-1))>0,$C$32*(1-$C$30*(EXP((A43-$C$21)/$C$20)-1)),0)) -> 87.868548 | G43: =IF(A43<=$C$21,($C$5-$C$8)*(F43/$C$12)^(1/$C$11)+$C$8, ($C$31-$C$8)*(F43/$C$32)^(1/$C$11)+$C$8) -> 35.688274 | H43: =A43-$C$6/2 -> -4550 | I43: =A43+$C$6/2 -> 2550
A44: 0 | E44: =IF(A44<=$C$21,$C$17*EXP(-A44/$C$19),$C$18*EXP(-(A44-$C$21)/$C$20)) -> 1710 | F44: =IF(A44<=$C$21,IF($C$12*(1-$C$28*(EXP(A44/$C$19)-1))>0,$C$12*(1-$C$28*(EXP(A44/$C$19)-1)),0),IF($C$32*(1-$C$30*(EXP((A44-$C$21)/$C$20)-1))>0,$C$32*(1-$C$30*(EXP((A44-$C$21)/$C$20)-1)),0)) -> 87 | G44: =IF(A44<=$C$21,($C$5-$C$8)*(F44/$C$12)^(1/$C$11)+$C$8, ($C$31-$C$8)*(F44/$C$32)^(1/$C$11)+$C$8) -> 35 | H44: =A44-$C$6/2 -> -3550 | I44: =A44+$C$6/2 -> 3550
A45: =A44+$C$4 -> 1000 | E45: =IF(A45<=$C$21,$C$17*EXP(-A45/$C$19),$C$18*EXP(-(A45-$C$21)/$C$20)) -> 1676.4058 | F45: =IF(A45<=$C$21,IF($C$12*(1-$C$28*(EXP(A45/$C$19)-1))>0,$C$12*(1-$C$28*(EXP(A45/$C$19)-1)),0),IF($C$32*(1-$C$30*(EXP((A45-$C$21)/$C$20)-1))>0,$C$32*(1-$C$30*(EXP((A45-$C$21)/$C$20)-1)),0)) -> 86.114047 | G45: =IF(A45<=$C$21,($C$5-$C$8)*(F45/$C$12)^(1/$C$11)+$C$8, ($C$31-$C$8)*(F45/$C$32)^(1/$C$11)+$C$8) -> 34.304978 | H45: =A45-$C$6/2 -> -2550 | I45: =A45+$C$6/2 -> 4550
A46: =A45+$C$4 -> 2000 | E46: =IF(A46<=$C$21,$C$17*EXP(-A46/$C$19),$C$18*EXP(-(A46-$C$21)/$C$20)) -> 1643.4716 | F46: =IF(A46<=$C$21,IF($C$12*(1-$C$28*(EXP(A46/$C$19)-1))>0,$C$12*(1-$C$28*(EXP(A46/$C$19)-1)),0),IF($C$32*(1-$C$30*(EXP((A46-$C$21)/$C$20)-1))>0,$C$32*(1-$C$30*(EXP((A46-$C$21)/$C$20)-1)),0)) -> 85.21034 | G46: =IF(A46<=$C$21,($C$5-$C$8)*(F46/$C$12)^(1/$C$11)+$C$8, ($C$31-$C$8)*(F46/$C$32)^(1/$C$11)+$C$8) -> 33.603357 | H46: =A46-$C$6/2 -> -1550 | I46: =A46+$C$6/2 -> 5550
A47: =A46+$C$4 -> 3000 | E47: =IF(A47<=$C$21,$C$17*EXP(-A47/$C$19),$C$18*EXP(-(A47-$C$21)/$C$20)) -> 1611.1844 | F47: =IF(A47<=$C$21,IF($C$12*(1-$C$28*(EXP(A47/$C$19)-1))>0,$C$12*(1-$C$28*(EXP(A47/$C$19)-1)),0),IF($C$32*(1-$C$30*(EXP((A47-$C$21)/$C$20)-1))>0,$C$32*(1-$C$30*(EXP((A47-$C$21)/$C$20)-1)),0)) -> 84.288523 | G47: =IF(A47<=$C$21,($C$5-$C$8)*(F47/$C$12)^(1/$C$11)+$C$8, ($C$31-$C$8)*(F47/$C$32)^(1/$C$11)+$C$8) -> 32.895302 | H47: =A47-$C$6/2 -> -550 | I47: =A47+$C$6/2 -> 6550
A48: =A47+$C$4 -> 4000 | E48: =IF(A48<=$C$21,$C$17*EXP(-A48/$C$19),$C$18*EXP(-(A48-$C$21)/$C$20)) -> 1579.5315 | F48: =IF(A48<=$C$21,IF($C$12*(1-$C$28*(EXP(A48/$C$19)-1))>0,$C$12*(1-$C$28*(EXP(A48/$C$19)-1)),0),IF($C$32*(1-$C$30*(EXP((A48-$C$21)/$C$20)-1))>0,$C$32*(1-$C$30*(EXP((A48-$C$21)/$C$20)-1)),0)) -> 83.348233 | G48: =IF(A48<=$C$21,($C$5-$C$8)*(F48/$C$12)^(1/$C$11)+$C$8, ($C$31-$C$8)*(F48/$C$32)^(1/$C$11)+$C$8) -> 32.180992 | H48: =A48-$C$6/2 -> 450 | I48: =A48+$C$6/2 -> 7550
A49: =A48+$C$4 -> 5000 | E49: =IF(A49<=$C$21,$C$17*EXP(-A49/$C$19),$C$18*EXP(-(A49-$C$21)/$C$20)) -> 1548.5005 | F49: =IF(A49<=$C$21,IF($C$12*(1-$C$28*(EXP(A49/$C$19)-1))>0,$C$12*(1-$C$28*(EXP(A49/$C$19)-1)),0),IF($C$32*(1-$C$30*(EXP((A49-$C$21)/$C$20)-1))>0,$C$32*(1-$C$30*(EXP((A49-$C$21)/$C$20)-1)),0)) -> 82.389101 | G49: =IF(A49<=$C$21,($C$5-$C$8)*(F49/$C$12)^(1/$C$11)+$C$8, ($C$31-$C$8)*(F49/$C$32)^(1/$C$11)+$C$8) -> 31.460624 | H49: =A49-$C$6/2 -> 1450 | I49: =A49+$C$6/2 -> 8550
A50: =A49+$C$4 -> 6000 | E50: =IF(A50<=$C$21,$C$17*EXP(-A50/$C$19),$C$18*EXP(-(A50-$C$21)/$C$20)) -> 1518.079 | F50: =IF(A50<=$C$21,IF($C$12*(1-$C$28*(EXP(A50/$C$19)-1))>0,$C$12*(1-$C$28*(EXP(A50/$C$19)-1)),0),IF($C$32*(1-$C$30*(EXP((A50-$C$21)/$C$20)-1))>0,$C$32*(1-$C$30*(EXP((A50-$C$21)/$C$20)-1)),0)) -> 81.410748 | G50: =IF(A50<=$C$21,($C$5-$C$8)*(F50/$C$12)^(1/$C$11)+$C$8, ($C$31-$C$8)*(F50/$C$32)^(1/$C$11)+$C$8) -> 30.73441 | H50: =A50-$C$6/2 -> 2450 | I50: =A50+$C$6/2 -> 9550
A51: =A50+$C$4 -> 7000 | E51: =IF(A51<=$C$21,$C$17*EXP(-A51/$C$19),$C$18*EXP(-(A51-$C$21)/$C$20)) -> 1488.2553 | F51: =IF(A51<=$C$21,IF($C$12*(1-$C$28*(EXP(A51/$C$19)-1))>0,$C$12*(1-$C$28*(EXP(A51/$C$19)-1)),0),IF($C$32*(1-$C$30*(EXP((A51-$C$21)/$C$20)-1))>0,$C$32*(1-$C$30*(EXP((A51-$C$21)/$C$20)-1)),0)) -> 80.41279 | G51: =IF(A51<=$C$21,($C$5-$C$8)*(F51/$C$12)^(1/$C$11)+$C$8, ($C$31-$C$8)*(F51/$C$32)^(1/$C$11)+$C$8) -> 30.002581 | H51: =A51-$C$6/2 -> 3450 | I51: =A51+$C$6/2 -> 10550
A52: =A51+$C$4 -> 8000 | E52: =IF(A52<=$C$21,$C$17*EXP(-A52/$C$19),$C$18*EXP(-(A52-$C$21)/$C$20)) -> 1459.0174 | F52: =IF(A52<=$C$21,IF($C$12*(1-$C$28*(EXP(A52/$C$19)-1))>0,$C$12*(1-$C$28*(EXP(A52/$C$19)-1)),0),IF($C$32*(1-$C$30*(EXP((A52-$C$21)/$C$20)-1))>0,$C$32*(1-$C$30*(EXP((A52-$C$21)/$C$20)-1)),0)) -> 79.394833 | G52: =IF(A52<=$C$21,($C$5-$C$8)*(F52/$C$12)^(1/$C$11)+$C$8, ($C$31-$C$8)*(F52/$C$32)^(1/$C$11)+$C$8) -> 29.265385 | H52: =A52-$C$6/2 -> 4450 | I52: =A52+$C$6/2 -> 11550
A53: =A52+$C$4 -> 9000 | E53: =IF(A53<=$C$21,$C$17*EXP(-A53/$C$19),$C$18*EXP(-(A53-$C$21)/$C$20)) -> 1430.354 | F53: =IF(A53<=$C$21,IF($C$12*(1-$C$28*(EXP(A53/$C$19)-1))>0,$C$12*(1-$C$28*(EXP(A53/$C$19)-1)),0),IF($C$32*(1-$C$30*(EXP((A53-$C$21)/$C$20)-1))>0,$C$32*(1-$C$30*(EXP((A53-$C$21)/$C$20)-1)),0)) -> 78.356476 | G53: =IF(A53<=$C$21,($C$5-$C$8)*(F53/$C$12)^(1/$C$11)+$C$8, ($C$31-$C$8)*(F53/$C$32)^(1/$C$11)+$C$8) -> 28.523093 | H53: =A53-$C$6/2 -> 5450 | I53: =A53+$C$6/2 -> 12550
A54: =A53+$C$4 -> 10000 | E54: =IF(A54<=$C$21,$C$17*EXP(-A54/$C$19),$C$18*EXP(-(A54-$C$21)/$C$20)) -> 1402.2536 | F54: =IF(A54<=$C$21,IF($C$12*(1-$C$28*(EXP(A54/$C$19)-1))>0,$C$12*(1-$C$28*(EXP(A54/$C$19)-1)),0),IF($C$32*(1-$C$30*(EXP((A54-$C$21)/$C$20)-1))>0,$C$32*(1-$C$30*(EXP((A54-$C$21)/$C$20)-1)),0)) -> 77.297312 | G54: =IF(A54<=$C$21,($C$5-$C$8)*(F54/$C$12)^(1/$C$11)+$C$8, ($C$31-$C$8)*(F54/$C$32)^(1/$C$11)+$C$8) -> 27.775993 | H54: =A54-$C$6/2 -> 6450 | I54: =A54+$C$6/2 -> 13550
A55: =A54+$C$4 -> 11000 | E55: =IF(A55<=$C$21,$C$17*EXP(-A55/$C$19),$C$18*EXP(-(A55-$C$21)/$C$20)) -> 1374.7053 | F55: =IF(A55<=$C$21,IF($C$12*(1-$C$28*(EXP(A55/$C$19)-1))>0,$C$12*(1-$C$28*(EXP(A55/$C$19)-1)),0),IF($C$32*(1-$C$30*(EXP((A55-$C$21)/$C$20)-1))>0,$C$32*(1-$C$30*(EXP((A55-$C$21)/$C$20)-1)),0)) -> 76.216923 | G55: =IF(A55<=$C$21,($C$5-$C$8)*(F55/$C$12)^(1/$C$11)+$C$8, ($C$31-$C$8)*(F55/$C$32)^(1/$C$11)+$C$8) -> 27.024397 | H55: =A55-$C$6/2 -> 7450 | I55: =A55+$C$6/2 -> 14550
A56: =A55+$C$4 -> 12000 | E56: =IF(A56<=$C$21,$C$17*EXP(-A56/$C$19),$C$18*EXP(-(A56-$C$21)/$C$20)) -> 1347.6982 | F56: =IF(A56<=$C$21,IF($C$12*(1-$C$28*(EXP(A56/$C$19)-1))>0,$C$12*(1-$C$28*(EXP(A56/$C$19)-1)),0),IF($C$32*(1-$C$30*(EXP((A56-$C$21)/$C$20)-1))>0,$C$32*(1-$C$30*(EXP((A56-$C$21)/$C$20)-1)),0)) -> 75.114883 | G56: =IF(A56<=$C$21,($C$5-$C$8)*(F56/$C$12)^(1/$C$11)+$C$8, ($C$31-$C$8)*(F56/$C$32)^(1/$C$11)+$C$8) -> 26.268639 | H56: =A56-$C$6/2 -> 8450 | I56: =A56+$C$6/2 -> 15550
... A170: =A169+$C$4 -> 126000 | E170: =IF(A170<=$C$21,$C$17*EXP(-A170/$C$19),$C$18*EXP(-(A170-$C$21)/$C$20)) -> 508.79167 | F170: =IF(A170<=$C$21,IF($C$12*(1-$C$28*(EXP(A170/$C$19)-1))>0,$C$12*(1-$C$28*(EXP(A170/$C$19)-1)),0),IF($C$32*(1-$C$30*(EXP((A170-$C$21)/$C$20)-1))>0,$C$32*(1-$C$30*(EXP((A170-$C$21)/$C$20)-1)),0)) -> 0 | G170: =IF(A170<=$C$21,($C$5-$C$8)*(F170/$C$12)^(1/$C$11)+$C$8, ($C$31-$C$8)*(F170/$C$32)^(1/$C$11)+$C$8) -> 0.7 | H170: =A170-$C$6/2 -> 122450 | I170: =A170+$C$6/2 -> 129550
