Workbook

Sheet Overview
B2: This sheet is provided as a tool to calculate salt intrusion in alluvial estuaries. It uses the analytical model as described in Salinity and Tides by H.H.G Savenije 2005
B14: Estuary
B15: Maputo
B17: Geometry
B18: Area at mouth | C18: A0 | D18: 40000 | E18: m2
B19: Area at x1 | C19: A1 | D19: 5413.4113 | E19: m2
B20: Convergence length | C20: a1 | D20: 4000 | E20: m
B21: Convergence length 2 | C21: a2 | D21: 16000 | E21: m
B22: Inflection point | C22: x1 | D22: 8000 | E22: m
B23: Depth | C23: h0 | D23: 3.6 | E23: m
B25: Measurements
B26: 30831
B27: 30819
B28: 30791
B29: 30800
B30: 30878

Sheet 29-5-1984
A1: STEADY SALT INTRUSION MODEL (TA)
A2: Maputo 29-5-1984
A3: Input | F3: Measurements
A4: Step length | B4: dx | C4: 1000 | D4: m | F4: x (m) | G4: HWS | H4: x (m) | I4: LWS
A5: Sea salinity | B5: S0 | C5: 30 | D5: kg/m3 | F5: 3000 | G5: 21.5 | H5: 3000 | I5: 30
A6: Tidal Excursion | B6: E0 | C6: 12000 | D6: m | F6: 5000 | G6: 16.5 | H6: 5000 | I6: 30
A7: Tidal Range | B7: H | C7: 3 | D7: m | F7: 8000 | G7: 11 | H7: 8000 | I7: 29
A8: Fresh water salinity | B8: Cf | C8: 0 | D8: kg/m3 | F8: 10000 | G8: 7.5 | H8: 10000 | I8: 28
F9: 13000 | G9: 3 | H9: 13000 | I9: 24
A10: Calibration parameters | F10: 17000 | G10: 0.5 | H10: 17000 | I10: 17
A11: Van Den Burgh | B11: K | C11: 0.4 | F11: 20000 | G11: 0.2 | H11: 20000 | I11: 12.5
A12: Dispersion at mouth | B12: Do | C12: 115 | D12: m2/s | H12: 23000 | I12: 5
A13: Discharge | B13: Q | C13: 50 | D13: m3/s | H13: 26000 | I13: 2
A14: Alpha 0 | B14: α0 | C14: =C12/C13 -> 2.3 | D14: 1/m
A16: Geometry
A17: Area at mouth | B17: A0 | C17: =Overview!D18 -> 40000 | D17: m2
A18: Area at x1 | B18: A1 | C18: =Overview!D19 -> 5413.4113 | D18: m2
A19: Convergence length | B19: a1 | C19: =Overview!D20 -> 4000 | D19: m
A20: Convergence length 2 | B20: a2 | C20: =Overview!D21 -> 16000 | D20: m
A21: Inflection point | B21: x1 | C21: =Overview!D22 -> 8000 | D21: m
A22: Depth | B22: h0 | C22: =Overview!D23 -> 3.6 | D22: m
A24: Calculations | F24: REMARKS
A25: Beta | B25: β | C25: =$C$11*$C$19/C$14/$C$17 -> 0.017391304 | F25: Data from original report; discharge is measured!
A26: Alpha 1 | B26: α1 | C26: =C29/C13 -> 2.0444378 | D26: 1/m
A27: Beta1 | B27: β1 | C27: =C11*C20/C26/C18 -> 0.57827585
A28: Salinity at x1 | B28: S1 | C28: =($C$5-$C$8)*(C29/C12)^(1/$C$11)+$C$8 -> 22.347883 | D28: kg/m3
A29: Dispersion at x1 | B29: D1 | C29: =C12*(1-C25*(EXP(C21/C19)-1)) -> 102.22189
A31: x: | B31: Shifted x | E31: A | F31: D | G31: S | H31: xLWS | I31: xHWS
A32: =A33-$C$4-9000 -> -18000 | E32: =IF(A32<=$C$21,$C$17*EXP(-A32/$C$19),$C$18*EXP(-(A32-$C$21)/$C$20)) -> 3600685.3 | F32: =IF(A32<=$C$21,IF($C$12*(1-$C$25*(EXP(A32/$C$19)-1))>0,$C$12*(1-$C$25*(EXP(A32/$C$19)-1)),0),IF($C$29*(1-$C$27*(EXP((A32-$C$21)/$C$20)-1))>0,$C$29*(1-$C$27*(EXP((A32-$C$21)/$C$20)-1)),0)) -> 116.97778 | G32: =IF(A32<=$C$21,($C$5-$C$8)*(F32/$C$12)^(1/$C$11)+$C$8, ($C$28-$C$8)*(F32/$C$29)^(1/$C$11)+$C$8) -> 31.306543 | H32: =A32-$C$6/2 -> -24000 | I32: =A32+$C$6/2 -> -12000
A33: =A34-$C$4 -> -8000 | E33: =IF(A33<=$C$21,$C$17*EXP(-A33/$C$19),$C$18*EXP(-(A33-$C$21)/$C$20)) -> 295562.24 | F33: =IF(A33<=$C$21,IF($C$12*(1-$C$25*(EXP(A33/$C$19)-1))>0,$C$12*(1-$C$25*(EXP(A33/$C$19)-1)),0),IF($C$29*(1-$C$27*(EXP((A33-$C$21)/$C$20)-1))>0,$C$29*(1-$C$27*(EXP((A33-$C$21)/$C$20)-1)),0)) -> 116.72933 | G33: =IF(A33<=$C$21,($C$5-$C$8)*(F33/$C$12)^(1/$C$11)+$C$8, ($C$28-$C$8)*(F33/$C$29)^(1/$C$11)+$C$8) -> 31.140575 | H33: =A33-$C$6/2 -> -14000 | I33: =A33+$C$6/2 -> -2000
A34: =A35-$C$4 -> -7000 | E34: =IF(A34<=$C$21,$C$17*EXP(-A34/$C$19),$C$18*EXP(-(A34-$C$21)/$C$20)) -> 230184.11 | F34: =IF(A34<=$C$21,IF($C$12*(1-$C$25*(EXP(A34/$C$19)-1))>0,$C$12*(1-$C$25*(EXP(A34/$C$19)-1)),0),IF($C$29*(1-$C$27*(EXP((A34-$C$21)/$C$20)-1))>0,$C$29*(1-$C$27*(EXP((A34-$C$21)/$C$20)-1)),0)) -> 116.65245 | G34: =IF(A34<=$C$21,($C$5-$C$8)*(F34/$C$12)^(1/$C$11)+$C$8, ($C$28-$C$8)*(F34/$C$29)^(1/$C$11)+$C$8) -> 31.089328 | H34: =A34-$C$6/2 -> -13000 | I34: =A34+$C$6/2 -> -1000
A35: =A36-$C$4 -> -6000 | E35: =IF(A35<=$C$21,$C$17*EXP(-A35/$C$19),$C$18*EXP(-(A35-$C$21)/$C$20)) -> 179267.56 | F35: =IF(A35<=$C$21,IF($C$12*(1-$C$25*(EXP(A35/$C$19)-1))>0,$C$12*(1-$C$25*(EXP(A35/$C$19)-1)),0),IF($C$29*(1-$C$27*(EXP((A35-$C$21)/$C$20)-1))>0,$C$29*(1-$C$27*(EXP((A35-$C$21)/$C$20)-1)),0)) -> 116.55374 | G35: =IF(A35<=$C$21,($C$5-$C$8)*(F35/$C$12)^(1/$C$11)+$C$8, ($C$28-$C$8)*(F35/$C$29)^(1/$C$11)+$C$8) -> 31.0236 | H35: =A35-$C$6/2 -> -12000 | I35: =A35+$C$6/2 -> 0
A36: =A37-$C$4 -> -5000 | E36: =IF(A36<=$C$21,$C$17*EXP(-A36/$C$19),$C$18*EXP(-(A36-$C$21)/$C$20)) -> 139613.72 | F36: =IF(A36<=$C$21,IF($C$12*(1-$C$25*(EXP(A36/$C$19)-1))>0,$C$12*(1-$C$25*(EXP(A36/$C$19)-1)),0),IF($C$29*(1-$C$27*(EXP((A36-$C$21)/$C$20)-1))>0,$C$29*(1-$C$27*(EXP((A36-$C$21)/$C$20)-1)),0)) -> 116.42699 | G36: =IF(A36<=$C$21,($C$5-$C$8)*(F36/$C$12)^(1/$C$11)+$C$8, ($C$28-$C$8)*(F36/$C$29)^(1/$C$11)+$C$8) -> 30.939325 | H36: =A36-$C$6/2 -> -11000 | I36: =A36+$C$6/2 -> 1000
A37: =A38-$C$4 -> -4000 | E37: =IF(A37<=$C$21,$C$17*EXP(-A37/$C$19),$C$18*EXP(-(A37-$C$21)/$C$20)) -> 108731.27 | F37: =IF(A37<=$C$21,IF($C$12*(1-$C$25*(EXP(A37/$C$19)-1))>0,$C$12*(1-$C$25*(EXP(A37/$C$19)-1)),0),IF($C$29*(1-$C$27*(EXP((A37-$C$21)/$C$20)-1))>0,$C$29*(1-$C$27*(EXP((A37-$C$21)/$C$20)-1)),0)) -> 116.26424 | G37: =IF(A37<=$C$21,($C$5-$C$8)*(F37/$C$12)^(1/$C$11)+$C$8, ($C$28-$C$8)*(F37/$C$29)^(1/$C$11)+$C$8) -> 30.831316 | H37: =A37-$C$6/2 -> -10000 | I37: =A37+$C$6/2 -> 2000
A38: =A39-$C$4 -> -3000 | E38: =IF(A38<=$C$21,$C$17*EXP(-A38/$C$19),$C$18*EXP(-(A38-$C$21)/$C$20)) -> 84680.001 | F38: =IF(A38<=$C$21,IF($C$12*(1-$C$25*(EXP(A38/$C$19)-1))>0,$C$12*(1-$C$25*(EXP(A38/$C$19)-1)),0),IF($C$29*(1-$C$27*(EXP((A38-$C$21)/$C$20)-1))>0,$C$29*(1-$C$27*(EXP((A38-$C$21)/$C$20)-1)),0)) -> 116.05527 | G38: =IF(A38<=$C$21,($C$5-$C$8)*(F38/$C$12)^(1/$C$11)+$C$8, ($C$28-$C$8)*(F38/$C$29)^(1/$C$11)+$C$8) -> 30.692961 | H38: =A38-$C$6/2 -> -9000 | I38: =A38+$C$6/2 -> 3000
A39: =A40-$C$4 -> -2000 | E39: =IF(A39<=$C$21,$C$17*EXP(-A39/$C$19),$C$18*EXP(-(A39-$C$21)/$C$20)) -> 65948.851 | F39: =IF(A39<=$C$21,IF($C$12*(1-$C$25*(EXP(A39/$C$19)-1))>0,$C$12*(1-$C$25*(EXP(A39/$C$19)-1)),0),IF($C$29*(1-$C$27*(EXP((A39-$C$21)/$C$20)-1))>0,$C$29*(1-$C$27*(EXP((A39-$C$21)/$C$20)-1)),0)) -> 115.78694 | G39: =IF(A39<=$C$21,($C$5-$C$8)*(F39/$C$12)^(1/$C$11)+$C$8, ($C$28-$C$8)*(F39/$C$29)^(1/$C$11)+$C$8) -> 30.515858 | H39: =A39-$C$6/2 -> -8000 | I39: =A39+$C$6/2 -> 4000
A40: =A41-$C$4 -> -1000 | E40: =IF(A40<=$C$21,$C$17*EXP(-A40/$C$19),$C$18*EXP(-(A40-$C$21)/$C$20)) -> 51361.017 | F40: =IF(A40<=$C$21,IF($C$12*(1-$C$25*(EXP(A40/$C$19)-1))>0,$C$12*(1-$C$25*(EXP(A40/$C$19)-1)),0),IF($C$29*(1-$C$27*(EXP((A40-$C$21)/$C$20)-1))>0,$C$29*(1-$C$27*(EXP((A40-$C$21)/$C$20)-1)),0)) -> 115.4424 | G40: =IF(A40<=$C$21,($C$5-$C$8)*(F40/$C$12)^(1/$C$11)+$C$8, ($C$28-$C$8)*(F40/$C$29)^(1/$C$11)+$C$8) -> 30.289354 | H40: =A40-$C$6/2 -> -7000 | I40: =A40+$C$6/2 -> 5000
A41: 0 | E41: =IF(A41<=$C$21,$C$17*EXP(-A41/$C$19),$C$18*EXP(-(A41-$C$21)/$C$20)) -> 40000 | F41: =IF(A41<=$C$21,IF($C$12*(1-$C$25*(EXP(A41/$C$19)-1))>0,$C$12*(1-$C$25*(EXP(A41/$C$19)-1)),0),IF($C$29*(1-$C$27*(EXP((A41-$C$21)/$C$20)-1))>0,$C$29*(1-$C$27*(EXP((A41-$C$21)/$C$20)-1)),0)) -> 115 | G41: =IF(A41<=$C$21,($C$5-$C$8)*(F41/$C$12)^(1/$C$11)+$C$8, ($C$28-$C$8)*(F41/$C$29)^(1/$C$11)+$C$8) -> 30 | H41: =A41-$C$6/2 -> -6000 | I41: =A41+$C$6/2 -> 6000
A42: =A41+$C$4 -> 1000 | E42: =IF(A42<=$C$21,$C$17*EXP(-A42/$C$19),$C$18*EXP(-(A42-$C$21)/$C$20)) -> 31152.031 | F42: =IF(A42<=$C$21,IF($C$12*(1-$C$25*(EXP(A42/$C$19)-1))>0,$C$12*(1-$C$25*(EXP(A42/$C$19)-1)),0),IF($C$29*(1-$C$27*(EXP((A42-$C$21)/$C$20)-1))>0,$C$29*(1-$C$27*(EXP((A42-$C$21)/$C$20)-1)),0)) -> 114.43195 | G42: =IF(A42<=$C$21,($C$5-$C$8)*(F42/$C$12)^(1/$C$11)+$C$8, ($C$28-$C$8)*(F42/$C$29)^(1/$C$11)+$C$8) -> 29.630903 | H42: =A42-$C$6/2 -> -5000 | I42: =A42+$C$6/2 -> 7000
A43: =A42+$C$4 -> 2000 | E43: =IF(A43<=$C$21,$C$17*EXP(-A43/$C$19),$C$18*EXP(-(A43-$C$21)/$C$20)) -> 24261.226 | F43: =IF(A43<=$C$21,IF($C$12*(1-$C$25*(EXP(A43/$C$19)-1))>0,$C$12*(1-$C$25*(EXP(A43/$C$19)-1)),0),IF($C$29*(1-$C$27*(EXP((A43-$C$21)/$C$20)-1))>0,$C$29*(1-$C$27*(EXP((A43-$C$21)/$C$20)-1)),0)) -> 113.70256 | G43: =IF(A43<=$C$21,($C$5-$C$8)*(F43/$C$12)^(1/$C$11)+$C$8, ($C$28-$C$8)*(F43/$C$29)^(1/$C$11)+$C$8) -> 29.160988 | H43: =A43-$C$6/2 -> -4000 | I43: =A43+$C$6/2 -> 8000
A44: =A43+$C$4 -> 3000 | E44: =IF(A44<=$C$21,$C$17*EXP(-A44/$C$19),$C$18*EXP(-(A44-$C$21)/$C$20)) -> 18894.662 | F44: =IF(A44<=$C$21,IF($C$12*(1-$C$25*(EXP(A44/$C$19)-1))>0,$C$12*(1-$C$25*(EXP(A44/$C$19)-1)),0),IF($C$29*(1-$C$27*(EXP((A44-$C$21)/$C$20)-1))>0,$C$29*(1-$C$27*(EXP((A44-$C$21)/$C$20)-1)),0)) -> 112.766 | G44: =IF(A44<=$C$21,($C$5-$C$8)*(F44/$C$12)^(1/$C$11)+$C$8, ($C$28-$C$8)*(F44/$C$29)^(1/$C$11)+$C$8) -> 28.564202 | H44: =A44-$C$6/2 -> -3000 | I44: =A44+$C$6/2 -> 9000
A45: =A44+$C$4 -> 4000 | E45: =IF(A45<=$C$21,$C$17*EXP(-A45/$C$19),$C$18*EXP(-(A45-$C$21)/$C$20)) -> 14715.178 | F45: =IF(A45<=$C$21,IF($C$12*(1-$C$25*(EXP(A45/$C$19)-1))>0,$C$12*(1-$C$25*(EXP(A45/$C$19)-1)),0),IF($C$29*(1-$C$27*(EXP((A45-$C$21)/$C$20)-1))>0,$C$29*(1-$C$27*(EXP((A45-$C$21)/$C$20)-1)),0)) -> 111.56344 | G45: =IF(A45<=$C$21,($C$5-$C$8)*(F45/$C$12)^(1/$C$11)+$C$8, ($C$28-$C$8)*(F45/$C$29)^(1/$C$11)+$C$8) -> 27.808743 | H45: =A45-$C$6/2 -> -2000 | I45: =A45+$C$6/2 -> 10000
A46: =A45+$C$4 -> 5000 | E46: =IF(A46<=$C$21,$C$17*EXP(-A46/$C$19),$C$18*EXP(-(A46-$C$21)/$C$20)) -> 11460.192 | F46: =IF(A46<=$C$21,IF($C$12*(1-$C$25*(EXP(A46/$C$19)-1))>0,$C$12*(1-$C$25*(EXP(A46/$C$19)-1)),0),IF($C$29*(1-$C$27*(EXP((A46-$C$21)/$C$20)-1))>0,$C$29*(1-$C$27*(EXP((A46-$C$21)/$C$20)-1)),0)) -> 110.01931 | G46: =IF(A46<=$C$21,($C$5-$C$8)*(F46/$C$12)^(1/$C$11)+$C$8, ($C$28-$C$8)*(F46/$C$29)^(1/$C$11)+$C$8) -> 26.856474 | H46: =A46-$C$6/2 -> -1000 | I46: =A46+$C$6/2 -> 11000
A47: =A46+$C$4 -> 6000 | E47: =IF(A47<=$C$21,$C$17*EXP(-A47/$C$19),$C$18*EXP(-(A47-$C$21)/$C$20)) -> 8925.2064 | F47: =IF(A47<=$C$21,IF($C$12*(1-$C$25*(EXP(A47/$C$19)-1))>0,$C$12*(1-$C$25*(EXP(A47/$C$19)-1)),0),IF($C$29*(1-$C$27*(EXP((A47-$C$21)/$C$20)-1))>0,$C$29*(1-$C$27*(EXP((A47-$C$21)/$C$20)-1)),0)) -> 108.03662 | G47: =IF(A47<=$C$21,($C$5-$C$8)*(F47/$C$12)^(1/$C$11)+$C$8, ($C$28-$C$8)*(F47/$C$29)^(1/$C$11)+$C$8) -> 25.662806 | H47: =A47-$C$6/2 -> 0 | I47: =A47+$C$6/2 -> 12000
A48: =A47+$C$4 -> 7000 | E48: =IF(A48<=$C$21,$C$17*EXP(-A48/$C$19),$C$18*EXP(-(A48-$C$21)/$C$20)) -> 6950.9577 | F48: =IF(A48<=$C$21,IF($C$12*(1-$C$25*(EXP(A48/$C$19)-1))>0,$C$12*(1-$C$25*(EXP(A48/$C$19)-1)),0),IF($C$29*(1-$C$27*(EXP((A48-$C$21)/$C$20)-1))>0,$C$29*(1-$C$27*(EXP((A48-$C$21)/$C$20)-1)),0)) -> 105.49079 | G48: =IF(A48<=$C$21,($C$5-$C$8)*(F48/$C$12)^(1/$C$11)+$C$8, ($C$28-$C$8)*(F48/$C$29)^(1/$C$11)+$C$8) -> 24.177593 | H48: =A48-$C$6/2 -> 1000 | I48: =A48+$C$6/2 -> 13000
A49: =A48+$C$4 -> 8000 | E49: =IF(A49<=$C$21,$C$17*EXP(-A49/$C$19),$C$18*EXP(-(A49-$C$21)/$C$20)) -> 5413.4113 | F49: =IF(A49<=$C$21,IF($C$12*(1-$C$25*(EXP(A49/$C$19)-1))>0,$C$12*(1-$C$25*(EXP(A49/$C$19)-1)),0),IF($C$29*(1-$C$27*(EXP((A49-$C$21)/$C$20)-1))>0,$C$29*(1-$C$27*(EXP((A49-$C$21)/$C$20)-1)),0)) -> 102.22189 | G49: =IF(A49<=$C$21,($C$5-$C$8)*(F49/$C$12)^(1/$C$11)+$C$8, ($C$28-$C$8)*(F49/$C$29)^(1/$C$11)+$C$8) -> 22.347883 | H49: =A49-$C$6/2 -> 2000 | I49: =A49+$C$6/2 -> 14000
A50: =A49+$C$4 -> 9000 | E50: =IF(A50<=$C$21,$C$17*EXP(-A50/$C$19),$C$18*EXP(-(A50-$C$21)/$C$20)) -> 5085.4293 | F50: =IF(A50<=$C$21,IF($C$12*(1-$C$25*(EXP(A50/$C$19)-1))>0,$C$12*(1-$C$25*(EXP(A50/$C$19)-1)),0),IF($C$29*(1-$C$27*(EXP((A50-$C$21)/$C$20)-1))>0,$C$29*(1-$C$27*(EXP((A50-$C$21)/$C$20)-1)),0)) -> 98.409462 | G50: =IF(A50<=$C$21,($C$5-$C$8)*(F50/$C$12)^(1/$C$11)+$C$8, ($C$28-$C$8)*(F50/$C$29)^(1/$C$11)+$C$8) -> 20.32211 | H50: =A50-$C$6/2 -> 3000 | I50: =A50+$C$6/2 -> 15000
A51: =A50+$C$4 -> 10000 | E51: =IF(A51<=$C$21,$C$17*EXP(-A51/$C$19),$C$18*EXP(-(A51-$C$21)/$C$20)) -> 4777.3187 | F51: =IF(A51<=$C$21,IF($C$12*(1-$C$25*(EXP(A51/$C$19)-1))>0,$C$12*(1-$C$25*(EXP(A51/$C$19)-1)),0),IF($C$29*(1-$C$27*(EXP((A51-$C$21)/$C$20)-1))>0,$C$29*(1-$C$27*(EXP((A51-$C$21)/$C$20)-1)),0)) -> 94.351157 | G51: =IF(A51<=$C$21,($C$5-$C$8)*(F51/$C$12)^(1/$C$11)+$C$8, ($C$28-$C$8)*(F51/$C$29)^(1/$C$11)+$C$8) -> 18.291306 | H51: =A51-$C$6/2 -> 4000 | I51: =A51+$C$6/2 -> 16000
A52: =A51+$C$4 -> 11000 | E52: =IF(A52<=$C$21,$C$17*EXP(-A52/$C$19),$C$18*EXP(-(A52-$C$21)/$C$20)) -> 4487.8756 | F52: =IF(A52<=$C$21,IF($C$12*(1-$C$25*(EXP(A52/$C$19)-1))>0,$C$12*(1-$C$25*(EXP(A52/$C$19)-1)),0),IF($C$29*(1-$C$27*(EXP((A52-$C$21)/$C$20)-1))>0,$C$29*(1-$C$27*(EXP((A52-$C$21)/$C$20)-1)),0)) -> 90.031113 | G52: =IF(A52<=$C$21,($C$5-$C$8)*(F52/$C$12)^(1/$C$11)+$C$8, ($C$28-$C$8)*(F52/$C$29)^(1/$C$11)+$C$8) -> 16.2689 | H52: =A52-$C$6/2 -> 5000 | I52: =A52+$C$6/2 -> 17000
A53: =A52+$C$4 -> 12000 | E53: =IF(A53<=$C$21,$C$17*EXP(-A53/$C$19),$C$18*EXP(-(A53-$C$21)/$C$20)) -> 4215.969 | F53: =IF(A53<=$C$21,IF($C$12*(1-$C$25*(EXP(A53/$C$19)-1))>0,$C$12*(1-$C$25*(EXP(A53/$C$19)-1)),0),IF($C$29*(1-$C$27*(EXP((A53-$C$21)/$C$20)-1))>0,$C$29*(1-$C$27*(EXP((A53-$C$21)/$C$20)-1)),0)) -> 85.43245 | G53: =IF(A53<=$C$21,($C$5-$C$8)*(F53/$C$12)^(1/$C$11)+$C$8, ($C$28-$C$8)*(F53/$C$29)^(1/$C$11)+$C$8) -> 14.270323 | H53: =A53-$C$6/2 -> 6000 | I53: =A53+$C$6/2 -> 18000
... A167: =A166+$C$4 -> 126000 | E167: =IF(A167<=$C$21,$C$17*EXP(-A167/$C$19),$C$18*EXP(-(A167-$C$21)/$C$20)) -> 3.3927294 | F167: =IF(A167<=$C$21,IF($C$12*(1-$C$25*(EXP(A167/$C$19)-1))>0,$C$12*(1-$C$25*(EXP(A167/$C$19)-1)),0),IF($C$29*(1-$C$27*(EXP((A167-$C$21)/$C$20)-1))>0,$C$29*(1-$C$27*(EXP((A167-$C$21)/$C$20)-1)),0)) -> 0 | G167: =IF(A167<=$C$21,($C$5-$C$8)*(F167/$C$12)^(1/$C$11)+$C$8, ($C$28-$C$8)*(F167/$C$29)^(1/$C$11)+$C$8) -> 0 | H167: =A167-$C$6/2 -> 120000 | I167: =A167+$C$6/2 -> 132000

Sheet 17-5-1984
A1: STEADY SALT INTRUSION MODEL (TA)
A2: Maputo 17-5-1984
A3: Input | F3: Measurements
A4: Step length | B4: dx | C4: 1000 | D4: m | F4: x (m) | G4: HWS | H4: x (m) | I4: LWS
A5: Sea salinity | B5: S0 | C5: 29 | D5: kg/m3 | F5: =5000+(1.5/2.5)*5000 -> 8000 | G5: =25+(18/25)*5 -> 28.6 | H5: =24/25*5000 -> 4800 | I5: =10+(15/25)*5 -> 13
A6: Tidal Excursion | B6: E0 | C6: 14000 | D6: m | F6: =5000+(24/25)*5000 -> 9800 | G6: =25+(12/25)*5 -> 27.4 | H6: 5000 | I6: =5+(4/25)*5 -> 5.8
A7: Tidal Range | B7: H | C7: 3.4 | D7: m | F7: =10000+(16/25)*5000 -> 13200 | G7: =20+(20/25)*5 -> 24 | H7: 8000 | I7: 4
A8: Fresh water salinity | B8: Cf | C8: 0 | D8: kg/m3 | F8: =15000+(10/25)*5000 -> 17000 | G8: =10+(17/25)*5 -> 13.4 | H8: 9800 | I8: =10/25*5 -> 2
F9: =15000+(24/25)*5000 -> 19800 | G9: =5+(9/25)*5 -> 6.8 | H9: 13200 | I9: =8/25*5 -> 1.6
A10: Calibration parameters | F10: =20000+14/25*5000 -> 22800 | G10: =14/25*5 -> 2.8
A11: Van Den Burgh | B11: K | C11: 0.4 | F11: =25000+(4/25)*5000 -> 25800 | G11: =7/25*5 -> 1.4
A12: Dispersion at mouth | B12: Do | C12: 80 | D12: m2/s | F12: 27500 | G12: =5/25*5 -> 1
A13: Discharge | B13: Q | C13: 50 | D13: m3/s | F13: =30000+(1/25)*5000 -> 30200 | G13: =2/25*5 -> 0.4
A14: Alpha 0 | B14: α0 | C14: =C12/C13 -> 1.6 | D14: 1/m
A16: Geometry
A17: Area at mouth | B17: A0 | C17: =Overview!D18 -> 40000 | D17: m2
A18: Area at x1 | B18: A1 | C18: =Overview!D19 -> 5413.4113 | D18: m2
A19: Convergence length | B19: a1 | C19: =Overview!D20 -> 4000 | D19: m
A20: Convergence length 2 | B20: a2 | C20: =Overview!D21 -> 16000 | D20: m
A21: Inflection point | B21: x1 | C21: =Overview!D22 -> 8000 | D21: m
A22: Depth | B22: h0 | C22: =Overview!D23 -> 3.6 | D22: m
A24: Calculations | F24: REMARKS
A25: Beta | B25: β | C25: =$C$11*$C$19/C$14/$C$17 -> 0.025 | F25: Data from original report; discharge is measured!
A26: Alpha 1 | B26: α1 | C26: =C29/C13 -> 1.3444378 | D26: 1/m
A27: Beta1 | B27: β1 | C27: =C11*C20/C26/C18 -> 0.87936312
A28: Salinity at x1 | B28: S1 | C28: =($C$5-$C$8)*(C29/C12)^(1/$C$11)+$C$8 -> 18.769374 | D28: kg/m3
A29: Dispersion at x1 | B29: D1 | C29: =C12*(1-C25*(EXP(C21/C19)-1)) -> 67.221888
A31: x: | B31: Shifted x | E31: A | F31: D | G31: S | H31: xLWS | I31: xHWS
A32: =A33-$C$4-9000 -> -18000 | E32: =IF(A32<=$C$21,$C$17*EXP(-A32/$C$19),$C$18*EXP(-(A32-$C$21)/$C$20)) -> 3600685.3 | F32: =IF(A32<=$C$21,IF($C$12*(1-$C$25*(EXP(A32/$C$19)-1))>0,$C$12*(1-$C$25*(EXP(A32/$C$19)-1)),0),IF($C$29*(1-$C$27*(EXP((A32-$C$21)/$C$20)-1))>0,$C$29*(1-$C$27*(EXP((A32-$C$21)/$C$20)-1)),0)) -> 81.977782 | G32: =IF(A32<=$C$21,($C$5-$C$8)*(F32/$C$12)^(1/$C$11)+$C$8, ($C$28-$C$8)*(F32/$C$29)^(1/$C$11)+$C$8) -> 30.825735 | H32: =A32-$C$6/2 -> -25000 | I32: =A32+$C$6/2 -> -11000
A33: =A34-$C$4 -> -8000 | E33: =IF(A33<=$C$21,$C$17*EXP(-A33/$C$19),$C$18*EXP(-(A33-$C$21)/$C$20)) -> 295562.24 | F33: =IF(A33<=$C$21,IF($C$12*(1-$C$25*(EXP(A33/$C$19)-1))>0,$C$12*(1-$C$25*(EXP(A33/$C$19)-1)),0),IF($C$29*(1-$C$27*(EXP((A33-$C$21)/$C$20)-1))>0,$C$29*(1-$C$27*(EXP((A33-$C$21)/$C$20)-1)),0)) -> 81.729329 | G33: =IF(A33<=$C$21,($C$5-$C$8)*(F33/$C$12)^(1/$C$11)+$C$8, ($C$28-$C$8)*(F33/$C$29)^(1/$C$11)+$C$8) -> 30.592704 | H33: =A33-$C$6/2 -> -15000 | I33: =A33+$C$6/2 -> -1000
A34: =A35-$C$4 -> -7000 | E34: =IF(A34<=$C$21,$C$17*EXP(-A34/$C$19),$C$18*EXP(-(A34-$C$21)/$C$20)) -> 230184.11 | F34: =IF(A34<=$C$21,IF($C$12*(1-$C$25*(EXP(A34/$C$19)-1))>0,$C$12*(1-$C$25*(EXP(A34/$C$19)-1)),0),IF($C$29*(1-$C$27*(EXP((A34-$C$21)/$C$20)-1))>0,$C$29*(1-$C$27*(EXP((A34-$C$21)/$C$20)-1)),0)) -> 81.652452 | G34: =IF(A34<=$C$21,($C$5-$C$8)*(F34/$C$12)^(1/$C$11)+$C$8, ($C$28-$C$8)*(F34/$C$29)^(1/$C$11)+$C$8) -> 30.520814 | H34: =A34-$C$6/2 -> -14000 | I34: =A34+$C$6/2 -> 0
A35: =A36-$C$4 -> -6000 | E35: =IF(A35<=$C$21,$C$17*EXP(-A35/$C$19),$C$18*EXP(-(A35-$C$21)/$C$20)) -> 179267.56 | F35: =IF(A35<=$C$21,IF($C$12*(1-$C$25*(EXP(A35/$C$19)-1))>0,$C$12*(1-$C$25*(EXP(A35/$C$19)-1)),0),IF($C$29*(1-$C$27*(EXP((A35-$C$21)/$C$20)-1))>0,$C$29*(1-$C$27*(EXP((A35-$C$21)/$C$20)-1)),0)) -> 81.55374 | G35: =IF(A35<=$C$21,($C$5-$C$8)*(F35/$C$12)^(1/$C$11)+$C$8, ($C$28-$C$8)*(F35/$C$29)^(1/$C$11)+$C$8) -> 30.428653 | H35: =A35-$C$6/2 -> -13000 | I35: =A35+$C$6/2 -> 1000
A36: =A37-$C$4 -> -5000 | E36: =IF(A36<=$C$21,$C$17*EXP(-A36/$C$19),$C$18*EXP(-(A36-$C$21)/$C$20)) -> 139613.72 | F36: =IF(A36<=$C$21,IF($C$12*(1-$C$25*(EXP(A36/$C$19)-1))>0,$C$12*(1-$C$25*(EXP(A36/$C$19)-1)),0),IF($C$29*(1-$C$27*(EXP((A36-$C$21)/$C$20)-1))>0,$C$29*(1-$C$27*(EXP((A36-$C$21)/$C$20)-1)),0)) -> 81.42699 | G36: =IF(A36<=$C$21,($C$5-$C$8)*(F36/$C$12)^(1/$C$11)+$C$8, ($C$28-$C$8)*(F36/$C$29)^(1/$C$11)+$C$8) -> 30.310562 | H36: =A36-$C$6/2 -> -12000 | I36: =A36+$C$6/2 -> 2000
A37: =A38-$C$4 -> -4000 | E37: =IF(A37<=$C$21,$C$17*EXP(-A37/$C$19),$C$18*EXP(-(A37-$C$21)/$C$20)) -> 108731.27 | F37: =IF(A37<=$C$21,IF($C$12*(1-$C$25*(EXP(A37/$C$19)-1))>0,$C$12*(1-$C$25*(EXP(A37/$C$19)-1)),0),IF($C$29*(1-$C$27*(EXP((A37-$C$21)/$C$20)-1))>0,$C$29*(1-$C$27*(EXP((A37-$C$21)/$C$20)-1)),0)) -> 81.264241 | G37: =IF(A37<=$C$21,($C$5-$C$8)*(F37/$C$12)^(1/$C$11)+$C$8, ($C$28-$C$8)*(F37/$C$29)^(1/$C$11)+$C$8) -> 30.159334 | H37: =A37-$C$6/2 -> -11000 | I37: =A37+$C$6/2 -> 3000
A38: =A39-$C$4 -> -3000 | E38: =IF(A38<=$C$21,$C$17*EXP(-A38/$C$19),$C$18*EXP(-(A38-$C$21)/$C$20)) -> 84680.001 | F38: =IF(A38<=$C$21,IF($C$12*(1-$C$25*(EXP(A38/$C$19)-1))>0,$C$12*(1-$C$25*(EXP(A38/$C$19)-1)),0),IF($C$29*(1-$C$27*(EXP((A38-$C$21)/$C$20)-1))>0,$C$29*(1-$C$27*(EXP((A38-$C$21)/$C$20)-1)),0)) -> 81.055267 | G38: =IF(A38<=$C$21,($C$5-$C$8)*(F38/$C$12)^(1/$C$11)+$C$8, ($C$28-$C$8)*(F38/$C$29)^(1/$C$11)+$C$8) -> 29.965818 | H38: =A38-$C$6/2 -> -10000 | I38: =A38+$C$6/2 -> 4000
A39: =A40-$C$4 -> -2000 | E39: =IF(A39<=$C$21,$C$17*EXP(-A39/$C$19),$C$18*EXP(-(A39-$C$21)/$C$20)) -> 65948.851 | F39: =IF(A39<=$C$21,IF($C$12*(1-$C$25*(EXP(A39/$C$19)-1))>0,$C$12*(1-$C$25*(EXP(A39/$C$19)-1)),0),IF($C$29*(1-$C$27*(EXP((A39-$C$21)/$C$20)-1))>0,$C$29*(1-$C$27*(EXP((A39-$C$21)/$C$20)-1)),0)) -> 80.786939 | G39: =IF(A39<=$C$21,($C$5-$C$8)*(F39/$C$12)^(1/$C$11)+$C$8, ($C$28-$C$8)*(F39/$C$29)^(1/$C$11)+$C$8) -> 29.718433 | H39: =A39-$C$6/2 -> -9000 | I39: =A39+$C$6/2 -> 5000
A40: =A41-$C$4 -> -1000 | E40: =IF(A40<=$C$21,$C$17*EXP(-A40/$C$19),$C$18*EXP(-(A40-$C$21)/$C$20)) -> 51361.017 | F40: =IF(A40<=$C$21,IF($C$12*(1-$C$25*(EXP(A40/$C$19)-1))>0,$C$12*(1-$C$25*(EXP(A40/$C$19)-1)),0),IF($C$29*(1-$C$27*(EXP((A40-$C$21)/$C$20)-1))>0,$C$29*(1-$C$27*(EXP((A40-$C$21)/$C$20)-1)),0)) -> 80.442398 | G40: =IF(A40<=$C$21,($C$5-$C$8)*(F40/$C$12)^(1/$C$11)+$C$8, ($C$28-$C$8)*(F40/$C$29)^(1/$C$11)+$C$8) -> 29.402588 | H40: =A40-$C$6/2 -> -8000 | I40: =A40+$C$6/2 -> 6000
A41: 0 | E41: =IF(A41<=$C$21,$C$17*EXP(-A41/$C$19),$C$18*EXP(-(A41-$C$21)/$C$20)) -> 40000 | F41: =IF(A41<=$C$21,IF($C$12*(1-$C$25*(EXP(A41/$C$19)-1))>0,$C$12*(1-$C$25*(EXP(A41/$C$19)-1)),0),IF($C$29*(1-$C$27*(EXP((A41-$C$21)/$C$20)-1))>0,$C$29*(1-$C$27*(EXP((A41-$C$21)/$C$20)-1)),0)) -> 80 | G41: =IF(A41<=$C$21,($C$5-$C$8)*(F41/$C$12)^(1/$C$11)+$C$8, ($C$28-$C$8)*(F41/$C$29)^(1/$C$11)+$C$8) -> 29 | H41: =A41-$C$6/2 -> -7000 | I41: =A41+$C$6/2 -> 7000
A42: =A41+$C$4 -> 1000 | E42: =IF(A42<=$C$21,$C$17*EXP(-A42/$C$19),$C$18*EXP(-(A42-$C$21)/$C$20)) -> 31152.031 | F42: =IF(A42<=$C$21,IF($C$12*(1-$C$25*(EXP(A42/$C$19)-1))>0,$C$12*(1-$C$25*(EXP(A42/$C$19)-1)),0),IF($C$29*(1-$C$27*(EXP((A42-$C$21)/$C$20)-1))>0,$C$29*(1-$C$27*(EXP((A42-$C$21)/$C$20)-1)),0)) -> 79.431949 | G42: =IF(A42<=$C$21,($C$5-$C$8)*(F42/$C$12)^(1/$C$11)+$C$8, ($C$28-$C$8)*(F42/$C$29)^(1/$C$11)+$C$8) -> 28.487942 | H42: =A42-$C$6/2 -> -6000 | I42: =A42+$C$6/2 -> 8000
A43: =A42+$C$4 -> 2000 | E43: =IF(A43<=$C$21,$C$17*EXP(-A43/$C$19),$C$18*EXP(-(A43-$C$21)/$C$20)) -> 24261.226 | F43: =IF(A43<=$C$21,IF($C$12*(1-$C$25*(EXP(A43/$C$19)-1))>0,$C$12*(1-$C$25*(EXP(A43/$C$19)-1)),0),IF($C$29*(1-$C$27*(EXP((A43-$C$21)/$C$20)-1))>0,$C$29*(1-$C$27*(EXP((A43-$C$21)/$C$20)-1)),0)) -> 78.702557 | G43: =IF(A43<=$C$21,($C$5-$C$8)*(F43/$C$12)^(1/$C$11)+$C$8, ($C$28-$C$8)*(F43/$C$29)^(1/$C$11)+$C$8) -> 27.838456 | H43: =A43-$C$6/2 -> -5000 | I43: =A43+$C$6/2 -> 9000
A44: =A43+$C$4 -> 3000 | E44: =IF(A44<=$C$21,$C$17*EXP(-A44/$C$19),$C$18*EXP(-(A44-$C$21)/$C$20)) -> 18894.662 | F44: =IF(A44<=$C$21,IF($C$12*(1-$C$25*(EXP(A44/$C$19)-1))>0,$C$12*(1-$C$25*(EXP(A44/$C$19)-1)),0),IF($C$29*(1-$C$27*(EXP((A44-$C$21)/$C$20)-1))>0,$C$29*(1-$C$27*(EXP((A44-$C$21)/$C$20)-1)),0)) -> 77.766 | G44: =IF(A44<=$C$21,($C$5-$C$8)*(F44/$C$12)^(1/$C$11)+$C$8, ($C$28-$C$8)*(F44/$C$29)^(1/$C$11)+$C$8) -> 27.017641 | H44: =A44-$C$6/2 -> -4000 | I44: =A44+$C$6/2 -> 10000
A45: =A44+$C$4 -> 4000 | E45: =IF(A45<=$C$21,$C$17*EXP(-A45/$C$19),$C$18*EXP(-(A45-$C$21)/$C$20)) -> 14715.178 | F45: =IF(A45<=$C$21,IF($C$12*(1-$C$25*(EXP(A45/$C$19)-1))>0,$C$12*(1-$C$25*(EXP(A45/$C$19)-1)),0),IF($C$29*(1-$C$27*(EXP((A45-$C$21)/$C$20)-1))>0,$C$29*(1-$C$27*(EXP((A45-$C$21)/$C$20)-1)),0)) -> 76.563436 | G45: =IF(A45<=$C$21,($C$5-$C$8)*(F45/$C$12)^(1/$C$11)+$C$8, ($C$28-$C$8)*(F45/$C$29)^(1/$C$11)+$C$8) -> 25.985231 | H45: =A45-$C$6/2 -> -3000 | I45: =A45+$C$6/2 -> 11000
A46: =A45+$C$4 -> 5000 | E46: =IF(A46<=$C$21,$C$17*EXP(-A46/$C$19),$C$18*EXP(-(A46-$C$21)/$C$20)) -> 11460.192 | F46: =IF(A46<=$C$21,IF($C$12*(1-$C$25*(EXP(A46/$C$19)-1))>0,$C$12*(1-$C$25*(EXP(A46/$C$19)-1)),0),IF($C$29*(1-$C$27*(EXP((A46-$C$21)/$C$20)-1))>0,$C$29*(1-$C$27*(EXP((A46-$C$21)/$C$20)-1)),0)) -> 75.019314 | G46: =IF(A46<=$C$21,($C$5-$C$8)*(F46/$C$12)^(1/$C$11)+$C$8, ($C$28-$C$8)*(F46/$C$29)^(1/$C$11)+$C$8) -> 24.694814 | H46: =A46-$C$6/2 -> -2000 | I46: =A46+$C$6/2 -> 12000
A47: =A46+$C$4 -> 6000 | E47: =IF(A47<=$C$21,$C$17*EXP(-A47/$C$19),$C$18*EXP(-(A47-$C$21)/$C$20)) -> 8925.2064 | F47: =IF(A47<=$C$21,IF($C$12*(1-$C$25*(EXP(A47/$C$19)-1))>0,$C$12*(1-$C$25*(EXP(A47/$C$19)-1)),0),IF($C$29*(1-$C$27*(EXP((A47-$C$21)/$C$20)-1))>0,$C$29*(1-$C$27*(EXP((A47-$C$21)/$C$20)-1)),0)) -> 73.036622 | G47: =IF(A47<=$C$21,($C$5-$C$8)*(F47/$C$12)^(1/$C$11)+$C$8, ($C$28-$C$8)*(F47/$C$29)^(1/$C$11)+$C$8) -> 23.095359 | H47: =A47-$C$6/2 -> -1000 | I47: =A47+$C$6/2 -> 13000
A48: =A47+$C$4 -> 7000 | E48: =IF(A48<=$C$21,$C$17*EXP(-A48/$C$19),$C$18*EXP(-(A48-$C$21)/$C$20)) -> 6950.9577 | F48: =IF(A48<=$C$21,IF($C$12*(1-$C$25*(EXP(A48/$C$19)-1))>0,$C$12*(1-$C$25*(EXP(A48/$C$19)-1)),0),IF($C$29*(1-$C$27*(EXP((A48-$C$21)/$C$20)-1))>0,$C$29*(1-$C$27*(EXP((A48-$C$21)/$C$20)-1)),0)) -> 70.490795 | G48: =IF(A48<=$C$21,($C$5-$C$8)*(F48/$C$12)^(1/$C$11)+$C$8, ($C$28-$C$8)*(F48/$C$29)^(1/$C$11)+$C$8) -> 21.135087 | H48: =A48-$C$6/2 -> 0 | I48: =A48+$C$6/2 -> 14000
A49: =A48+$C$4 -> 8000 | E49: =IF(A49<=$C$21,$C$17*EXP(-A49/$C$19),$C$18*EXP(-(A49-$C$21)/$C$20)) -> 5413.4113 | F49: =IF(A49<=$C$21,IF($C$12*(1-$C$25*(EXP(A49/$C$19)-1))>0,$C$12*(1-$C$25*(EXP(A49/$C$19)-1)),0),IF($C$29*(1-$C$27*(EXP((A49-$C$21)/$C$20)-1))>0,$C$29*(1-$C$27*(EXP((A49-$C$21)/$C$20)-1)),0)) -> 67.221888 | G49: =IF(A49<=$C$21,($C$5-$C$8)*(F49/$C$12)^(1/$C$11)+$C$8, ($C$28-$C$8)*(F49/$C$29)^(1/$C$11)+$C$8) -> 18.769374 | H49: =A49-$C$6/2 -> 1000 | I49: =A49+$C$6/2 -> 15000
A50: =A49+$C$4 -> 9000 | E50: =IF(A50<=$C$21,$C$17*EXP(-A50/$C$19),$C$18*EXP(-(A50-$C$21)/$C$20)) -> 5085.4293 | F50: =IF(A50<=$C$21,IF($C$12*(1-$C$25*(EXP(A50/$C$19)-1))>0,$C$12*(1-$C$25*(EXP(A50/$C$19)-1)),0),IF($C$29*(1-$C$27*(EXP((A50-$C$21)/$C$20)-1))>0,$C$29*(1-$C$27*(EXP((A50-$C$21)/$C$20)-1)),0)) -> 63.409462 | G50: =IF(A50<=$C$21,($C$5-$C$8)*(F50/$C$12)^(1/$C$11)+$C$8, ($C$28-$C$8)*(F50/$C$29)^(1/$C$11)+$C$8) -> 16.220275 | H50: =A50-$C$6/2 -> 2000 | I50: =A50+$C$6/2 -> 16000
A51: =A50+$C$4 -> 10000 | E51: =IF(A51<=$C$21,$C$17*EXP(-A51/$C$19),$C$18*EXP(-(A51-$C$21)/$C$20)) -> 4777.3187 | F51: =IF(A51<=$C$21,IF($C$12*(1-$C$25*(EXP(A51/$C$19)-1))>0,$C$12*(1-$C$25*(EXP(A51/$C$19)-1)),0),IF($C$29*(1-$C$27*(EXP((A51-$C$21)/$C$20)-1))>0,$C$29*(1-$C$27*(EXP((A51-$C$21)/$C$20)-1)),0)) -> 59.351157 | G51: =IF(A51<=$C$21,($C$5-$C$8)*(F51/$C$12)^(1/$C$11)+$C$8, ($C$28-$C$8)*(F51/$C$29)^(1/$C$11)+$C$8) -> 13.748205 | H51: =A51-$C$6/2 -> 3000 | I51: =A51+$C$6/2 -> 17000
A52: =A51+$C$4 -> 11000 | E52: =IF(A52<=$C$21,$C$17*EXP(-A52/$C$19),$C$18*EXP(-(A52-$C$21)/$C$20)) -> 4487.8756 | F52: =IF(A52<=$C$21,IF($C$12*(1-$C$25*(EXP(A52/$C$19)-1))>0,$C$12*(1-$C$25*(EXP(A52/$C$19)-1)),0),IF($C$29*(1-$C$27*(EXP((A52-$C$21)/$C$20)-1))>0,$C$29*(1-$C$27*(EXP((A52-$C$21)/$C$20)-1)),0)) -> 55.031113 | G52: =IF(A52<=$C$21,($C$5-$C$8)*(F52/$C$12)^(1/$C$11)+$C$8, ($C$28-$C$8)*(F52/$C$29)^(1/$C$11)+$C$8) -> 11.38135 | H52: =A52-$C$6/2 -> 4000 | I52: =A52+$C$6/2 -> 18000
A53: =A52+$C$4 -> 12000 | E53: =IF(A53<=$C$21,$C$17*EXP(-A53/$C$19),$C$18*EXP(-(A53-$C$21)/$C$20)) -> 4215.969 | F53: =IF(A53<=$C$21,IF($C$12*(1-$C$25*(EXP(A53/$C$19)-1))>0,$C$12*(1-$C$25*(EXP(A53/$C$19)-1)),0),IF($C$29*(1-$C$27*(EXP((A53-$C$21)/$C$20)-1))>0,$C$29*(1-$C$27*(EXP((A53-$C$21)/$C$20)-1)),0)) -> 50.43245 | G53: =IF(A53<=$C$21,($C$5-$C$8)*(F53/$C$12)^(1/$C$11)+$C$8, ($C$28-$C$8)*(F53/$C$29)^(1/$C$11)+$C$8) -> 9.150571 | H53: =A53-$C$6/2 -> 5000 | I53: =A53+$C$6/2 -> 19000
... A167: =A166+$C$4 -> 126000 | E167: =IF(A167<=$C$21,$C$17*EXP(-A167/$C$19),$C$18*EXP(-(A167-$C$21)/$C$20)) -> 3.3927294 | F167: =IF(A167<=$C$21,IF($C$12*(1-$C$25*(EXP(A167/$C$19)-1))>0,$C$12*(1-$C$25*(EXP(A167/$C$19)-1)),0),IF($C$29*(1-$C$27*(EXP((A167-$C$21)/$C$20)-1))>0,$C$29*(1-$C$27*(EXP((A167-$C$21)/$C$20)-1)),0)) -> 0 | G167: =IF(A167<=$C$21,($C$5-$C$8)*(F167/$C$12)^(1/$C$11)+$C$8, ($C$28-$C$8)*(F167/$C$29)^(1/$C$11)+$C$8) -> 0 | H167: =A167-$C$6/2 -> 119000 | I167: =A167+$C$6/2 -> 133000

Sheet 19-4-1984
A1: STEADY SALT INTRUSION MODEL (TA)
A2: Maputo 19-4-1984
A3: Input | F3: Measurements
A4: Step length | B4: dx | C4: 1000 | D4: m | F4: x (m) | G4: HWS | H4: x (m) | I4: LWS
A5: Sea salinity | B5: S0 | C5: 27 | D5: kg/m3 | F5: 5000 | G5: 27.5 | H5: 8000 | I5: 5
A6: Tidal Excursion | B6: E0 | C6: 12000 | D6: m | F6: 8000 | G6: =25+(6/26)*5 -> 26.153846 | H6: =5000+(24/25)*5000 -> 9800 | I6: =(12/26)*5 -> 2.3076923
A7: Tidal Range | B7: H | C7: 3.3 | D7: m | F7: =10000+(16/25)*5000 -> 13200 | G7: =15+(10/25)*5 -> 17 | H7: 13200 | I7: =2/26*5 -> 0.38461538
A8: Fresh water salinity | B8: Cf | C8: 0 | D8: kg/m3 | F8: =15000+(11/25)*5000 -> 17200 | G8: =10+(3/26)*5 -> 10.576923
F9: =15000+(23/25)*5000 -> 19600 | G9: =5+(8/26)*5 -> 6.5384615
A10: Calibration parameters | F10: =20000+(1.5/2.5)*5000 -> 23000 | G10: =9/26*5 -> 1.7307692
A11: Van Den Burgh | B11: K | C11: 0.4 | F11: =25000+(4/25)*5000 -> 25800 | G11: =(2/26)*5 -> 0.38461538
A12: Dispersion at mouth | B12: Do | C12: 185 | D12: m2/s | F12: =25000+(6/25)*5000 -> 26200 | G12: =(1/26) -> 0.038461538
A13: Discharge | B13: Q | C13: 115 | D13: m3/s
A14: Alpha 0 | B14: α0 | C14: =C12/C13 -> 1.6086957 | D14: 1/m
A16: Geometry
A17: Area at mouth | B17: A0 | C17: =Overview!D18 -> 40000 | D17: m2
A18: Area at x1 | B18: A1 | C18: =Overview!D19 -> 5413.4113 | D18: m2
A19: Convergence length | B19: a1 | C19: =Overview!D20 -> 4000 | D19: m
A20: Convergence length 2 | B20: a2 | C20: =Overview!D21 -> 16000 | D20: m
A21: Inflection point | B21: x1 | C21: =Overview!D22 -> 8000 | D21: m
A22: Depth | B22: h0 | C22: =Overview!D23 -> 3.6 | D22: m
A24: Calculations | F24: REMARKS
A25: Beta | B25: β | C25: =$C$11*$C$19/C$14/$C$17 -> 0.024864865 | F25: Data from original report; discharge is measured!
A26: Alpha 1 | B26: α1 | C26: =C29/C13 -> 1.3531334 | D26: 1/m
A27: Beta1 | B27: β1 | C27: =C11*C20/C26/C18 -> 0.87371206
A28: Salinity at x1 | B28: S1 | C28: =($C$5-$C$8)*(C29/C12)^(1/$C$11)+$C$8 -> 17.519858 | D28: kg/m3
A29: Dispersion at x1 | B29: D1 | C29: =C12*(1-C25*(EXP(C21/C19)-1)) -> 155.61034
A31: x: | B31: Shifted x | E31: A | F31: D | G31: S | H31: xLWS | I31: xHWS
A32: =A33-$C$4-9000 -> -18000 | E32: =IF(A32<=$C$21,$C$17*EXP(-A32/$C$19),$C$18*EXP(-(A32-$C$21)/$C$20)) -> 3600685.3 | F32: =IF(A32<=$C$21,IF($C$12*(1-$C$25*(EXP(A32/$C$19)-1))>0,$C$12*(1-$C$25*(EXP(A32/$C$19)-1)),0),IF($C$29*(1-$C$27*(EXP((A32-$C$21)/$C$20)-1))>0,$C$29*(1-$C$27*(EXP((A32-$C$21)/$C$20)-1)),0)) -> 189.5489 | G32: =IF(A32<=$C$21,($C$5-$C$8)*(F32/$C$12)^(1/$C$11)+$C$8, ($C$28-$C$8)*(F32/$C$29)^(1/$C$11)+$C$8) -> 28.690466 | H32: =A32-$C$6/2 -> -24000 | I32: =A32+$C$6/2 -> -12000
A33: =A34-$C$4 -> -8000 | E33: =IF(A33<=$C$21,$C$17*EXP(-A33/$C$19),$C$18*EXP(-(A33-$C$21)/$C$20)) -> 295562.24 | F33: =IF(A33<=$C$21,IF($C$12*(1-$C$25*(EXP(A33/$C$19)-1))>0,$C$12*(1-$C$25*(EXP(A33/$C$19)-1)),0),IF($C$29*(1-$C$27*(EXP((A33-$C$21)/$C$20)-1))>0,$C$29*(1-$C$27*(EXP((A33-$C$21)/$C$20)-1)),0)) -> 188.97746 | G33: =IF(A33<=$C$21,($C$5-$C$8)*(F33/$C$12)^(1/$C$11)+$C$8, ($C$28-$C$8)*(F33/$C$29)^(1/$C$11)+$C$8) -> 28.474719 | H33: =A33-$C$6/2 -> -14000 | I33: =A33+$C$6/2 -> -2000
A34: =A35-$C$4 -> -7000 | E34: =IF(A34<=$C$21,$C$17*EXP(-A34/$C$19),$C$18*EXP(-(A34-$C$21)/$C$20)) -> 230184.11 | F34: =IF(A34<=$C$21,IF($C$12*(1-$C$25*(EXP(A34/$C$19)-1))>0,$C$12*(1-$C$25*(EXP(A34/$C$19)-1)),0),IF($C$29*(1-$C$27*(EXP((A34-$C$21)/$C$20)-1))>0,$C$29*(1-$C$27*(EXP((A34-$C$21)/$C$20)-1)),0)) -> 188.80064 | G34: =IF(A34<=$C$21,($C$5-$C$8)*(F34/$C$12)^(1/$C$11)+$C$8, ($C$28-$C$8)*(F34/$C$29)^(1/$C$11)+$C$8) -> 28.40816 | H34: =A34-$C$6/2 -> -13000 | I34: =A34+$C$6/2 -> -1000
A35: =A36-$C$4 -> -6000 | E35: =IF(A35<=$C$21,$C$17*EXP(-A35/$C$19),$C$18*EXP(-(A35-$C$21)/$C$20)) -> 179267.56 | F35: =IF(A35<=$C$21,IF($C$12*(1-$C$25*(EXP(A35/$C$19)-1))>0,$C$12*(1-$C$25*(EXP(A35/$C$19)-1)),0),IF($C$29*(1-$C$27*(EXP((A35-$C$21)/$C$20)-1))>0,$C$29*(1-$C$27*(EXP((A35-$C$21)/$C$20)-1)),0)) -> 188.5736 | G35: =IF(A35<=$C$21,($C$5-$C$8)*(F35/$C$12)^(1/$C$11)+$C$8, ($C$28-$C$8)*(F35/$C$29)^(1/$C$11)+$C$8) -> 28.322832 | H35: =A35-$C$6/2 -> -12000 | I35: =A35+$C$6/2 -> 0
A36: =A37-$C$4 -> -5000 | E36: =IF(A36<=$C$21,$C$17*EXP(-A36/$C$19),$C$18*EXP(-(A36-$C$21)/$C$20)) -> 139613.72 | F36: =IF(A36<=$C$21,IF($C$12*(1-$C$25*(EXP(A36/$C$19)-1))>0,$C$12*(1-$C$25*(EXP(A36/$C$19)-1)),0),IF($C$29*(1-$C$27*(EXP((A36-$C$21)/$C$20)-1))>0,$C$29*(1-$C$27*(EXP((A36-$C$21)/$C$20)-1)),0)) -> 188.28208 | G36: =IF(A36<=$C$21,($C$5-$C$8)*(F36/$C$12)^(1/$C$11)+$C$8, ($C$28-$C$8)*(F36/$C$29)^(1/$C$11)+$C$8) -> 28.213496 | H36: =A36-$C$6/2 -> -11000 | I36: =A36+$C$6/2 -> 1000
A37: =A38-$C$4 -> -4000 | E37: =IF(A37<=$C$21,$C$17*EXP(-A37/$C$19),$C$18*EXP(-(A37-$C$21)/$C$20)) -> 108731.27 | F37: =IF(A37<=$C$21,IF($C$12*(1-$C$25*(EXP(A37/$C$19)-1))>0,$C$12*(1-$C$25*(EXP(A37/$C$19)-1)),0),IF($C$29*(1-$C$27*(EXP((A37-$C$21)/$C$20)-1))>0,$C$29*(1-$C$27*(EXP((A37-$C$21)/$C$20)-1)),0)) -> 187.90775 | G37: =IF(A37<=$C$21,($C$5-$C$8)*(F37/$C$12)^(1/$C$11)+$C$8, ($C$28-$C$8)*(F37/$C$29)^(1/$C$11)+$C$8) -> 28.073477 | H37: =A37-$C$6/2 -> -10000 | I37: =A37+$C$6/2 -> 2000
A38: =A39-$C$4 -> -3000 | E38: =IF(A38<=$C$21,$C$17*EXP(-A38/$C$19),$C$18*EXP(-(A38-$C$21)/$C$20)) -> 84680.001 | F38: =IF(A38<=$C$21,IF($C$12*(1-$C$25*(EXP(A38/$C$19)-1))>0,$C$12*(1-$C$25*(EXP(A38/$C$19)-1)),0),IF($C$29*(1-$C$27*(EXP((A38-$C$21)/$C$20)-1))>0,$C$29*(1-$C$27*(EXP((A38-$C$21)/$C$20)-1)),0)) -> 187.42711 | G38: =IF(A38<=$C$21,($C$5-$C$8)*(F38/$C$12)^(1/$C$11)+$C$8, ($C$28-$C$8)*(F38/$C$29)^(1/$C$11)+$C$8) -> 27.894301 | H38: =A38-$C$6/2 -> -9000 | I38: =A38+$C$6/2 -> 3000
A39: =A40-$C$4 -> -2000 | E39: =IF(A39<=$C$21,$C$17*EXP(-A39/$C$19),$C$18*EXP(-(A39-$C$21)/$C$20)) -> 65948.851 | F39: =IF(A39<=$C$21,IF($C$12*(1-$C$25*(EXP(A39/$C$19)-1))>0,$C$12*(1-$C$25*(EXP(A39/$C$19)-1)),0),IF($C$29*(1-$C$27*(EXP((A39-$C$21)/$C$20)-1))>0,$C$29*(1-$C$27*(EXP((A39-$C$21)/$C$20)-1)),0)) -> 186.80996 | G39: =IF(A39<=$C$21,($C$5-$C$8)*(F39/$C$12)^(1/$C$11)+$C$8, ($C$28-$C$8)*(F39/$C$29)^(1/$C$11)+$C$8) -> 27.665244 | H39: =A39-$C$6/2 -> -8000 | I39: =A39+$C$6/2 -> 4000
A40: =A41-$C$4 -> -1000 | E40: =IF(A40<=$C$21,$C$17*EXP(-A40/$C$19),$C$18*EXP(-(A40-$C$21)/$C$20)) -> 51361.017 | F40: =IF(A40<=$C$21,IF($C$12*(1-$C$25*(EXP(A40/$C$19)-1))>0,$C$12*(1-$C$25*(EXP(A40/$C$19)-1)),0),IF($C$29*(1-$C$27*(EXP((A40-$C$21)/$C$20)-1))>0,$C$29*(1-$C$27*(EXP((A40-$C$21)/$C$20)-1)),0)) -> 186.01752 | G40: =IF(A40<=$C$21,($C$5-$C$8)*(F40/$C$12)^(1/$C$11)+$C$8, ($C$28-$C$8)*(F40/$C$29)^(1/$C$11)+$C$8) -> 27.372789 | H40: =A40-$C$6/2 -> -7000 | I40: =A40+$C$6/2 -> 5000
A41: 0 | E41: =IF(A41<=$C$21,$C$17*EXP(-A41/$C$19),$C$18*EXP(-(A41-$C$21)/$C$20)) -> 40000 | F41: =IF(A41<=$C$21,IF($C$12*(1-$C$25*(EXP(A41/$C$19)-1))>0,$C$12*(1-$C$25*(EXP(A41/$C$19)-1)),0),IF($C$29*(1-$C$27*(EXP((A41-$C$21)/$C$20)-1))>0,$C$29*(1-$C$27*(EXP((A41-$C$21)/$C$20)-1)),0)) -> 185 | G41: =IF(A41<=$C$21,($C$5-$C$8)*(F41/$C$12)^(1/$C$11)+$C$8, ($C$28-$C$8)*(F41/$C$29)^(1/$C$11)+$C$8) -> 27 | H41: =A41-$C$6/2 -> -6000 | I41: =A41+$C$6/2 -> 6000
A42: =A41+$C$4 -> 1000 | E42: =IF(A42<=$C$21,$C$17*EXP(-A42/$C$19),$C$18*EXP(-(A42-$C$21)/$C$20)) -> 31152.031 | F42: =IF(A42<=$C$21,IF($C$12*(1-$C$25*(EXP(A42/$C$19)-1))>0,$C$12*(1-$C$25*(EXP(A42/$C$19)-1)),0),IF($C$29*(1-$C$27*(EXP((A42-$C$21)/$C$20)-1))>0,$C$29*(1-$C$27*(EXP((A42-$C$21)/$C$20)-1)),0)) -> 183.69348 | G42: =IF(A42<=$C$21,($C$5-$C$8)*(F42/$C$12)^(1/$C$11)+$C$8, ($C$28-$C$8)*(F42/$C$29)^(1/$C$11)+$C$8) -> 26.52582 | H42: =A42-$C$6/2 -> -5000 | I42: =A42+$C$6/2 -> 7000
A43: =A42+$C$4 -> 2000 | E43: =IF(A43<=$C$21,$C$17*EXP(-A43/$C$19),$C$18*EXP(-(A43-$C$21)/$C$20)) -> 24261.226 | F43: =IF(A43<=$C$21,IF($C$12*(1-$C$25*(EXP(A43/$C$19)-1))>0,$C$12*(1-$C$25*(EXP(A43/$C$19)-1)),0),IF($C$29*(1-$C$27*(EXP((A43-$C$21)/$C$20)-1))>0,$C$29*(1-$C$27*(EXP((A43-$C$21)/$C$20)-1)),0)) -> 182.01588 | G43: =IF(A43<=$C$21,($C$5-$C$8)*(F43/$C$12)^(1/$C$11)+$C$8, ($C$28-$C$8)*(F43/$C$29)^(1/$C$11)+$C$8) -> 25.924337 | H43: =A43-$C$6/2 -> -4000 | I43: =A43+$C$6/2 -> 8000
A44: =A43+$C$4 -> 3000 | E44: =IF(A44<=$C$21,$C$17*EXP(-A44/$C$19),$C$18*EXP(-(A44-$C$21)/$C$20)) -> 18894.662 | F44: =IF(A44<=$C$21,IF($C$12*(1-$C$25*(EXP(A44/$C$19)-1))>0,$C$12*(1-$C$25*(EXP(A44/$C$19)-1)),0),IF($C$29*(1-$C$27*(EXP((A44-$C$21)/$C$20)-1))>0,$C$29*(1-$C$27*(EXP((A44-$C$21)/$C$20)-1)),0)) -> 179.8618 | G44: =IF(A44<=$C$21,($C$5-$C$8)*(F44/$C$12)^(1/$C$11)+$C$8, ($C$28-$C$8)*(F44/$C$29)^(1/$C$11)+$C$8) -> 25.164122 | H44: =A44-$C$6/2 -> -3000 | I44: =A44+$C$6/2 -> 9000
A45: =A44+$C$4 -> 4000 | E45: =IF(A45<=$C$21,$C$17*EXP(-A45/$C$19),$C$18*EXP(-(A45-$C$21)/$C$20)) -> 14715.178 | F45: =IF(A45<=$C$21,IF($C$12*(1-$C$25*(EXP(A45/$C$19)-1))>0,$C$12*(1-$C$25*(EXP(A45/$C$19)-1)),0),IF($C$29*(1-$C$27*(EXP((A45-$C$21)/$C$20)-1))>0,$C$29*(1-$C$27*(EXP((A45-$C$21)/$C$20)-1)),0)) -> 177.0959 | G45: =IF(A45<=$C$21,($C$5-$C$8)*(F45/$C$12)^(1/$C$11)+$C$8, ($C$28-$C$8)*(F45/$C$29)^(1/$C$11)+$C$8) -> 24.207823 | H45: =A45-$C$6/2 -> -2000 | I45: =A45+$C$6/2 -> 10000
A46: =A45+$C$4 -> 5000 | E46: =IF(A46<=$C$21,$C$17*EXP(-A46/$C$19),$C$18*EXP(-(A46-$C$21)/$C$20)) -> 11460.192 | F46: =IF(A46<=$C$21,IF($C$12*(1-$C$25*(EXP(A46/$C$19)-1))>0,$C$12*(1-$C$25*(EXP(A46/$C$19)-1)),0),IF($C$29*(1-$C$27*(EXP((A46-$C$21)/$C$20)-1))>0,$C$29*(1-$C$27*(EXP((A46-$C$21)/$C$20)-1)),0)) -> 173.54442 | G46: =IF(A46<=$C$21,($C$5-$C$8)*(F46/$C$12)^(1/$C$11)+$C$8, ($C$28-$C$8)*(F46/$C$29)^(1/$C$11)+$C$8) -> 23.012357 | H46: =A46-$C$6/2 -> -1000 | I46: =A46+$C$6/2 -> 11000
A47: =A46+$C$4 -> 6000 | E47: =IF(A47<=$C$21,$C$17*EXP(-A47/$C$19),$C$18*EXP(-(A47-$C$21)/$C$20)) -> 8925.2064 | F47: =IF(A47<=$C$21,IF($C$12*(1-$C$25*(EXP(A47/$C$19)-1))>0,$C$12*(1-$C$25*(EXP(A47/$C$19)-1)),0),IF($C$29*(1-$C$27*(EXP((A47-$C$21)/$C$20)-1))>0,$C$29*(1-$C$27*(EXP((A47-$C$21)/$C$20)-1)),0)) -> 168.98423 | G47: =IF(A47<=$C$21,($C$5-$C$8)*(F47/$C$12)^(1/$C$11)+$C$8, ($C$28-$C$8)*(F47/$C$29)^(1/$C$11)+$C$8) -> 21.53029 | H47: =A47-$C$6/2 -> 0 | I47: =A47+$C$6/2 -> 12000
A48: =A47+$C$4 -> 7000 | E48: =IF(A48<=$C$21,$C$17*EXP(-A48/$C$19),$C$18*EXP(-(A48-$C$21)/$C$20)) -> 6950.9577 | F48: =IF(A48<=$C$21,IF($C$12*(1-$C$25*(EXP(A48/$C$19)-1))>0,$C$12*(1-$C$25*(EXP(A48/$C$19)-1)),0),IF($C$29*(1-$C$27*(EXP((A48-$C$21)/$C$20)-1))>0,$C$29*(1-$C$27*(EXP((A48-$C$21)/$C$20)-1)),0)) -> 163.12883 | G48: =IF(A48<=$C$21,($C$5-$C$8)*(F48/$C$12)^(1/$C$11)+$C$8, ($C$28-$C$8)*(F48/$C$29)^(1/$C$11)+$C$8) -> 19.713386 | H48: =A48-$C$6/2 -> 1000 | I48: =A48+$C$6/2 -> 13000
A49: =A48+$C$4 -> 8000 | E49: =IF(A49<=$C$21,$C$17*EXP(-A49/$C$19),$C$18*EXP(-(A49-$C$21)/$C$20)) -> 5413.4113 | F49: =IF(A49<=$C$21,IF($C$12*(1-$C$25*(EXP(A49/$C$19)-1))>0,$C$12*(1-$C$25*(EXP(A49/$C$19)-1)),0),IF($C$29*(1-$C$27*(EXP((A49-$C$21)/$C$20)-1))>0,$C$29*(1-$C$27*(EXP((A49-$C$21)/$C$20)-1)),0)) -> 155.61034 | G49: =IF(A49<=$C$21,($C$5-$C$8)*(F49/$C$12)^(1/$C$11)+$C$8, ($C$28-$C$8)*(F49/$C$29)^(1/$C$11)+$C$8) -> 17.519858 | H49: =A49-$C$6/2 -> 2000 | I49: =A49+$C$6/2 -> 14000
A50: =A49+$C$4 -> 9000 | E50: =IF(A50<=$C$21,$C$17*EXP(-A50/$C$19),$C$18*EXP(-(A50-$C$21)/$C$20)) -> 5085.4293 | F50: =IF(A50<=$C$21,IF($C$12*(1-$C$25*(EXP(A50/$C$19)-1))>0,$C$12*(1-$C$25*(EXP(A50/$C$19)-1)),0),IF($C$29*(1-$C$27*(EXP((A50-$C$21)/$C$20)-1))>0,$C$29*(1-$C$27*(EXP((A50-$C$21)/$C$20)-1)),0)) -> 146.84176 | G50: =IF(A50<=$C$21,($C$5-$C$8)*(F50/$C$12)^(1/$C$11)+$C$8, ($C$28-$C$8)*(F50/$C$29)^(1/$C$11)+$C$8) -> 15.155087 | H50: =A50-$C$6/2 -> 3000 | I50: =A50+$C$6/2 -> 15000
A51: =A50+$C$4 -> 10000 | E51: =IF(A51<=$C$21,$C$17*EXP(-A51/$C$19),$C$18*EXP(-(A51-$C$21)/$C$20)) -> 4777.3187 | F51: =IF(A51<=$C$21,IF($C$12*(1-$C$25*(EXP(A51/$C$19)-1))>0,$C$12*(1-$C$25*(EXP(A51/$C$19)-1)),0),IF($C$29*(1-$C$27*(EXP((A51-$C$21)/$C$20)-1))>0,$C$29*(1-$C$27*(EXP((A51-$C$21)/$C$20)-1)),0)) -> 137.50766 | G51: =IF(A51<=$C$21,($C$5-$C$8)*(F51/$C$12)^(1/$C$11)+$C$8, ($C$28-$C$8)*(F51/$C$29)^(1/$C$11)+$C$8) -> 12.860317 | H51: =A51-$C$6/2 -> 4000 | I51: =A51+$C$6/2 -> 16000
A52: =A51+$C$4 -> 11000 | E52: =IF(A52<=$C$21,$C$17*EXP(-A52/$C$19),$C$18*EXP(-(A52-$C$21)/$C$20)) -> 4487.8756 | F52: =IF(A52<=$C$21,IF($C$12*(1-$C$25*(EXP(A52/$C$19)-1))>0,$C$12*(1-$C$25*(EXP(A52/$C$19)-1)),0),IF($C$29*(1-$C$27*(EXP((A52-$C$21)/$C$20)-1))>0,$C$29*(1-$C$27*(EXP((A52-$C$21)/$C$20)-1)),0)) -> 127.57156 | G52: =IF(A52<=$C$21,($C$5-$C$8)*(F52/$C$12)^(1/$C$11)+$C$8, ($C$28-$C$8)*(F52/$C$29)^(1/$C$11)+$C$8) -> 10.661519 | H52: =A52-$C$6/2 -> 5000 | I52: =A52+$C$6/2 -> 17000
A53: =A52+$C$4 -> 12000 | E53: =IF(A53<=$C$21,$C$17*EXP(-A53/$C$19),$C$18*EXP(-(A53-$C$21)/$C$20)) -> 4215.969 | F53: =IF(A53<=$C$21,IF($C$12*(1-$C$25*(EXP(A53/$C$19)-1))>0,$C$12*(1-$C$25*(EXP(A53/$C$19)-1)),0),IF($C$29*(1-$C$27*(EXP((A53-$C$21)/$C$20)-1))>0,$C$29*(1-$C$27*(EXP((A53-$C$21)/$C$20)-1)),0)) -> 116.99463 | G53: =IF(A53<=$C$21,($C$5-$C$8)*(F53/$C$12)^(1/$C$11)+$C$8, ($C$28-$C$8)*(F53/$C$29)^(1/$C$11)+$C$8) -> 8.5871551 | H53: =A53-$C$6/2 -> 6000 | I53: =A53+$C$6/2 -> 18000
... A167: =A166+$C$4 -> 126000 | E167: =IF(A167<=$C$21,$C$17*EXP(-A167/$C$19),$C$18*EXP(-(A167-$C$21)/$C$20)) -> 3.3927294 | F167: =IF(A167<=$C$21,IF($C$12*(1-$C$25*(EXP(A167/$C$19)-1))>0,$C$12*(1-$C$25*(EXP(A167/$C$19)-1)),0),IF($C$29*(1-$C$27*(EXP((A167-$C$21)/$C$20)-1))>0,$C$29*(1-$C$27*(EXP((A167-$C$21)/$C$20)-1)),0)) -> 0 | G167: =IF(A167<=$C$21,($C$5-$C$8)*(F167/$C$12)^(1/$C$11)+$C$8, ($C$28-$C$8)*(F167/$C$29)^(1/$C$11)+$C$8) -> 0 | H167: =A167-$C$6/2 -> 120000 | I167: =A167+$C$6/2 -> 132000

Sheet 28-4-1982
A1: STEADY SALT INTRUSION MODEL (TA)
A2: Maputo 28-4-1982
A3: Input | F3: Measurements
A4: Step length | B4: dx | C4: 1000 | D4: m | F4: x (m) | G4: HWS | H4: x (m) | I4: LWS
A5: Sea salinity | B5: S0 | C5: 34 | D5: kg/m3 | F5: 0 | G5: 35 | H5: =9/25*5000 -> 1800 | I5: =20+(10/25)*5 -> 22
A6: Tidal Excursion | B6: E0 | C6: 13000 | D6: m | F6: 8000 | G6: 33.4 | H6: 8000 | I6: =5+(14/25)*5 -> 7.8
A7: Tidal Range | B7: H | C7: 3.46 | D7: m | F7: =10000+(10/25)*5000 -> 12000 | G7: =25+(15/25)*5 -> 28 | H7: 23000 | I7: =2/25*5 -> 0.4
A8: Fresh water salinity | B8: Cf | C8: 0 | D8: kg/m3 | F8: =15000+(20/25)*5000 -> 19000 | G8: =10+(24/25)*5 -> 14.8
F9: =20000+(15/25)*5000 -> 23000 | G9: =22/25*5 -> 4.4
A10: Calibration parameters | F10: =25000+(15/25)*5000 -> 28000 | G10: 1.4
A11: Van Den Burgh | B11: K | C11: 0.4 | F11: =30000+(6/25)*5000 -> 31200 | G11: 0.7
A12: Dispersion at mouth | B12: Do | C12: 40 | D12: m2/s
A13: Discharge | B13: Q | C13: 21 | D13: m3/s
A14: Alpha 0 | B14: α0 | C14: =C12/C13 -> 1.9047619 | D14: 1/m
A16: Geometry
A17: Area at mouth | B17: A0 | C17: =Overview!D18 -> 40000 | D17: m2
A18: Area at x1 | B18: A1 | C18: =Overview!D19 -> 5413.4113 | D18: m2
A19: Convergence length | B19: a1 | C19: =Overview!D20 -> 4000 | D19: m
A20: Convergence length 2 | B20: a2 | C20: =Overview!D21 -> 16000 | D20: m
A21: Inflection point | B21: x1 | C21: =Overview!D22 -> 8000 | D21: m
A22: Depth | B22: h0 | C22: =Overview!D23 -> 3.6 | D22: m
A24: Calculations | F24: REMARKS
A25: Beta | B25: β | C25: =$C$11*$C$19/C$14/$C$17 -> 0.021 | F25: Data from original report; discharge is measured!
A26: Alpha 1 | B26: α1 | C26: =C29/C13 -> 1.6491997 | D26: 1/m
A27: Beta1 | B27: β1 | C27: =C11*C20/C26/C18 -> 0.71686225
A28: Salinity at x1 | B28: S1 | C28: =($C$5-$C$8)*(C29/C12)^(1/$C$11)+$C$8 -> 23.717028 | D28: kg/m3
A29: Dispersion at x1 | B29: D1 | C29: =C12*(1-C25*(EXP(C21/C19)-1)) -> 34.633193
A31: x: | B31: Shifted x | E31: A | F31: D | G31: S | H31: xLWS | I31: xHWS
A32: =A33-$C$4-9000 -> -18000 | E32: =IF(A32<=$C$21,$C$17*EXP(-A32/$C$19),$C$18*EXP(-(A32-$C$21)/$C$20)) -> 3600685.3 | F32: =IF(A32<=$C$21,IF($C$12*(1-$C$25*(EXP(A32/$C$19)-1))>0,$C$12*(1-$C$25*(EXP(A32/$C$19)-1)),0),IF($C$29*(1-$C$27*(EXP((A32-$C$21)/$C$20)-1))>0,$C$29*(1-$C$27*(EXP((A32-$C$21)/$C$20)-1)),0)) -> 40.830668 | G32: =IF(A32<=$C$21,($C$5-$C$8)*(F32/$C$12)^(1/$C$11)+$C$8, ($C$28-$C$8)*(F32/$C$29)^(1/$C$11)+$C$8) -> 35.792758 | H32: =A32-$C$6/2 -> -24500 | I32: =A32+$C$6/2 -> -11500
A33: =A34-$C$4 -> -8000 | E33: =IF(A33<=$C$21,$C$17*EXP(-A33/$C$19),$C$18*EXP(-(A33-$C$21)/$C$20)) -> 295562.24 | F33: =IF(A33<=$C$21,IF($C$12*(1-$C$25*(EXP(A33/$C$19)-1))>0,$C$12*(1-$C$25*(EXP(A33/$C$19)-1)),0),IF($C$29*(1-$C$27*(EXP((A33-$C$21)/$C$20)-1))>0,$C$29*(1-$C$27*(EXP((A33-$C$21)/$C$20)-1)),0)) -> 40.726318 | G33: =IF(A33<=$C$21,($C$5-$C$8)*(F33/$C$12)^(1/$C$11)+$C$8, ($C$28-$C$8)*(F33/$C$29)^(1/$C$11)+$C$8) -> 35.564509 | H33: =A33-$C$6/2 -> -14500 | I33: =A33+$C$6/2 -> -1500
A34: =A35-$C$4 -> -7000 | E34: =IF(A34<=$C$21,$C$17*EXP(-A34/$C$19),$C$18*EXP(-(A34-$C$21)/$C$20)) -> 230184.11 | F34: =IF(A34<=$C$21,IF($C$12*(1-$C$25*(EXP(A34/$C$19)-1))>0,$C$12*(1-$C$25*(EXP(A34/$C$19)-1)),0),IF($C$29*(1-$C$27*(EXP((A34-$C$21)/$C$20)-1))>0,$C$29*(1-$C$27*(EXP((A34-$C$21)/$C$20)-1)),0)) -> 40.69403 | G34: =IF(A34<=$C$21,($C$5-$C$8)*(F34/$C$12)^(1/$C$11)+$C$8, ($C$28-$C$8)*(F34/$C$29)^(1/$C$11)+$C$8) -> 35.494061 | H34: =A34-$C$6/2 -> -13500 | I34: =A34+$C$6/2 -> -500
A35: =A36-$C$4 -> -6000 | E35: =IF(A35<=$C$21,$C$17*EXP(-A35/$C$19),$C$18*EXP(-(A35-$C$21)/$C$20)) -> 179267.56 | F35: =IF(A35<=$C$21,IF($C$12*(1-$C$25*(EXP(A35/$C$19)-1))>0,$C$12*(1-$C$25*(EXP(A35/$C$19)-1)),0),IF($C$29*(1-$C$27*(EXP((A35-$C$21)/$C$20)-1))>0,$C$29*(1-$C$27*(EXP((A35-$C$21)/$C$20)-1)),0)) -> 40.652571 | G35: =IF(A35<=$C$21,($C$5-$C$8)*(F35/$C$12)^(1/$C$11)+$C$8, ($C$28-$C$8)*(F35/$C$29)^(1/$C$11)+$C$8) -> 35.403726 | H35: =A35-$C$6/2 -> -12500 | I35: =A35+$C$6/2 -> 500
A36: =A37-$C$4 -> -5000 | E36: =IF(A36<=$C$21,$C$17*EXP(-A36/$C$19),$C$18*EXP(-(A36-$C$21)/$C$20)) -> 139613.72 | F36: =IF(A36<=$C$21,IF($C$12*(1-$C$25*(EXP(A36/$C$19)-1))>0,$C$12*(1-$C$25*(EXP(A36/$C$19)-1)),0),IF($C$29*(1-$C$27*(EXP((A36-$C$21)/$C$20)-1))>0,$C$29*(1-$C$27*(EXP((A36-$C$21)/$C$20)-1)),0)) -> 40.599336 | G36: =IF(A36<=$C$21,($C$5-$C$8)*(F36/$C$12)^(1/$C$11)+$C$8, ($C$28-$C$8)*(F36/$C$29)^(1/$C$11)+$C$8) -> 35.287937 | H36: =A36-$C$6/2 -> -11500 | I36: =A36+$C$6/2 -> 1500
A37: =A38-$C$4 -> -4000 | E37: =IF(A37<=$C$21,$C$17*EXP(-A37/$C$19),$C$18*EXP(-(A37-$C$21)/$C$20)) -> 108731.27 | F37: =IF(A37<=$C$21,IF($C$12*(1-$C$25*(EXP(A37/$C$19)-1))>0,$C$12*(1-$C$25*(EXP(A37/$C$19)-1)),0),IF($C$29*(1-$C$27*(EXP((A37-$C$21)/$C$20)-1))>0,$C$29*(1-$C$27*(EXP((A37-$C$21)/$C$20)-1)),0)) -> 40.530981 | G37: =IF(A37<=$C$21,($C$5-$C$8)*(F37/$C$12)^(1/$C$11)+$C$8, ($C$28-$C$8)*(F37/$C$29)^(1/$C$11)+$C$8) -> 35.139594 | H37: =A37-$C$6/2 -> -10500 | I37: =A37+$C$6/2 -> 2500
A38: =A39-$C$4 -> -3000 | E38: =IF(A38<=$C$21,$C$17*EXP(-A38/$C$19),$C$18*EXP(-(A38-$C$21)/$C$20)) -> 84680.001 | F38: =IF(A38<=$C$21,IF($C$12*(1-$C$25*(EXP(A38/$C$19)-1))>0,$C$12*(1-$C$25*(EXP(A38/$C$19)-1)),0),IF($C$29*(1-$C$27*(EXP((A38-$C$21)/$C$20)-1))>0,$C$29*(1-$C$27*(EXP((A38-$C$21)/$C$20)-1)),0)) -> 40.443212 | G38: =IF(A38<=$C$21,($C$5-$C$8)*(F38/$C$12)^(1/$C$11)+$C$8, ($C$28-$C$8)*(F38/$C$29)^(1/$C$11)+$C$8) -> 34.949667 | H38: =A38-$C$6/2 -> -9500 | I38: =A38+$C$6/2 -> 3500
A39: =A40-$C$4 -> -2000 | E39: =IF(A39<=$C$21,$C$17*EXP(-A39/$C$19),$C$18*EXP(-(A39-$C$21)/$C$20)) -> 65948.851 | F39: =IF(A39<=$C$21,IF($C$12*(1-$C$25*(EXP(A39/$C$19)-1))>0,$C$12*(1-$C$25*(EXP(A39/$C$19)-1)),0),IF($C$29*(1-$C$27*(EXP((A39-$C$21)/$C$20)-1))>0,$C$29*(1-$C$27*(EXP((A39-$C$21)/$C$20)-1)),0)) -> 40.330514 | G39: =IF(A39<=$C$21,($C$5-$C$8)*(F39/$C$12)^(1/$C$11)+$C$8, ($C$28-$C$8)*(F39/$C$29)^(1/$C$11)+$C$8) -> 34.706701 | H39: =A39-$C$6/2 -> -8500 | I39: =A39+$C$6/2 -> 4500
A40: =A41-$C$4 -> -1000 | E40: =IF(A40<=$C$21,$C$17*EXP(-A40/$C$19),$C$18*EXP(-(A40-$C$21)/$C$20)) -> 51361.017 | F40: =IF(A40<=$C$21,IF($C$12*(1-$C$25*(EXP(A40/$C$19)-1))>0,$C$12*(1-$C$25*(EXP(A40/$C$19)-1)),0),IF($C$29*(1-$C$27*(EXP((A40-$C$21)/$C$20)-1))>0,$C$29*(1-$C$27*(EXP((A40-$C$21)/$C$20)-1)),0)) -> 40.185807 | G40: =IF(A40<=$C$21,($C$5-$C$8)*(F40/$C$12)^(1/$C$11)+$C$8, ($C$28-$C$8)*(F40/$C$29)^(1/$C$11)+$C$8) -> 34.396217 | H40: =A40-$C$6/2 -> -7500 | I40: =A40+$C$6/2 -> 5500
A41: 0 | E41: =IF(A41<=$C$21,$C$17*EXP(-A41/$C$19),$C$18*EXP(-(A41-$C$21)/$C$20)) -> 40000 | F41: =IF(A41<=$C$21,IF($C$12*(1-$C$25*(EXP(A41/$C$19)-1))>0,$C$12*(1-$C$25*(EXP(A41/$C$19)-1)),0),IF($C$29*(1-$C$27*(EXP((A41-$C$21)/$C$20)-1))>0,$C$29*(1-$C$27*(EXP((A41-$C$21)/$C$20)-1)),0)) -> 40 | G41: =IF(A41<=$C$21,($C$5-$C$8)*(F41/$C$12)^(1/$C$11)+$C$8, ($C$28-$C$8)*(F41/$C$29)^(1/$C$11)+$C$8) -> 34 | H41: =A41-$C$6/2 -> -6500 | I41: =A41+$C$6/2 -> 6500
A42: =A41+$C$4 -> 1000 | E42: =IF(A42<=$C$21,$C$17*EXP(-A42/$C$19),$C$18*EXP(-(A42-$C$21)/$C$20)) -> 31152.031 | F42: =IF(A42<=$C$21,IF($C$12*(1-$C$25*(EXP(A42/$C$19)-1))>0,$C$12*(1-$C$25*(EXP(A42/$C$19)-1)),0),IF($C$29*(1-$C$27*(EXP((A42-$C$21)/$C$20)-1))>0,$C$29*(1-$C$27*(EXP((A42-$C$21)/$C$20)-1)),0)) -> 39.761419 | G42: =IF(A42<=$C$21,($C$5-$C$8)*(F42/$C$12)^(1/$C$11)+$C$8, ($C$28-$C$8)*(F42/$C$29)^(1/$C$11)+$C$8) -> 33.49528 | H42: =A42-$C$6/2 -> -5500 | I42: =A42+$C$6/2 -> 7500
A43: =A42+$C$4 -> 2000 | E43: =IF(A43<=$C$21,$C$17*EXP(-A43/$C$19),$C$18*EXP(-(A43-$C$21)/$C$20)) -> 24261.226 | F43: =IF(A43<=$C$21,IF($C$12*(1-$C$25*(EXP(A43/$C$19)-1))>0,$C$12*(1-$C$25*(EXP(A43/$C$19)-1)),0),IF($C$29*(1-$C$27*(EXP((A43-$C$21)/$C$20)-1))>0,$C$29*(1-$C$27*(EXP((A43-$C$21)/$C$20)-1)),0)) -> 39.455074 | G43: =IF(A43<=$C$21,($C$5-$C$8)*(F43/$C$12)^(1/$C$11)+$C$8, ($C$28-$C$8)*(F43/$C$29)^(1/$C$11)+$C$8) -> 32.853837 | H43: =A43-$C$6/2 -> -4500 | I43: =A43+$C$6/2 -> 8500
A44: =A43+$C$4 -> 3000 | E44: =IF(A44<=$C$21,$C$17*EXP(-A44/$C$19),$C$18*EXP(-(A44-$C$21)/$C$20)) -> 18894.662 | F44: =IF(A44<=$C$21,IF($C$12*(1-$C$25*(EXP(A44/$C$19)-1))>0,$C$12*(1-$C$25*(EXP(A44/$C$19)-1)),0),IF($C$29*(1-$C$27*(EXP((A44-$C$21)/$C$20)-1))>0,$C$29*(1-$C$27*(EXP((A44-$C$21)/$C$20)-1)),0)) -> 39.06172 | G44: =IF(A44<=$C$21,($C$5-$C$8)*(F44/$C$12)^(1/$C$11)+$C$8, ($C$28-$C$8)*(F44/$C$29)^(1/$C$11)+$C$8) -> 32.041095 | H44: =A44-$C$6/2 -> -3500 | I44: =A44+$C$6/2 -> 9500
A45: =A44+$C$4 -> 4000 | E45: =IF(A45<=$C$21,$C$17*EXP(-A45/$C$19),$C$18*EXP(-(A45-$C$21)/$C$20)) -> 14715.178 | F45: =IF(A45<=$C$21,IF($C$12*(1-$C$25*(EXP(A45/$C$19)-1))>0,$C$12*(1-$C$25*(EXP(A45/$C$19)-1)),0),IF($C$29*(1-$C$27*(EXP((A45-$C$21)/$C$20)-1))>0,$C$29*(1-$C$27*(EXP((A45-$C$21)/$C$20)-1)),0)) -> 38.556643 | G45: =IF(A45<=$C$21,($C$5-$C$8)*(F45/$C$12)^(1/$C$11)+$C$8, ($C$28-$C$8)*(F45/$C$29)^(1/$C$11)+$C$8) -> 31.015371 | H45: =A45-$C$6/2 -> -2500 | I45: =A45+$C$6/2 -> 10500
A46: =A45+$C$4 -> 5000 | E46: =IF(A46<=$C$21,$C$17*EXP(-A46/$C$19),$C$18*EXP(-(A46-$C$21)/$C$20)) -> 11460.192 | F46: =IF(A46<=$C$21,IF($C$12*(1-$C$25*(EXP(A46/$C$19)-1))>0,$C$12*(1-$C$25*(EXP(A46/$C$19)-1)),0),IF($C$29*(1-$C$27*(EXP((A46-$C$21)/$C$20)-1))>0,$C$29*(1-$C$27*(EXP((A46-$C$21)/$C$20)-1)),0)) -> 37.908112 | G46: =IF(A46<=$C$21,($C$5-$C$8)*(F46/$C$12)^(1/$C$11)+$C$8, ($C$28-$C$8)*(F46/$C$29)^(1/$C$11)+$C$8) -> 29.727564 | H46: =A46-$C$6/2 -> -1500 | I46: =A46+$C$6/2 -> 11500
A47: =A46+$C$4 -> 6000 | E47: =IF(A47<=$C$21,$C$17*EXP(-A47/$C$19),$C$18*EXP(-(A47-$C$21)/$C$20)) -> 8925.2064 | F47: =IF(A47<=$C$21,IF($C$12*(1-$C$25*(EXP(A47/$C$19)-1))>0,$C$12*(1-$C$25*(EXP(A47/$C$19)-1)),0),IF($C$29*(1-$C$27*(EXP((A47-$C$21)/$C$20)-1))>0,$C$29*(1-$C$27*(EXP((A47-$C$21)/$C$20)-1)),0)) -> 37.075381 | G47: =IF(A47<=$C$21,($C$5-$C$8)*(F47/$C$12)^(1/$C$11)+$C$8, ($C$28-$C$8)*(F47/$C$29)^(1/$C$11)+$C$8) -> 28.121793 | H47: =A47-$C$6/2 -> -500 | I47: =A47+$C$6/2 -> 12500
A48: =A47+$C$4 -> 7000 | E48: =IF(A48<=$C$21,$C$17*EXP(-A48/$C$19),$C$18*EXP(-(A48-$C$21)/$C$20)) -> 6950.9577 | F48: =IF(A48<=$C$21,IF($C$12*(1-$C$25*(EXP(A48/$C$19)-1))>0,$C$12*(1-$C$25*(EXP(A48/$C$19)-1)),0),IF($C$29*(1-$C$27*(EXP((A48-$C$21)/$C$20)-1))>0,$C$29*(1-$C$27*(EXP((A48-$C$21)/$C$20)-1)),0)) -> 36.006134 | G48: =IF(A48<=$C$21,($C$5-$C$8)*(F48/$C$12)^(1/$C$11)+$C$8, ($C$28-$C$8)*(F48/$C$29)^(1/$C$11)+$C$8) -> 26.137868 | H48: =A48-$C$6/2 -> 500 | I48: =A48+$C$6/2 -> 13500
A49: =A48+$C$4 -> 8000 | E49: =IF(A49<=$C$21,$C$17*EXP(-A49/$C$19),$C$18*EXP(-(A49-$C$21)/$C$20)) -> 5413.4113 | F49: =IF(A49<=$C$21,IF($C$12*(1-$C$25*(EXP(A49/$C$19)-1))>0,$C$12*(1-$C$25*(EXP(A49/$C$19)-1)),0),IF($C$29*(1-$C$27*(EXP((A49-$C$21)/$C$20)-1))>0,$C$29*(1-$C$27*(EXP((A49-$C$21)/$C$20)-1)),0)) -> 34.633193 | G49: =IF(A49<=$C$21,($C$5-$C$8)*(F49/$C$12)^(1/$C$11)+$C$8, ($C$28-$C$8)*(F49/$C$29)^(1/$C$11)+$C$8) -> 23.717028 | H49: =A49-$C$6/2 -> 1500 | I49: =A49+$C$6/2 -> 14500
A50: =A49+$C$4 -> 9000 | E50: =IF(A50<=$C$21,$C$17*EXP(-A50/$C$19),$C$18*EXP(-(A50-$C$21)/$C$20)) -> 5085.4293 | F50: =IF(A50<=$C$21,IF($C$12*(1-$C$25*(EXP(A50/$C$19)-1))>0,$C$12*(1-$C$25*(EXP(A50/$C$19)-1)),0),IF($C$29*(1-$C$27*(EXP((A50-$C$21)/$C$20)-1))>0,$C$29*(1-$C$27*(EXP((A50-$C$21)/$C$20)-1)),0)) -> 33.031974 | G50: =IF(A50<=$C$21,($C$5-$C$8)*(F50/$C$12)^(1/$C$11)+$C$8, ($C$28-$C$8)*(F50/$C$29)^(1/$C$11)+$C$8) -> 21.070035 | H50: =A50-$C$6/2 -> 2500 | I50: =A50+$C$6/2 -> 15500
A51: =A50+$C$4 -> 10000 | E51: =IF(A51<=$C$21,$C$17*EXP(-A51/$C$19),$C$18*EXP(-(A51-$C$21)/$C$20)) -> 4777.3187 | F51: =IF(A51<=$C$21,IF($C$12*(1-$C$25*(EXP(A51/$C$19)-1))>0,$C$12*(1-$C$25*(EXP(A51/$C$19)-1)),0),IF($C$29*(1-$C$27*(EXP((A51-$C$21)/$C$20)-1))>0,$C$29*(1-$C$27*(EXP((A51-$C$21)/$C$20)-1)),0)) -> 31.327486 | G51: =IF(A51<=$C$21,($C$5-$C$8)*(F51/$C$12)^(1/$C$11)+$C$8, ($C$28-$C$8)*(F51/$C$29)^(1/$C$11)+$C$8) -> 18.456221 | H51: =A51-$C$6/2 -> 3500 | I51: =A51+$C$6/2 -> 16500
A52: =A51+$C$4 -> 11000 | E52: =IF(A52<=$C$21,$C$17*EXP(-A52/$C$19),$C$18*EXP(-(A52-$C$21)/$C$20)) -> 4487.8756 | F52: =IF(A52<=$C$21,IF($C$12*(1-$C$25*(EXP(A52/$C$19)-1))>0,$C$12*(1-$C$25*(EXP(A52/$C$19)-1)),0),IF($C$29*(1-$C$27*(EXP((A52-$C$21)/$C$20)-1))>0,$C$29*(1-$C$27*(EXP((A52-$C$21)/$C$20)-1)),0)) -> 29.513067 | G52: =IF(A52<=$C$21,($C$5-$C$8)*(F52/$C$12)^(1/$C$11)+$C$8, ($C$28-$C$8)*(F52/$C$29)^(1/$C$11)+$C$8) -> 15.898817 | H52: =A52-$C$6/2 -> 4500 | I52: =A52+$C$6/2 -> 17500
A53: =A52+$C$4 -> 12000 | E53: =IF(A53<=$C$21,$C$17*EXP(-A53/$C$19),$C$18*EXP(-(A53-$C$21)/$C$20)) -> 4215.969 | F53: =IF(A53<=$C$21,IF($C$12*(1-$C$25*(EXP(A53/$C$19)-1))>0,$C$12*(1-$C$25*(EXP(A53/$C$19)-1)),0),IF($C$29*(1-$C$27*(EXP((A53-$C$21)/$C$20)-1))>0,$C$29*(1-$C$27*(EXP((A53-$C$21)/$C$20)-1)),0)) -> 27.581629 | G53: =IF(A53<=$C$21,($C$5-$C$8)*(F53/$C$12)^(1/$C$11)+$C$8, ($C$28-$C$8)*(F53/$C$29)^(1/$C$11)+$C$8) -> 13.4239 | H53: =A53-$C$6/2 -> 5500 | I53: =A53+$C$6/2 -> 18500
... A167: =A166+$C$4 -> 126000 | E167: =IF(A167<=$C$21,$C$17*EXP(-A167/$C$19),$C$18*EXP(-(A167-$C$21)/$C$20)) -> 3.3927294 | F167: =IF(A167<=$C$21,IF($C$12*(1-$C$25*(EXP(A167/$C$19)-1))>0,$C$12*(1-$C$25*(EXP(A167/$C$19)-1)),0),IF($C$29*(1-$C$27*(EXP((A167-$C$21)/$C$20)-1))>0,$C$29*(1-$C$27*(EXP((A167-$C$21)/$C$20)-1)),0)) -> 0 | G167: =IF(A167<=$C$21,($C$5-$C$8)*(F167/$C$12)^(1/$C$11)+$C$8, ($C$28-$C$8)*(F167/$C$29)^(1/$C$11)+$C$8) -> 0 | H167: =A167-$C$6/2 -> 119500 | I167: =A167+$C$6/2 -> 132500

Sheet 15-7-1982
A1: STEADY SALT INTRUSION MODEL (TA)
A2: Maputo 15-7-1982
A3: Input | F3: Measurements
A4: Step length | B4: dx | C4: 1000 | D4: m | F4: x (m) | G4: HWS | H4: x (m) | I4: LWS
A5: Sea salinity | B5: S0 | C5: 34 | D5: kg/m3 | F5: =5000+(15/25)*5000 -> 8000 | G5: =30+(20/25)*5 -> 34 | H5: 8000 | I5: =20+9/25*5 -> 21.8
A6: Tidal Excursion | B6: E0 | C6: 6000 | D6: m | F6: =15000+(15/25)*5000 -> 18000 | G6: =20+(2/25)*5 -> 20.4 | H6: 23000 | I6: =14/25*5 -> 2.8
A7: Tidal Range | B7: H | C7: 2.08 | D7: m | F7: =20000+(1.5/2.5)*5000 -> 23000 | G7: =10+(5/25)*5 -> 11
A8: Fresh water salinity | B8: Cf | C8: 0 | D8: kg/m3 | F8: 25000 | G8: =5+(19/25)*5 -> 8.8
F9: =25000+(13/25)*5000 -> 27600 | G9: =5+(1/25)*5 -> 5.2
A10: Calibration parameters | F10: =30000+(5/25)*5000 -> 31000 | G10: =17/25*5 -> 3.4
A11: Van Den Burgh | B11: K | C11: 0.4 | F11: =30000+20/25*5000 -> 34000 | G11: =11/25*5 -> 2.2
A12: Dispersion at mouth | B12: Do | C12: 22 | D12: m2/s | F12: 36000 | G12: =8/25*5 -> 1.6
A13: Discharge | B13: Q | C13: 4.8 | D13: m3/s | F13: 41000 | G13: =4/25*5 -> 0.8
A14: Alpha 0 | B14: α0 | C14: =C12/C13 -> 4.5833333 | D14: 1/m
A16: Geometry
A17: Area at mouth | B17: A0 | C17: =Overview!D18 -> 40000 | D17: m2
A18: Area at x1 | B18: A1 | C18: =Overview!D19 -> 5413.4113 | D18: m2
A19: Convergence length | B19: a1 | C19: =Overview!D20 -> 4000 | D19: m
A20: Convergence length 2 | B20: a2 | C20: =Overview!D21 -> 16000 | D20: m
A21: Inflection point | B21: x1 | C21: =Overview!D22 -> 8000 | D21: m
A22: Depth | B22: h0 | C22: =Overview!D23 -> 3.6 | D22: m
A24: Calculations | F24: REMARKS
A25: Beta | B25: β | C25: =$C$11*$C$19/C$14/$C$17 -> 0.0087272727 | F25: Data from original report; discharge is measured!
A26: Alpha 1 | B26: α1 | C26: =C29/C13 -> 4.3277711 | D26: 1/m
A27: Beta1 | B27: β1 | C27: =C11*C20/C26/C18 -> 0.27317734
A28: Salinity at x1 | B28: S1 | C28: =($C$5-$C$8)*(C29/C12)^(1/$C$11)+$C$8 -> 29.45683 | D28: kg/m3
A29: Dispersion at x1 | B29: D1 | C29: =C12*(1-C25*(EXP(C21/C19)-1)) -> 20.773301
A31: x: | B31: Shifted x | E31: A | F31: D | G31: S | H31: xLWS | I31: xHWS
A32: =A33-$C$4-9000 -> -18000 | E32: =IF(A32<=$C$21,$C$17*EXP(-A32/$C$19),$C$18*EXP(-(A32-$C$21)/$C$20)) -> 3600685.3 | F32: =IF(A32<=$C$21,IF($C$12*(1-$C$25*(EXP(A32/$C$19)-1))>0,$C$12*(1-$C$25*(EXP(A32/$C$19)-1)),0),IF($C$29*(1-$C$27*(EXP((A32-$C$21)/$C$20)-1))>0,$C$29*(1-$C$27*(EXP((A32-$C$21)/$C$20)-1)),0)) -> 22.189867 | G32: =IF(A32<=$C$21,($C$5-$C$8)*(F32/$C$12)^(1/$C$11)+$C$8, ($C$28-$C$8)*(F32/$C$29)^(1/$C$11)+$C$8) -> 34.738332 | H32: =A32-$C$6/2 -> -21000 | I32: =A32+$C$6/2 -> -15000
A33: =A34-$C$4 -> -8000 | E33: =IF(A33<=$C$21,$C$17*EXP(-A33/$C$19),$C$18*EXP(-(A33-$C$21)/$C$20)) -> 295562.24 | F33: =IF(A33<=$C$21,IF($C$12*(1-$C$25*(EXP(A33/$C$19)-1))>0,$C$12*(1-$C$25*(EXP(A33/$C$19)-1)),0),IF($C$29*(1-$C$27*(EXP((A33-$C$21)/$C$20)-1))>0,$C$29*(1-$C$27*(EXP((A33-$C$21)/$C$20)-1)),0)) -> 22.166016 | G33: =IF(A33<=$C$21,($C$5-$C$8)*(F33/$C$12)^(1/$C$11)+$C$8, ($C$28-$C$8)*(F33/$C$29)^(1/$C$11)+$C$8) -> 34.645059 | H33: =A33-$C$6/2 -> -11000 | I33: =A33+$C$6/2 -> -5000
A34: =A35-$C$4 -> -7000 | E34: =IF(A34<=$C$21,$C$17*EXP(-A34/$C$19),$C$18*EXP(-(A34-$C$21)/$C$20)) -> 230184.11 | F34: =IF(A34<=$C$21,IF($C$12*(1-$C$25*(EXP(A34/$C$19)-1))>0,$C$12*(1-$C$25*(EXP(A34/$C$19)-1)),0),IF($C$29*(1-$C$27*(EXP((A34-$C$21)/$C$20)-1))>0,$C$29*(1-$C$27*(EXP((A34-$C$21)/$C$20)-1)),0)) -> 22.158635 | G34: =IF(A34<=$C$21,($C$5-$C$8)*(F34/$C$12)^(1/$C$11)+$C$8, ($C$28-$C$8)*(F34/$C$29)^(1/$C$11)+$C$8) -> 34.616228 | H34: =A34-$C$6/2 -> -10000 | I34: =A34+$C$6/2 -> -4000
A35: =A36-$C$4 -> -6000 | E35: =IF(A35<=$C$21,$C$17*EXP(-A35/$C$19),$C$18*EXP(-(A35-$C$21)/$C$20)) -> 179267.56 | F35: =IF(A35<=$C$21,IF($C$12*(1-$C$25*(EXP(A35/$C$19)-1))>0,$C$12*(1-$C$25*(EXP(A35/$C$19)-1)),0),IF($C$29*(1-$C$27*(EXP((A35-$C$21)/$C$20)-1))>0,$C$29*(1-$C$27*(EXP((A35-$C$21)/$C$20)-1)),0)) -> 22.149159 | G35: =IF(A35<=$C$21,($C$5-$C$8)*(F35/$C$12)^(1/$C$11)+$C$8, ($C$28-$C$8)*(F35/$C$29)^(1/$C$11)+$C$8) -> 34.57923 | H35: =A35-$C$6/2 -> -9000 | I35: =A35+$C$6/2 -> -3000
A36: =A37-$C$4 -> -5000 | E36: =IF(A36<=$C$21,$C$17*EXP(-A36/$C$19),$C$18*EXP(-(A36-$C$21)/$C$20)) -> 139613.72 | F36: =IF(A36<=$C$21,IF($C$12*(1-$C$25*(EXP(A36/$C$19)-1))>0,$C$12*(1-$C$25*(EXP(A36/$C$19)-1)),0),IF($C$29*(1-$C$27*(EXP((A36-$C$21)/$C$20)-1))>0,$C$29*(1-$C$27*(EXP((A36-$C$21)/$C$20)-1)),0)) -> 22.136991 | G36: =IF(A36<=$C$21,($C$5-$C$8)*(F36/$C$12)^(1/$C$11)+$C$8, ($C$28-$C$8)*(F36/$C$29)^(1/$C$11)+$C$8) -> 34.531758 | H36: =A36-$C$6/2 -> -8000 | I36: =A36+$C$6/2 -> -2000
A37: =A38-$C$4 -> -4000 | E37: =IF(A37<=$C$21,$C$17*EXP(-A37/$C$19),$C$18*EXP(-(A37-$C$21)/$C$20)) -> 108731.27 | F37: =IF(A37<=$C$21,IF($C$12*(1-$C$25*(EXP(A37/$C$19)-1))>0,$C$12*(1-$C$25*(EXP(A37/$C$19)-1)),0),IF($C$29*(1-$C$27*(EXP((A37-$C$21)/$C$20)-1))>0,$C$29*(1-$C$27*(EXP((A37-$C$21)/$C$20)-1)),0)) -> 22.121367 | G37: =IF(A37<=$C$21,($C$5-$C$8)*(F37/$C$12)^(1/$C$11)+$C$8, ($C$28-$C$8)*(F37/$C$29)^(1/$C$11)+$C$8) -> 34.47086 | H37: =A37-$C$6/2 -> -7000 | I37: =A37+$C$6/2 -> -1000
A38: =A39-$C$4 -> -3000 | E38: =IF(A38<=$C$21,$C$17*EXP(-A38/$C$19),$C$18*EXP(-(A38-$C$21)/$C$20)) -> 84680.001 | F38: =IF(A38<=$C$21,IF($C$12*(1-$C$25*(EXP(A38/$C$19)-1))>0,$C$12*(1-$C$25*(EXP(A38/$C$19)-1)),0),IF($C$29*(1-$C$27*(EXP((A38-$C$21)/$C$20)-1))>0,$C$29*(1-$C$27*(EXP((A38-$C$21)/$C$20)-1)),0)) -> 22.101306 | G38: =IF(A38<=$C$21,($C$5-$C$8)*(F38/$C$12)^(1/$C$11)+$C$8, ($C$28-$C$8)*(F38/$C$29)^(1/$C$11)+$C$8) -> 34.392761 | H38: =A38-$C$6/2 -> -6000 | I38: =A38+$C$6/2 -> 0
A39: =A40-$C$4 -> -2000 | E39: =IF(A39<=$C$21,$C$17*EXP(-A39/$C$19),$C$18*EXP(-(A39-$C$21)/$C$20)) -> 65948.851 | F39: =IF(A39<=$C$21,IF($C$12*(1-$C$25*(EXP(A39/$C$19)-1))>0,$C$12*(1-$C$25*(EXP(A39/$C$19)-1)),0),IF($C$29*(1-$C$27*(EXP((A39-$C$21)/$C$20)-1))>0,$C$29*(1-$C$27*(EXP((A39-$C$21)/$C$20)-1)),0)) -> 22.075546 | G39: =IF(A39<=$C$21,($C$5-$C$8)*(F39/$C$12)^(1/$C$11)+$C$8, ($C$28-$C$8)*(F39/$C$29)^(1/$C$11)+$C$8) -> 34.292635 | H39: =A39-$C$6/2 -> -5000 | I39: =A39+$C$6/2 -> 1000
A40: =A41-$C$4 -> -1000 | E40: =IF(A40<=$C$21,$C$17*EXP(-A40/$C$19),$C$18*EXP(-(A40-$C$21)/$C$20)) -> 51361.017 | F40: =IF(A40<=$C$21,IF($C$12*(1-$C$25*(EXP(A40/$C$19)-1))>0,$C$12*(1-$C$25*(EXP(A40/$C$19)-1)),0),IF($C$29*(1-$C$27*(EXP((A40-$C$21)/$C$20)-1))>0,$C$29*(1-$C$27*(EXP((A40-$C$21)/$C$20)-1)),0)) -> 22.04247 | G40: =IF(A40<=$C$21,($C$5-$C$8)*(F40/$C$12)^(1/$C$11)+$C$8, ($C$28-$C$8)*(F40/$C$29)^(1/$C$11)+$C$8) -> 34.164327 | H40: =A40-$C$6/2 -> -4000 | I40: =A40+$C$6/2 -> 2000
A41: 0 | E41: =IF(A41<=$C$21,$C$17*EXP(-A41/$C$19),$C$18*EXP(-(A41-$C$21)/$C$20)) -> 40000 | F41: =IF(A41<=$C$21,IF($C$12*(1-$C$25*(EXP(A41/$C$19)-1))>0,$C$12*(1-$C$25*(EXP(A41/$C$19)-1)),0),IF($C$29*(1-$C$27*(EXP((A41-$C$21)/$C$20)-1))>0,$C$29*(1-$C$27*(EXP((A41-$C$21)/$C$20)-1)),0)) -> 22 | G41: =IF(A41<=$C$21,($C$5-$C$8)*(F41/$C$12)^(1/$C$11)+$C$8, ($C$28-$C$8)*(F41/$C$29)^(1/$C$11)+$C$8) -> 34 | H41: =A41-$C$6/2 -> -3000 | I41: =A41+$C$6/2 -> 3000
A42: =A41+$C$4 -> 1000 | E42: =IF(A42<=$C$21,$C$17*EXP(-A42/$C$19),$C$18*EXP(-(A42-$C$21)/$C$20)) -> 31152.031 | F42: =IF(A42<=$C$21,IF($C$12*(1-$C$25*(EXP(A42/$C$19)-1))>0,$C$12*(1-$C$25*(EXP(A42/$C$19)-1)),0),IF($C$29*(1-$C$27*(EXP((A42-$C$21)/$C$20)-1))>0,$C$29*(1-$C$27*(EXP((A42-$C$21)/$C$20)-1)),0)) -> 21.945467 | G42: =IF(A42<=$C$21,($C$5-$C$8)*(F42/$C$12)^(1/$C$11)+$C$8, ($C$28-$C$8)*(F42/$C$29)^(1/$C$11)+$C$8) -> 33.789696 | H42: =A42-$C$6/2 -> -2000 | I42: =A42+$C$6/2 -> 4000
A43: =A42+$C$4 -> 2000 | E43: =IF(A43<=$C$21,$C$17*EXP(-A43/$C$19),$C$18*EXP(-(A43-$C$21)/$C$20)) -> 24261.226 | F43: =IF(A43<=$C$21,IF($C$12*(1-$C$25*(EXP(A43/$C$19)-1))>0,$C$12*(1-$C$25*(EXP(A43/$C$19)-1)),0),IF($C$29*(1-$C$27*(EXP((A43-$C$21)/$C$20)-1))>0,$C$29*(1-$C$27*(EXP((A43-$C$21)/$C$20)-1)),0)) -> 21.875446 | G43: =IF(A43<=$C$21,($C$5-$C$8)*(F43/$C$12)^(1/$C$11)+$C$8, ($C$28-$C$8)*(F43/$C$29)^(1/$C$11)+$C$8) -> 33.520808 | H43: =A43-$C$6/2 -> -1000 | I43: =A43+$C$6/2 -> 5000
A44: =A43+$C$4 -> 3000 | E44: =IF(A44<=$C$21,$C$17*EXP(-A44/$C$19),$C$18*EXP(-(A44-$C$21)/$C$20)) -> 18894.662 | F44: =IF(A44<=$C$21,IF($C$12*(1-$C$25*(EXP(A44/$C$19)-1))>0,$C$12*(1-$C$25*(EXP(A44/$C$19)-1)),0),IF($C$29*(1-$C$27*(EXP((A44-$C$21)/$C$20)-1))>0,$C$29*(1-$C$27*(EXP((A44-$C$21)/$C$20)-1)),0)) -> 21.785536 | G44: =IF(A44<=$C$21,($C$5-$C$8)*(F44/$C$12)^(1/$C$11)+$C$8, ($C$28-$C$8)*(F44/$C$29)^(1/$C$11)+$C$8) -> 33.177437 | H44: =A44-$C$6/2 -> 0 | I44: =A44+$C$6/2 -> 6000
A45: =A44+$C$4 -> 4000 | E45: =IF(A45<=$C$21,$C$17*EXP(-A45/$C$19),$C$18*EXP(-(A45-$C$21)/$C$20)) -> 14715.178 | F45: =IF(A45<=$C$21,IF($C$12*(1-$C$25*(EXP(A45/$C$19)-1))>0,$C$12*(1-$C$25*(EXP(A45/$C$19)-1)),0),IF($C$29*(1-$C$27*(EXP((A45-$C$21)/$C$20)-1))>0,$C$29*(1-$C$27*(EXP((A45-$C$21)/$C$20)-1)),0)) -> 21.67009 | G45: =IF(A45<=$C$21,($C$5-$C$8)*(F45/$C$12)^(1/$C$11)+$C$8, ($C$28-$C$8)*(F45/$C$29)^(1/$C$11)+$C$8) -> 32.739647 | H45: =A45-$C$6/2 -> 1000 | I45: =A45+$C$6/2 -> 7000
A46: =A45+$C$4 -> 5000 | E46: =IF(A46<=$C$21,$C$17*EXP(-A46/$C$19),$C$18*EXP(-(A46-$C$21)/$C$20)) -> 11460.192 | F46: =IF(A46<=$C$21,IF($C$12*(1-$C$25*(EXP(A46/$C$19)-1))>0,$C$12*(1-$C$25*(EXP(A46/$C$19)-1)),0),IF($C$29*(1-$C$27*(EXP((A46-$C$21)/$C$20)-1))>0,$C$29*(1-$C$27*(EXP((A46-$C$21)/$C$20)-1)),0)) -> 21.521854 | G46: =IF(A46<=$C$21,($C$5-$C$8)*(F46/$C$12)^(1/$C$11)+$C$8, ($C$28-$C$8)*(F46/$C$29)^(1/$C$11)+$C$8) -> 32.182622 | H46: =A46-$C$6/2 -> 2000 | I46: =A46+$C$6/2 -> 8000
A47: =A46+$C$4 -> 6000 | E47: =IF(A47<=$C$21,$C$17*EXP(-A47/$C$19),$C$18*EXP(-(A47-$C$21)/$C$20)) -> 8925.2064 | F47: =IF(A47<=$C$21,IF($C$12*(1-$C$25*(EXP(A47/$C$19)-1))>0,$C$12*(1-$C$25*(EXP(A47/$C$19)-1)),0),IF($C$29*(1-$C$27*(EXP((A47-$C$21)/$C$20)-1))>0,$C$29*(1-$C$27*(EXP((A47-$C$21)/$C$20)-1)),0)) -> 21.331516 | G47: =IF(A47<=$C$21,($C$5-$C$8)*(F47/$C$12)^(1/$C$11)+$C$8, ($C$28-$C$8)*(F47/$C$29)^(1/$C$11)+$C$8) -> 31.47578 | H47: =A47-$C$6/2 -> 3000 | I47: =A47+$C$6/2 -> 9000
A48: =A47+$C$4 -> 7000 | E48: =IF(A48<=$C$21,$C$17*EXP(-A48/$C$19),$C$18*EXP(-(A48-$C$21)/$C$20)) -> 6950.9577 | F48: =IF(A48<=$C$21,IF($C$12*(1-$C$25*(EXP(A48/$C$19)-1))>0,$C$12*(1-$C$25*(EXP(A48/$C$19)-1)),0),IF($C$29*(1-$C$27*(EXP((A48-$C$21)/$C$20)-1))>0,$C$29*(1-$C$27*(EXP((A48-$C$21)/$C$20)-1)),0)) -> 21.087116 | G48: =IF(A48<=$C$21,($C$5-$C$8)*(F48/$C$12)^(1/$C$11)+$C$8, ($C$28-$C$8)*(F48/$C$29)^(1/$C$11)+$C$8) -> 30.581952 | H48: =A48-$C$6/2 -> 4000 | I48: =A48+$C$6/2 -> 10000
A49: =A48+$C$4 -> 8000 | E49: =IF(A49<=$C$21,$C$17*EXP(-A49/$C$19),$C$18*EXP(-(A49-$C$21)/$C$20)) -> 5413.4113 | F49: =IF(A49<=$C$21,IF($C$12*(1-$C$25*(EXP(A49/$C$19)-1))>0,$C$12*(1-$C$25*(EXP(A49/$C$19)-1)),0),IF($C$29*(1-$C$27*(EXP((A49-$C$21)/$C$20)-1))>0,$C$29*(1-$C$27*(EXP((A49-$C$21)/$C$20)-1)),0)) -> 20.773301 | G49: =IF(A49<=$C$21,($C$5-$C$8)*(F49/$C$12)^(1/$C$11)+$C$8, ($C$28-$C$8)*(F49/$C$29)^(1/$C$11)+$C$8) -> 29.45683 | H49: =A49-$C$6/2 -> 5000 | I49: =A49+$C$6/2 -> 11000
A50: =A49+$C$4 -> 9000 | E50: =IF(A50<=$C$21,$C$17*EXP(-A50/$C$19),$C$18*EXP(-(A50-$C$21)/$C$20)) -> 5085.4293 | F50: =IF(A50<=$C$21,IF($C$12*(1-$C$25*(EXP(A50/$C$19)-1))>0,$C$12*(1-$C$25*(EXP(A50/$C$19)-1)),0),IF($C$29*(1-$C$27*(EXP((A50-$C$21)/$C$20)-1))>0,$C$29*(1-$C$27*(EXP((A50-$C$21)/$C$20)-1)),0)) -> 20.407308 | G50: =IF(A50<=$C$21,($C$5-$C$8)*(F50/$C$12)^(1/$C$11)+$C$8, ($C$28-$C$8)*(F50/$C$29)^(1/$C$11)+$C$8) -> 28.176467 | H50: =A50-$C$6/2 -> 6000 | I50: =A50+$C$6/2 -> 12000
A51: =A50+$C$4 -> 10000 | E51: =IF(A51<=$C$21,$C$17*EXP(-A51/$C$19),$C$18*EXP(-(A51-$C$21)/$C$20)) -> 4777.3187 | F51: =IF(A51<=$C$21,IF($C$12*(1-$C$25*(EXP(A51/$C$19)-1))>0,$C$12*(1-$C$25*(EXP(A51/$C$19)-1)),0),IF($C$29*(1-$C$27*(EXP((A51-$C$21)/$C$20)-1))>0,$C$29*(1-$C$27*(EXP((A51-$C$21)/$C$20)-1)),0)) -> 20.017711 | G51: =IF(A51<=$C$21,($C$5-$C$8)*(F51/$C$12)^(1/$C$11)+$C$8, ($C$28-$C$8)*(F51/$C$29)^(1/$C$11)+$C$8) -> 26.850863 | H51: =A51-$C$6/2 -> 7000 | I51: =A51+$C$6/2 -> 13000
A52: =A51+$C$4 -> 11000 | E52: =IF(A52<=$C$21,$C$17*EXP(-A52/$C$19),$C$18*EXP(-(A52-$C$21)/$C$20)) -> 4487.8756 | F52: =IF(A52<=$C$21,IF($C$12*(1-$C$25*(EXP(A52/$C$19)-1))>0,$C$12*(1-$C$25*(EXP(A52/$C$19)-1)),0),IF($C$29*(1-$C$27*(EXP((A52-$C$21)/$C$20)-1))>0,$C$29*(1-$C$27*(EXP((A52-$C$21)/$C$20)-1)),0)) -> 19.602987 | G52: =IF(A52<=$C$21,($C$5-$C$8)*(F52/$C$12)^(1/$C$11)+$C$8, ($C$28-$C$8)*(F52/$C$29)^(1/$C$11)+$C$8) -> 25.481667 | H52: =A52-$C$6/2 -> 8000 | I52: =A52+$C$6/2 -> 14000
A53: =A52+$C$4 -> 12000 | E53: =IF(A53<=$C$21,$C$17*EXP(-A53/$C$19),$C$18*EXP(-(A53-$C$21)/$C$20)) -> 4215.969 | F53: =IF(A53<=$C$21,IF($C$12*(1-$C$25*(EXP(A53/$C$19)-1))>0,$C$12*(1-$C$25*(EXP(A53/$C$19)-1)),0),IF($C$29*(1-$C$27*(EXP((A53-$C$21)/$C$20)-1))>0,$C$29*(1-$C$27*(EXP((A53-$C$21)/$C$20)-1)),0)) -> 19.161515 | G53: =IF(A53<=$C$21,($C$5-$C$8)*(F53/$C$12)^(1/$C$11)+$C$8, ($C$28-$C$8)*(F53/$C$29)^(1/$C$11)+$C$8) -> 24.07115 | H53: =A53-$C$6/2 -> 9000 | I53: =A53+$C$6/2 -> 15000
... A167: =A166+$C$4 -> 126000 | E167: =IF(A167<=$C$21,$C$17*EXP(-A167/$C$19),$C$18*EXP(-(A167-$C$21)/$C$20)) -> 3.3927294 | F167: =IF(A167<=$C$21,IF($C$12*(1-$C$25*(EXP(A167/$C$19)-1))>0,$C$12*(1-$C$25*(EXP(A167/$C$19)-1)),0),IF($C$29*(1-$C$27*(EXP((A167-$C$21)/$C$20)-1))>0,$C$29*(1-$C$27*(EXP((A167-$C$21)/$C$20)-1)),0)) -> 0 | G167: =IF(A167<=$C$21,($C$5-$C$8)*(F167/$C$12)^(1/$C$11)+$C$8, ($C$28-$C$8)*(F167/$C$29)^(1/$C$11)+$C$8) -> 0 | H167: =A167-$C$6/2 -> 123000 | I167: =A167+$C$6/2 -> 129000

Sheet Sheet3
