Workbook

Sheet Overview
B2: This sheet is provided as a tool to calculate salt intrusion in alluvial estuaries. It uses the analytical model as described in Salinity and Tides by H.H.G Savenije 2005
B14: Estuary
B15: Muar
B17: Geometry
B18: Area at mouth | C18: A0 | D18: 3300 | E18: m2
B19: Area at x1 | C19: A1 | D19: =D18*EXP(-D22/D20) -> 1577.2858 | E19: m2
B20: Convergence length | C20: a1 | D20: 5283 | E20: m
B21: Convergence length 2 | C21: a2 | D21: 118203 | E21: m
B22: Inflection point | C22: x1 | D22: 3900 | E22: m
B23: Depth | C23: h0 | D23: 7.9 | E23: m
B25: Measurements
B26: 41122

Sheet 8-2012
A1: STEADY SALT INTRUSION MODEL (TA)
A2: Muar 8-2012
A3: Input | F3: Measurements
A4: Step length | B4: dx | C4: 1000 | D4: m | F4: x (m) | G4: HWS | H4: x (m) | I4: LWS
A5: Sea salinity | B5: S0 | C5: 24 | D5: kg/m3 | F5: 810 | G5: 26.32 | H5: 820 | I5: 15.966667
A6: Tidal Excursion | B6: E0 | C6: 11000 | D6: m | F6: 5200 | G6: 24.05 | H6: 5210 | I6: 10.875
A7: Tidal Range | B7: H | C7: 2 | D7: m | F7: 10370 | G7: 16.95 | H7: 10310 | I7: 6.825
A8: Fresh water salinity | B8: Cf | C8: 0 | D8: kg/m3 | F8: 15310 | G8: 11.763636 | H8: 15270 | I8: 3.9363636
F9: 20450 | G9: 7.6181818 | H9: 20410 | I9: 1.7818182
A10: Calibration parameters | F10: 25380 | G10: 4.3363636 | H10: 25320 | I10: 0.48181818
A11: Van Den Burgh | B11: K | C11: 0.25 | F11: 30330 | G11: 2.2545455
A12: Dispersion at mouth | B12: Do | C12: 98 | D12: m2/s | F12: 35330 | G12: 0.69090909
A13: Discharge | B13: Q | C13: 11 | D13: m3/s | F13: 40150 | G13: 0.1
A14: Alpha 0 | B14: α0 | C14: =C12/C13 -> 8.9090909 | D14: 1/m
A16: Geometry
A17: Area at mouth | B17: A0 | C17: =Overview!D18 -> 3300 | D17: m2
A18: Area at x1 | B18: A1 | C18: =Overview!D19 -> 1577.2858 | D18: m2
A19: Convergence length | B19: a1 | C19: =Overview!D20 -> 5283 | D19: m
A20: Convergence length 2 | B20: a2 | C20: =Overview!D21 -> 118203 | D20: m
A21: Inflection point | B21: x1 | C21: =Overview!D22 -> 3900 | D21: m
A22: Depth | B22: h0 | C22: =Overview!D23 -> 7.9 | D22: m
A24: Calculations | F24: REMARKS
A25: beta | B25: β | C25: =$C$11*$C$19/C$14/$C$17 -> 0.044923469
A26: Alpha 1 | B26: α1 | C26: =C29/C13 -> 8.471962 | D26: 1/m
A27: beta1 | B27: β1 | C27: =C11*C20/C26/C18 -> 2.2114346
A28: Salinity at x1 | B28: S1 | C28: =($C$5-$C$8)*(C29/C12)^(1/$C$11)+$C$8 -> 19.625182 | D28: kg/m3
A29: Dispersion at x1 | B29: D1 | C29: =C12*(1-C25*(EXP(C21/C19)-1)) -> 93.191582
A31: x: | B31: Shifted x | E31: A | F31: D | G31: S | H31: xLWS | I31: xHWS
A32: =A33-$C$4-9000 -> -18000 | E32: =IF(A32<=$C$21,$C$17*EXP(-A32/$C$19),$C$18*EXP(-(A32-$C$21)/$C$20)) -> 99591.567 | F32: =IF(A32<=$C$21,$C$12*(1-$C$25*(EXP(A32/$C$19)-1)),$C$29*(1-$C$27*(EXP((A32-$C$21)/$C$20)-1))) -> 102.25662 | G32: =IF(A32<=$C$21,($C$5-$C$8)*(F32/$C$12)^(1/$C$11)+$C$8, ($C$28-$C$8)*(F32/$C$29)^(1/$C$11)+$C$8) -> 28.449373 | H32: =A32-$C$6/2 -> -23500 | I32: =A32+$C$6/2 -> -12500
A33: =A34-$C$4 -> -8000 | E33: =IF(A33<=$C$21,$C$17*EXP(-A33/$C$19),$C$18*EXP(-(A33-$C$21)/$C$20)) -> 15002.451 | F33: =IF(A33<=$C$21,$C$12*(1-$C$25*(EXP(A33/$C$19)-1)),$C$29*(1-$C$27*(EXP((A33-$C$21)/$C$20)-1))) -> 101.43411 | G33: =IF(A33<=$C$21,($C$5-$C$8)*(F33/$C$12)^(1/$C$11)+$C$8, ($C$28-$C$8)*(F33/$C$29)^(1/$C$11)+$C$8) -> 27.545014 | H33: =A33-$C$6/2 -> -13500 | I33: =A33+$C$6/2 -> -2500
A34: =A35-$C$4 -> -7000 | E34: =IF(A34<=$C$21,$C$17*EXP(-A34/$C$19),$C$18*EXP(-(A34-$C$21)/$C$20)) -> 12415.27 | F34: =IF(A34<=$C$21,$C$12*(1-$C$25*(EXP(A34/$C$19)-1)),$C$29*(1-$C$27*(EXP((A34-$C$21)/$C$20)-1))) -> 101.23231 | G34: =IF(A34<=$C$21,($C$5-$C$8)*(F34/$C$12)^(1/$C$11)+$C$8, ($C$28-$C$8)*(F34/$C$29)^(1/$C$11)+$C$8) -> 27.326467 | H34: =A34-$C$6/2 -> -12500 | I34: =A34+$C$6/2 -> -1500
A35: =A36-$C$4 -> -6000 | E35: =IF(A35<=$C$21,$C$17*EXP(-A35/$C$19),$C$18*EXP(-(A35-$C$21)/$C$20)) -> 10274.25 | F35: =IF(A35<=$C$21,$C$12*(1-$C$25*(EXP(A35/$C$19)-1)),$C$29*(1-$C$27*(EXP((A35-$C$21)/$C$20)-1))) -> 100.98846 | G35: =IF(A35<=$C$21,($C$5-$C$8)*(F35/$C$12)^(1/$C$11)+$C$8, ($C$28-$C$8)*(F35/$C$29)^(1/$C$11)+$C$8) -> 27.064117 | H35: =A35-$C$6/2 -> -11500 | I35: =A35+$C$6/2 -> -500
A36: =A37-$C$4 -> -5000 | E36: =IF(A36<=$C$21,$C$17*EXP(-A36/$C$19),$C$18*EXP(-(A36-$C$21)/$C$20)) -> 8502.4505 | F36: =IF(A36<=$C$21,$C$12*(1-$C$25*(EXP(A36/$C$19)-1)),$C$29*(1-$C$27*(EXP((A36-$C$21)/$C$20)-1))) -> 100.69379 | G36: =IF(A36<=$C$21,($C$5-$C$8)*(F36/$C$12)^(1/$C$11)+$C$8, ($C$28-$C$8)*(F36/$C$29)^(1/$C$11)+$C$8) -> 26.749621 | H36: =A36-$C$6/2 -> -10500 | I36: =A36+$C$6/2 -> 500
A37: =A38-$C$4 -> -4000 | E37: =IF(A37<=$C$21,$C$17*EXP(-A37/$C$19),$C$18*EXP(-(A37-$C$21)/$C$20)) -> 7036.1984 | F37: =IF(A37<=$C$21,$C$12*(1-$C$25*(EXP(A37/$C$19)-1)),$C$29*(1-$C$27*(EXP((A37-$C$21)/$C$20)-1))) -> 100.33771 | G37: =IF(A37<=$C$21,($C$5-$C$8)*(F37/$C$12)^(1/$C$11)+$C$8, ($C$28-$C$8)*(F37/$C$29)^(1/$C$11)+$C$8) -> 26.373255 | H37: =A37-$C$6/2 -> -9500 | I37: =A37+$C$6/2 -> 1500
A38: =A39-$C$4 -> -3000 | E38: =IF(A38<=$C$21,$C$17*EXP(-A38/$C$19),$C$18*EXP(-(A38-$C$21)/$C$20)) -> 5822.8023 | F38: =IF(A38<=$C$21,$C$12*(1-$C$25*(EXP(A38/$C$19)-1)),$C$29*(1-$C$27*(EXP((A38-$C$21)/$C$20)-1))) -> 99.907438 | G38: =IF(A38<=$C$21,($C$5-$C$8)*(F38/$C$12)^(1/$C$11)+$C$8, ($C$28-$C$8)*(F38/$C$29)^(1/$C$11)+$C$8) -> 25.923775 | H38: =A38-$C$6/2 -> -8500 | I38: =A38+$C$6/2 -> 2500
A39: =A40-$C$4 -> -2000 | E39: =IF(A39<=$C$21,$C$17*EXP(-A39/$C$19),$C$18*EXP(-(A39-$C$21)/$C$20)) -> 4818.657 | F39: =IF(A39<=$C$21,$C$12*(1-$C$25*(EXP(A39/$C$19)-1)),$C$29*(1-$C$27*(EXP((A39-$C$21)/$C$20)-1))) -> 99.3875 | G39: =IF(A39<=$C$21,($C$5-$C$8)*(F39/$C$12)^(1/$C$11)+$C$8, ($C$28-$C$8)*(F39/$C$29)^(1/$C$11)+$C$8) -> 25.388323 | H39: =A39-$C$6/2 -> -7500 | I39: =A39+$C$6/2 -> 3500
A40: =A41-$C$4 -> -1000 | E40: =IF(A40<=$C$21,$C$17*EXP(-A40/$C$19),$C$18*EXP(-(A40-$C$21)/$C$20)) -> 3987.677 | F40: =IF(A40<=$C$21,$C$12*(1-$C$25*(EXP(A40/$C$19)-1)),$C$29*(1-$C$27*(EXP((A40-$C$21)/$C$20)-1))) -> 98.759213 | G40: =IF(A40<=$C$21,($C$5-$C$8)*(F40/$C$12)^(1/$C$11)+$C$8, ($C$28-$C$8)*(F40/$C$29)^(1/$C$11)+$C$8) -> 24.752407 | H40: =A40-$C$6/2 -> -6500 | I40: =A40+$C$6/2 -> 4500
A41: 0 | E41: =IF(A41<=$C$21,$C$17*EXP(-A41/$C$19),$C$18*EXP(-(A41-$C$21)/$C$20)) -> 3300 | F41: =IF(A41<=$C$21,$C$12*(1-$C$25*(EXP(A41/$C$19)-1)),$C$29*(1-$C$27*(EXP((A41-$C$21)/$C$20)-1))) -> 98 | G41: =IF(A41<=$C$21,($C$5-$C$8)*(F41/$C$12)^(1/$C$11)+$C$8, ($C$28-$C$8)*(F41/$C$29)^(1/$C$11)+$C$8) -> 24 | H41: =A41-$C$6/2 -> -5500 | I41: =A41+$C$6/2 -> 5500
A42: =A41+$C$4 -> 1000 | E42: =IF(A42<=$C$21,$C$17*EXP(-A42/$C$19),$C$18*EXP(-(A42-$C$21)/$C$20)) -> 2730.9133 | F42: =IF(A42<=$C$21,$C$12*(1-$C$25*(EXP(A42/$C$19)-1)),$C$29*(1-$C$27*(EXP((A42-$C$21)/$C$20)-1))) -> 97.082576 | G42: =IF(A42<=$C$21,($C$5-$C$8)*(F42/$C$12)^(1/$C$11)+$C$8, ($C$28-$C$8)*(F42/$C$29)^(1/$C$11)+$C$8) -> 23.11384 | H42: =A42-$C$6/2 -> -4500 | I42: =A42+$C$6/2 -> 6500
A43: =A42+$C$4 -> 2000 | E43: =IF(A43<=$C$21,$C$17*EXP(-A43/$C$19),$C$18*EXP(-(A43-$C$21)/$C$20)) -> 2259.9658 | F43: =IF(A43<=$C$21,$C$12*(1-$C$25*(EXP(A43/$C$19)-1)),$C$29*(1-$C$27*(EXP((A43-$C$21)/$C$20)-1))) -> 95.973974 | G43: =IF(A43<=$C$21,($C$5-$C$8)*(F43/$C$12)^(1/$C$11)+$C$8, ($C$28-$C$8)*(F43/$C$29)^(1/$C$11)+$C$8) -> 22.076023 | H43: =A43-$C$6/2 -> -3500 | I43: =A43+$C$6/2 -> 7500
A44: =A43+$C$4 -> 3000 | E44: =IF(A44<=$C$21,$C$17*EXP(-A44/$C$19),$C$18*EXP(-(A44-$C$21)/$C$20)) -> 1870.2335 | F44: =IF(A44<=$C$21,$C$12*(1-$C$25*(EXP(A44/$C$19)-1)),$C$29*(1-$C$27*(EXP((A44-$C$21)/$C$20)-1))) -> 94.634352 | G44: =IF(A44<=$C$21,($C$5-$C$8)*(F44/$C$12)^(1/$C$11)+$C$8, ($C$28-$C$8)*(F44/$C$29)^(1/$C$11)+$C$8) -> 20.869027 | H44: =A44-$C$6/2 -> -2500 | I44: =A44+$C$6/2 -> 8500
A45: =A44+$C$4 -> 4000 | E45: =IF(A45<=$C$21,$C$17*EXP(-A45/$C$19),$C$18*EXP(-(A45-$C$21)/$C$20)) -> 1575.952 | F45: =IF(A45<=$C$21,$C$12*(1-$C$25*(EXP(A45/$C$19)-1)),$C$29*(1-$C$27*(EXP((A45-$C$21)/$C$20)-1))) -> 93.017158 | G45: =IF(A45<=$C$21,($C$5-$C$8)*(F45/$C$12)^(1/$C$11)+$C$8, ($C$28-$C$8)*(F45/$C$29)^(1/$C$11)+$C$8) -> 19.478666 | H45: =A45-$C$6/2 -> -1500 | I45: =A45+$C$6/2 -> 9500
A46: =A45+$C$4 -> 5000 | E46: =IF(A46<=$C$21,$C$17*EXP(-A46/$C$19),$C$18*EXP(-(A46-$C$21)/$C$20)) -> 1562.6757 | F46: =IF(A46<=$C$21,$C$12*(1-$C$25*(EXP(A46/$C$19)-1)),$C$29*(1-$C$27*(EXP((A46-$C$21)/$C$20)-1))) -> 91.264779 | G46: =IF(A46<=$C$21,($C$5-$C$8)*(F46/$C$12)^(1/$C$11)+$C$8, ($C$28-$C$8)*(F46/$C$29)^(1/$C$11)+$C$8) -> 18.051769 | H46: =A46-$C$6/2 -> -500 | I46: =A46+$C$6/2 -> 10500
A47: =A46+$C$4 -> 6000 | E47: =IF(A47<=$C$21,$C$17*EXP(-A47/$C$19),$C$18*EXP(-(A47-$C$21)/$C$20)) -> 1549.5112 | F47: =IF(A47<=$C$21,$C$12*(1-$C$25*(EXP(A47/$C$19)-1)),$C$29*(1-$C$27*(EXP((A47-$C$21)/$C$20)-1))) -> 89.497512 | G47: =IF(A47<=$C$21,($C$5-$C$8)*(F47/$C$12)^(1/$C$11)+$C$8, ($C$28-$C$8)*(F47/$C$29)^(1/$C$11)+$C$8) -> 16.69363 | H47: =A47-$C$6/2 -> 500 | I47: =A47+$C$6/2 -> 11500
A48: =A47+$C$4 -> 7000 | E48: =IF(A48<=$C$21,$C$17*EXP(-A48/$C$19),$C$18*EXP(-(A48-$C$21)/$C$20)) -> 1536.4576 | F48: =IF(A48<=$C$21,$C$12*(1-$C$25*(EXP(A48/$C$19)-1)),$C$29*(1-$C$27*(EXP((A48-$C$21)/$C$20)-1))) -> 87.71523 | G48: =IF(A48<=$C$21,($C$5-$C$8)*(F48/$C$12)^(1/$C$11)+$C$8, ($C$28-$C$8)*(F48/$C$29)^(1/$C$11)+$C$8) -> 15.403059 | H48: =A48-$C$6/2 -> 1500 | I48: =A48+$C$6/2 -> 12500
A49: =A48+$C$4 -> 8000 | E49: =IF(A49<=$C$21,$C$17*EXP(-A49/$C$19),$C$18*EXP(-(A49-$C$21)/$C$20)) -> 1523.5139 | F49: =IF(A49<=$C$21,$C$12*(1-$C$25*(EXP(A49/$C$19)-1)),$C$29*(1-$C$27*(EXP((A49-$C$21)/$C$20)-1))) -> 85.917807 | G49: =IF(A49<=$C$21,($C$5-$C$8)*(F49/$C$12)^(1/$C$11)+$C$8, ($C$28-$C$8)*(F49/$C$29)^(1/$C$11)+$C$8) -> 14.178806 | H49: =A49-$C$6/2 -> 2500 | I49: =A49+$C$6/2 -> 13500
A50: =A49+$C$4 -> 9000 | E50: =IF(A50<=$C$21,$C$17*EXP(-A50/$C$19),$C$18*EXP(-(A50-$C$21)/$C$20)) -> 1510.6793 | F50: =IF(A50<=$C$21,$C$12*(1-$C$25*(EXP(A50/$C$19)-1)),$C$29*(1-$C$27*(EXP((A50-$C$21)/$C$20)-1))) -> 84.105112 | G50: =IF(A50<=$C$21,($C$5-$C$8)*(F50/$C$12)^(1/$C$11)+$C$8, ($C$28-$C$8)*(F50/$C$29)^(1/$C$11)+$C$8) -> 13.019566 | H50: =A50-$C$6/2 -> 3500 | I50: =A50+$C$6/2 -> 14500
A51: =A50+$C$4 -> 10000 | E51: =IF(A51<=$C$21,$C$17*EXP(-A51/$C$19),$C$18*EXP(-(A51-$C$21)/$C$20)) -> 1497.9529 | F51: =IF(A51<=$C$21,$C$12*(1-$C$25*(EXP(A51/$C$19)-1)),$C$29*(1-$C$27*(EXP((A51-$C$21)/$C$20)-1))) -> 82.277017 | G51: =IF(A51<=$C$21,($C$5-$C$8)*(F51/$C$12)^(1/$C$11)+$C$8, ($C$28-$C$8)*(F51/$C$29)^(1/$C$11)+$C$8) -> 11.923976 | H51: =A51-$C$6/2 -> 4500 | I51: =A51+$C$6/2 -> 15500
A52: =A51+$C$4 -> 11000 | E52: =IF(A52<=$C$21,$C$17*EXP(-A52/$C$19),$C$18*EXP(-(A52-$C$21)/$C$20)) -> 1485.3336 | F52: =IF(A52<=$C$21,$C$12*(1-$C$25*(EXP(A52/$C$19)-1)),$C$29*(1-$C$27*(EXP((A52-$C$21)/$C$20)-1))) -> 80.433391 | G52: =IF(A52<=$C$21,($C$5-$C$8)*(F52/$C$12)^(1/$C$11)+$C$8, ($C$28-$C$8)*(F52/$C$29)^(1/$C$11)+$C$8) -> 10.890616 | H52: =A52-$C$6/2 -> 5500 | I52: =A52+$C$6/2 -> 16500
A53: =A52+$C$4 -> 12000 | E53: =IF(A53<=$C$21,$C$17*EXP(-A53/$C$19),$C$18*EXP(-(A53-$C$21)/$C$20)) -> 1472.8206 | F53: =IF(A53<=$C$21,$C$12*(1-$C$25*(EXP(A53/$C$19)-1)),$C$29*(1-$C$27*(EXP((A53-$C$21)/$C$20)-1))) -> 78.574101 | G53: =IF(A53<=$C$21,($C$5-$C$8)*(F53/$C$12)^(1/$C$11)+$C$8, ($C$28-$C$8)*(F53/$C$29)^(1/$C$11)+$C$8) -> 9.9180118 | H53: =A53-$C$6/2 -> 6500 | I53: =A53+$C$6/2 -> 17500
... A167: =A166+$C$4 -> 126000 | E167: =IF(A167<=$C$21,$C$17*EXP(-A167/$C$19),$C$18*EXP(-(A167-$C$21)/$C$20)) -> 561.43282 | F167: =IF(A167<=$C$21,$C$12*(1-$C$25*(EXP(A167/$C$19)-1)),$C$29*(1-$C$27*(EXP((A167-$C$21)/$C$20)-1))) -> -279.70111 | G167: =IF(A167<=$C$21,($C$5-$C$8)*(F167/$C$12)^(1/$C$11)+$C$8, ($C$28-$C$8)*(F167/$C$29)^(1/$C$11)+$C$8) -> 1592.5156 | H167: =A167-$C$6/2 -> 120500 | I167: =A167+$C$6/2 -> 131500

Sheet Sheet3
