Workbook

Sheet Overview
B2: This sheet is provided as a tool to calculate salt intrusion in alluvial estuaries. It uses the analytical model as described in Salinity and Tides by H.H.G Savenije 2005
B14: Estuary
B15: Pangani
B17: Geometry
B18: Area at mouth | C18: A0 | D18: 1070 | E18: m2
B19: Area at x1 | C19: A1 | D19: =D18*EXP(-D22/D20) -> 1070 | E19: m2
B20: Convergence length | C20: a1 | D20: 14300 | E20: m
B21: Convergence length 2 | C21: a2 | D21: 14300 | E21: m
B22: Inflection point | C22: x1 | D22: 0 | E22: m
B23: Depth | C23: h0 | D23: 3 | E23: m
B25: Measurements
B26: 39382
B27: 39427

Sheet 27-10-2007
A1: STEADY SALT INTRUSION MODEL (TA)
A2: Pangani 27-10-2007
A3: Input | F3: Measurements
A4: Step length | B4: dx | C4: 1000 | D4: m | F4: x (m) | G4: HWS | H4: x (m) | I4: LWS
A5: Sea salinity | B5: S0 | C5: 27 | D5: kg/m3 | F5: 3000 | G5: =(30.3+30.3+30.4+30.9)/4 -> 30.475 | H5: 3000 | I5: =(22.8+22.8+22.9+22.9)/4 -> 22.85
A6: Tidal Excursion | B6: E0 | C6: 19000 | D6: m | F6: 5280 | G6: =(30.9+30.9+31.1+31.1)/4 -> 31 | H6: 5280 | I6: =(21.3+21.3+21.3)/3 -> 21.3
A7: Tidal Range | B7: H | C7: 4.2 | D7: m | F7: 7290 | G7: =(31.1+31.1+31.1+31.1)/4 -> 31.1 | H7: 7290 | I7: =(16.3+16.5+16.9)/3 -> 16.566667
A8: Fresh water salinity | B8: Cf | C8: 0 | D8: kg/m3 | F8: 10230 | G8: =(30.6+30.6+30.6+30.8)/4 -> 30.65 | H8: 10230 | I8: =(11.2+11.3+11.5)/3 -> 11.333333
F9: 12400 | G9: =(30.7+30.7+30.7+30.7)/4 -> 30.7 | H9: 12400 | I9: =(7.7+7.7+7.7+7.9)/4 -> 7.75
A10: Calibration parameters | F10: 14140 | G10: =(18+26.5+29.9+30.1)/4 -> 26.125 | H10: 14140 | I10: =(4+4+4.4+4.5)/4 -> 4.225
A11: Van Den Burgh | B11: K | C11: 0.9 | F11: 16580 | G11: =(22+26+27.9+28.2)/4 -> 26.025 | H11: 16580 | I11: =(1.7+1.7+2)/3 -> 1.8
A12: Dispersion at mouth | B12: Do | C12: 500 | D12: m2/s | F12: 18390 | G12: =(21.4+21.5+21.6+21.9)/4 -> 21.6
A13: Discharge | B13: Q | C13: 14.8 | D13: m3/s | F13: 20790 | G13: =(9.6+12.5+14.7+15.5)/4 -> 13.075
A14: Alpha 0 | B14: α0 | C14: =C12/C13 -> 33.783784 | D14: 1/m | F14: 25350 | G14: =(4.2+4.3+4.7+4.7)/4 -> 4.475
A15: Convergence Excursion | B15: e | C15: 30000 | D15: m
A17: Geometry
A18: Area at mouth | B18: A0 | C18: =Overview!D18 -> 1070 | D18: m2
A19: Area at x1 | B19: A1 | C19: =Overview!D19 -> 1070 | D19: m2
A20: Convergence length | B20: a1 | C20: =Overview!D20 -> 14300 | D20: m
A21: Convergence length 2 | B21: a2 | C21: =Overview!D21 -> 14300 | D21: m
A22: Inflection point | B22: x1 | C22: =Overview!D22 -> 0 | D22: m
A23: Depth | B23: h0 | C23: =Overview!D23 -> 3 | D23: m
A25: Calculations | F25: REMARKS
A26: Beta | B26: β | C26: =$C$11*$C$20/C$14/$C$18 -> 0.35602991 | F26: Curve shifted with 3700m
A27: Alpha 1 | B27: α1 | C27: =C30/C13 -> 33.783784 | D27: 1/m
A28: Beta1 | B28: β1 | C28: =C11*C21/C27/C19 -> 0.35602991
A29: Salinity at x1 | B29: S1 | C29: =($C$5-$C$8)*(C30/C12)^(1/$C$11)+$C$8 -> 27 | D29: kg/m3
A30: Dispersion at x1 | B30: D1 | C30: =C12*(1-C26*(EXP(C22/C20)-1)) -> 500
A32: x: | B32: Shifted x | E32: A | F32: D | G32: S | H32: xLWS | I32: xHWS
A33: =A34-$C$4-9000 -> -18000 | B33: =A33+3700 -> -14300 | E33: =IF(A33<=$C$22,$C$18*EXP(-A33/$C$20),$C$19*EXP(-(A33-$C$22)/$C$21)) -> 3767.4558 | F33: =IF(A33<=$C$22,IF($C$12*(1-$C$26*(EXP(A33/$C$20)-1))>0,$C$12*(1-$C$26*(EXP(A33/$C$20)-1)),0),IF($C$30*(1-$C$28*(EXP((A33-$C$22)/$C$21)-1))>0,$C$30*(1-$C$28*(EXP((A33-$C$22)/$C$21)-1)),0)) -> 627.4567 | G33: =IF(A33<=$C$22,($C$5-$C$8)*(F33/$C$12)^(1/$C$11)+$C$8, ($C$29-$C$8)*(F33/$C$30)^(1/$C$11)+$C$8) -> 34.748383 | H33: =IF($C$15=0,B33-$C$6/2, B33-$C$6*EXP(-B33/$C$15)/2) -> -29601.616 | I33: =IF($C$15=0,B33+$C$6/2, B33+$C$6*EXP(-B33/$C$15)/2) -> 1001.6163
A34: =A35-$C$4 -> -8000 | B34: =A34+3700 -> -4300 | E34: =IF(A34<=$C$22,$C$18*EXP(-A34/$C$20),$C$19*EXP(-(A34-$C$22)/$C$21)) -> 1872.1719 | F34: =IF(A34<=$C$22,IF($C$12*(1-$C$26*(EXP(A34/$C$20)-1))>0,$C$12*(1-$C$26*(EXP(A34/$C$20)-1)),0),IF($C$30*(1-$C$28*(EXP((A34-$C$22)/$C$21)-1))>0,$C$30*(1-$C$28*(EXP((A34-$C$22)/$C$21)-1)),0)) -> 576.2743 | G34: =IF(A34<=$C$22,($C$5-$C$8)*(F34/$C$12)^(1/$C$11)+$C$8, ($C$29-$C$8)*(F34/$C$30)^(1/$C$11)+$C$8) -> 31.613606 | H34: =IF($C$15=0,B34-$C$6/2, B34-$C$6*EXP(-B34/$C$15)/2) -> -15264.087 | I34: =IF($C$15=0,B34+$C$6/2, B34+$C$6*EXP(-B34/$C$15)/2) -> 6664.0872
A35: =A36-$C$4 -> -7000 | B35: =A35+3700 -> -3300 | E35: =IF(A35<=$C$22,$C$18*EXP(-A35/$C$20),$C$19*EXP(-(A35-$C$22)/$C$21)) -> 1745.7236 | F35: =IF(A35<=$C$22,IF($C$12*(1-$C$26*(EXP(A35/$C$20)-1))>0,$C$12*(1-$C$26*(EXP(A35/$C$20)-1)),0),IF($C$30*(1-$C$28*(EXP((A35-$C$22)/$C$21)-1))>0,$C$30*(1-$C$28*(EXP((A35-$C$22)/$C$21)-1)),0)) -> 568.9049 | G35: =IF(A35<=$C$22,($C$5-$C$8)*(F35/$C$12)^(1/$C$11)+$C$8, ($C$29-$C$8)*(F35/$C$30)^(1/$C$11)+$C$8) -> 31.164732 | H35: =IF($C$15=0,B35-$C$6/2, B35-$C$6*EXP(-B35/$C$15)/2) -> -13904.642 | I35: =IF($C$15=0,B35+$C$6/2, B35+$C$6*EXP(-B35/$C$15)/2) -> 7304.6417
A36: =A37-$C$4 -> -6000 | B36: =A36+3700 -> -2300 | E36: =IF(A36<=$C$22,$C$18*EXP(-A36/$C$20),$C$19*EXP(-(A36-$C$22)/$C$21)) -> 1627.8157 | F36: =IF(A36<=$C$22,IF($C$12*(1-$C$26*(EXP(A36/$C$20)-1))>0,$C$12*(1-$C$26*(EXP(A36/$C$20)-1)),0),IF($C$30*(1-$C$28*(EXP((A36-$C$22)/$C$21)-1))>0,$C$30*(1-$C$28*(EXP((A36-$C$22)/$C$21)-1)),0)) -> 561.00171 | G36: =IF(A36<=$C$22,($C$5-$C$8)*(F36/$C$12)^(1/$C$11)+$C$8, ($C$29-$C$8)*(F36/$C$30)^(1/$C$11)+$C$8) -> 30.684062 | H36: =IF($C$15=0,B36-$C$6/2, B36-$C$6*EXP(-B36/$C$15)/2) -> -12556.98 | I36: =IF($C$15=0,B36+$C$6/2, B36+$C$6*EXP(-B36/$C$15)/2) -> 7956.9802
A37: =A38-$C$4 -> -5000 | B37: =A37+3700 -> -1300 | E37: =IF(A37<=$C$22,$C$18*EXP(-A37/$C$20),$C$19*EXP(-(A37-$C$22)/$C$21)) -> 1517.8715 | F37: =IF(A37<=$C$22,IF($C$12*(1-$C$26*(EXP(A37/$C$20)-1))>0,$C$12*(1-$C$26*(EXP(A37/$C$20)-1)),0),IF($C$30*(1-$C$28*(EXP((A37-$C$22)/$C$21)-1))>0,$C$30*(1-$C$28*(EXP((A37-$C$22)/$C$21)-1)),0)) -> 552.52607 | G37: =IF(A37<=$C$22,($C$5-$C$8)*(F37/$C$12)^(1/$C$11)+$C$8, ($C$29-$C$8)*(F37/$C$30)^(1/$C$11)+$C$8) -> 30.169412 | H37: =IF($C$15=0,B37-$C$6/2, B37-$C$6*EXP(-B37/$C$15)/2) -> -11220.716 | I37: =IF($C$15=0,B37+$C$6/2, B37+$C$6*EXP(-B37/$C$15)/2) -> 8620.7164
A38: =A39-$C$4 -> -4000 | B38: =A38+3700 -> -300 | E38: =IF(A38<=$C$22,$C$18*EXP(-A38/$C$20),$C$19*EXP(-(A38-$C$22)/$C$21)) -> 1415.3529 | F38: =IF(A38<=$C$22,IF($C$12*(1-$C$26*(EXP(A38/$C$20)-1))>0,$C$12*(1-$C$26*(EXP(A38/$C$20)-1)),0),IF($C$30*(1-$C$28*(EXP((A38-$C$22)/$C$21)-1))>0,$C$30*(1-$C$28*(EXP((A38-$C$22)/$C$21)-1)),0)) -> 543.43651 | G38: =IF(A38<=$C$22,($C$5-$C$8)*(F38/$C$12)^(1/$C$11)+$C$8, ($C$29-$C$8)*(F38/$C$30)^(1/$C$11)+$C$8) -> 29.618457 | H38: =IF($C$15=0,B38-$C$6/2, B38-$C$6*EXP(-B38/$C$15)/2) -> -9895.4766 | I38: =IF($C$15=0,B38+$C$6/2, B38+$C$6*EXP(-B38/$C$15)/2) -> 9295.4766
A39: =A40-$C$4 -> -3000 | B39: =A39+3700 -> 700 | E39: =IF(A39<=$C$22,$C$18*EXP(-A39/$C$20),$C$19*EXP(-(A39-$C$22)/$C$21)) -> 1319.7586 | F39: =IF(A39<=$C$22,IF($C$12*(1-$C$26*(EXP(A39/$C$20)-1))>0,$C$12*(1-$C$26*(EXP(A39/$C$20)-1)),0),IF($C$30*(1-$C$28*(EXP((A39-$C$22)/$C$21)-1))>0,$C$30*(1-$C$28*(EXP((A39-$C$22)/$C$21)-1)),0)) -> 533.68856 | G39: =IF(A39<=$C$22,($C$5-$C$8)*(F39/$C$12)^(1/$C$11)+$C$8, ($C$29-$C$8)*(F39/$C$30)^(1/$C$11)+$C$8) -> 29.028733 | H39: =IF($C$15=0,B39-$C$6/2, B39-$C$6*EXP(-B39/$C$15)/2) -> -8580.8994 | I39: =IF($C$15=0,B39+$C$6/2, B39+$C$6*EXP(-B39/$C$15)/2) -> 9980.8994
A40: =A41-$C$4 -> -2000 | B40: =A40+3700 -> 1700 | E40: =IF(A40<=$C$22,$C$18*EXP(-A40/$C$20),$C$19*EXP(-(A40-$C$22)/$C$21)) -> 1230.6208 | F40: =IF(A40<=$C$22,IF($C$12*(1-$C$26*(EXP(A40/$C$20)-1))>0,$C$12*(1-$C$26*(EXP(A40/$C$20)-1)),0),IF($C$30*(1-$C$28*(EXP((A40-$C$22)/$C$21)-1))>0,$C$30*(1-$C$28*(EXP((A40-$C$22)/$C$21)-1)),0)) -> 523.23454 | G40: =IF(A40<=$C$22,($C$5-$C$8)*(F40/$C$12)^(1/$C$11)+$C$8, ($C$29-$C$8)*(F40/$C$30)^(1/$C$11)+$C$8) -> 28.397623 | H40: =IF($C$15=0,B40-$C$6/2, B40-$C$6*EXP(-B40/$C$15)/2) -> -7276.6354 | I40: =IF($C$15=0,B40+$C$6/2, B40+$C$6*EXP(-B40/$C$15)/2) -> 10676.635
A41: =A42-$C$4 -> -1000 | B41: =A41+3700 -> 2700 | E41: =IF(A41<=$C$22,$C$18*EXP(-A41/$C$20),$C$19*EXP(-(A41-$C$22)/$C$21)) -> 1147.5035 | F41: =IF(A41<=$C$22,IF($C$12*(1-$C$26*(EXP(A41/$C$20)-1))>0,$C$12*(1-$C$26*(EXP(A41/$C$20)-1)),0),IF($C$30*(1-$C$28*(EXP((A41-$C$22)/$C$21)-1))>0,$C$30*(1-$C$28*(EXP((A41-$C$22)/$C$21)-1)),0)) -> 512.0233 | G41: =IF(A41<=$C$22,($C$5-$C$8)*(F41/$C$12)^(1/$C$11)+$C$8, ($C$29-$C$8)*(F41/$C$30)^(1/$C$11)+$C$8) -> 27.722355 | H41: =IF($C$15=0,B41-$C$6/2, B41-$C$6*EXP(-B41/$C$15)/2) -> -5982.3463 | I41: =IF($C$15=0,B41+$C$6/2, B41+$C$6*EXP(-B41/$C$15)/2) -> 11382.346
A42: 0 | B42: =A42+3700 -> 3700 | E42: =IF(A42<=$C$22,$C$18*EXP(-A42/$C$20),$C$19*EXP(-(A42-$C$22)/$C$21)) -> 1070 | F42: =IF(A42<=$C$22,IF($C$12*(1-$C$26*(EXP(A42/$C$20)-1))>0,$C$12*(1-$C$26*(EXP(A42/$C$20)-1)),0),IF($C$30*(1-$C$28*(EXP((A42-$C$22)/$C$21)-1))>0,$C$30*(1-$C$28*(EXP((A42-$C$22)/$C$21)-1)),0)) -> 500 | G42: =IF(A42<=$C$22,($C$5-$C$8)*(F42/$C$12)^(1/$C$11)+$C$8, ($C$29-$C$8)*(F42/$C$30)^(1/$C$11)+$C$8) -> 27 | H42: =IF($C$15=0,B42-$C$6/2, B42-$C$6*EXP(-B42/$C$15)/2) -> -4697.7051 | I42: =IF($C$15=0,B42+$C$6/2, B42+$C$6*EXP(-B42/$C$15)/2) -> 12097.705
A43: =A42+$C$4 -> 1000 | B43: =A43+3700 -> 4700 | E43: =IF(A43<=$C$22,$C$18*EXP(-A43/$C$20),$C$19*EXP(-(A43-$C$22)/$C$21)) -> 997.73116 | F43: =IF(A43<=$C$22,IF($C$12*(1-$C$26*(EXP(A43/$C$20)-1))>0,$C$12*(1-$C$26*(EXP(A43/$C$20)-1)),0),IF($C$30*(1-$C$28*(EXP((A43-$C$22)/$C$21)-1))>0,$C$30*(1-$C$28*(EXP((A43-$C$22)/$C$21)-1)),0)) -> 487.10581 | G43: =IF(A43<=$C$22,($C$5-$C$8)*(F43/$C$12)^(1/$C$11)+$C$8, ($C$29-$C$8)*(F43/$C$30)^(1/$C$11)+$C$8) -> 26.227466 | H43: =IF($C$15=0,B43-$C$6/2, B43-$C$6*EXP(-B43/$C$15)/2) -> -3422.3956 | I43: =IF($C$15=0,B43+$C$6/2, B43+$C$6*EXP(-B43/$C$15)/2) -> 12822.396
A44: =A43+$C$4 -> 2000 | B44: =A44+3700 -> 5700 | E44: =IF(A44<=$C$22,$C$18*EXP(-A44/$C$20),$C$19*EXP(-(A44-$C$22)/$C$21)) -> 930.34342 | F44: =IF(A44<=$C$22,IF($C$12*(1-$C$26*(EXP(A44/$C$20)-1))>0,$C$12*(1-$C$26*(EXP(A44/$C$20)-1)),0),IF($C$30*(1-$C$28*(EXP((A44-$C$22)/$C$21)-1))>0,$C$30*(1-$C$28*(EXP((A44-$C$22)/$C$21)-1)),0)) -> 473.27765 | G44: =IF(A44<=$C$22,($C$5-$C$8)*(F44/$C$12)^(1/$C$11)+$C$8, ($C$29-$C$8)*(F44/$C$30)^(1/$C$11)+$C$8) -> 25.401497 | H44: =IF($C$15=0,B44-$C$6/2, B44-$C$6*EXP(-B44/$C$15)/2) -> -2156.1118 | I44: =IF($C$15=0,B44+$C$6/2, B44+$C$6*EXP(-B44/$C$15)/2) -> 13556.112
A45: =A44+$C$4 -> 3000 | B45: =A45+3700 -> 6700 | E45: =IF(A45<=$C$22,$C$18*EXP(-A45/$C$20),$C$19*EXP(-(A45-$C$22)/$C$21)) -> 867.50712 | F45: =IF(A45<=$C$22,IF($C$12*(1-$C$26*(EXP(A45/$C$20)-1))>0,$C$12*(1-$C$26*(EXP(A45/$C$20)-1)),0),IF($C$30*(1-$C$28*(EXP((A45-$C$22)/$C$21)-1))>0,$C$30*(1-$C$28*(EXP((A45-$C$22)/$C$21)-1)),0)) -> 458.44788 | G45: =IF(A45<=$C$22,($C$5-$C$8)*(F45/$C$12)^(1/$C$11)+$C$8, ($C$29-$C$8)*(F45/$C$30)^(1/$C$11)+$C$8) -> 24.518678 | H45: =IF($C$15=0,B45-$C$6/2, B45-$C$6*EXP(-B45/$C$15)/2) -> -898.55779 | I45: =IF($C$15=0,B45+$C$6/2, B45+$C$6*EXP(-B45/$C$15)/2) -> 14298.558
A46: =A45+$C$4 -> 4000 | B46: =A46+3700 -> 7700 | E46: =IF(A46<=$C$22,$C$18*EXP(-A46/$C$20),$C$19*EXP(-(A46-$C$22)/$C$21)) -> 808.91484 | F46: =IF(A46<=$C$22,IF($C$12*(1-$C$26*(EXP(A46/$C$20)-1))>0,$C$12*(1-$C$26*(EXP(A46/$C$20)-1)),0),IF($C$30*(1-$C$28*(EXP((A46-$C$22)/$C$21)-1))>0,$C$30*(1-$C$28*(EXP((A46-$C$22)/$C$21)-1)),0)) -> 442.54394 | G46: =IF(A46<=$C$22,($C$5-$C$8)*(F46/$C$12)^(1/$C$11)+$C$8, ($C$29-$C$8)*(F46/$C$30)^(1/$C$11)+$C$8) -> 23.575437 | H46: =IF($C$15=0,B46-$C$6/2, B46-$C$6*EXP(-B46/$C$15)/2) -> 350.55256 | I46: =IF($C$15=0,B46+$C$6/2, B46+$C$6*EXP(-B46/$C$15)/2) -> 15049.447
A47: =A46+$C$4 -> 5000 | B47: =A47+3700 -> 8700 | E47: =IF(A47<=$C$22,$C$18*EXP(-A47/$C$20),$C$19*EXP(-(A47-$C$22)/$C$21)) -> 754.27994 | F47: =IF(A47<=$C$22,IF($C$12*(1-$C$26*(EXP(A47/$C$20)-1))>0,$C$12*(1-$C$26*(EXP(A47/$C$20)-1)),0),IF($C$30*(1-$C$28*(EXP((A47-$C$22)/$C$21)-1))>0,$C$30*(1-$C$28*(EXP((A47-$C$22)/$C$21)-1)),0)) -> 425.48802 | G47: =IF(A47<=$C$22,($C$5-$C$8)*(F47/$C$12)^(1/$C$11)+$C$8, ($C$29-$C$8)*(F47/$C$30)^(1/$C$11)+$C$8) -> 22.568055 | H47: =IF($C$15=0,B47-$C$6/2, B47-$C$6*EXP(-B47/$C$15)/2) -> 1591.4961 | I47: =IF($C$15=0,B47+$C$6/2, B47+$C$6*EXP(-B47/$C$15)/2) -> 15808.504
A48: =A47+$C$4 -> 6000 | B48: =A48+3700 -> 9700 | E48: =IF(A48<=$C$22,$C$18*EXP(-A48/$C$20),$C$19*EXP(-(A48-$C$22)/$C$21)) -> 703.33514 | F48: =IF(A48<=$C$22,IF($C$12*(1-$C$26*(EXP(A48/$C$20)-1))>0,$C$12*(1-$C$26*(EXP(A48/$C$20)-1)),0),IF($C$30*(1-$C$28*(EXP((A48-$C$22)/$C$21)-1))>0,$C$30*(1-$C$28*(EXP((A48-$C$22)/$C$21)-1)),0)) -> 407.19669 | G48: =IF(A48<=$C$22,($C$5-$C$8)*(F48/$C$12)^(1/$C$11)+$C$8, ($C$29-$C$8)*(F48/$C$30)^(1/$C$11)+$C$8) -> 21.492686 | H48: =IF($C$15=0,B48-$C$6/2, B48-$C$6*EXP(-B48/$C$15)/2) -> 2824.5406 | I48: =IF($C$15=0,B48+$C$6/2, B48+$C$6*EXP(-B48/$C$15)/2) -> 16575.459
A49: =A48+$C$4 -> 7000 | B49: =A49+3700 -> 10700 | E49: =IF(A49<=$C$22,$C$18*EXP(-A49/$C$20),$C$19*EXP(-(A49-$C$22)/$C$21)) -> 655.8312 | F49: =IF(A49<=$C$22,IF($C$12*(1-$C$26*(EXP(A49/$C$20)-1))>0,$C$12*(1-$C$26*(EXP(A49/$C$20)-1)),0),IF($C$30*(1-$C$28*(EXP((A49-$C$22)/$C$21)-1))>0,$C$30*(1-$C$28*(EXP((A49-$C$22)/$C$21)-1)),0)) -> 387.58046 | G49: =IF(A49<=$C$22,($C$5-$C$8)*(F49/$C$12)^(1/$C$11)+$C$8, ($C$29-$C$8)*(F49/$C$30)^(1/$C$11)+$C$8) -> 20.345382 | H49: =IF($C$15=0,B49-$C$6/2, B49-$C$6*EXP(-B49/$C$15)/2) -> 4049.945 | I49: =IF($C$15=0,B49+$C$6/2, B49+$C$6*EXP(-B49/$C$15)/2) -> 17350.055
A50: =A49+$C$4 -> 8000 | B50: =A50+3700 -> 11700 | E50: =IF(A50<=$C$22,$C$18*EXP(-A50/$C$20),$C$19*EXP(-(A50-$C$22)/$C$21)) -> 611.53572 | F50: =IF(A50<=$C$22,IF($C$12*(1-$C$26*(EXP(A50/$C$20)-1))>0,$C$12*(1-$C$26*(EXP(A50/$C$20)-1)),0),IF($C$30*(1-$C$28*(EXP((A50-$C$22)/$C$21)-1))>0,$C$30*(1-$C$28*(EXP((A50-$C$22)/$C$21)-1)),0)) -> 366.54337 | G50: =IF(A50<=$C$22,($C$5-$C$8)*(F50/$C$12)^(1/$C$11)+$C$8, ($C$29-$C$8)*(F50/$C$30)^(1/$C$11)+$C$8) -> 19.122135 | H50: =IF($C$15=0,B50-$C$6/2, B50-$C$6*EXP(-B50/$C$15)/2) -> 5267.9597 | I50: =IF($C$15=0,B50+$C$6/2, B50+$C$6*EXP(-B50/$C$15)/2) -> 18132.04
A51: =A50+$C$4 -> 9000 | B51: =A51+3700 -> 12700 | E51: =IF(A51<=$C$22,$C$18*EXP(-A51/$C$20),$C$19*EXP(-(A51-$C$22)/$C$21)) -> 570.232 | F51: =IF(A51<=$C$22,IF($C$12*(1-$C$26*(EXP(A51/$C$20)-1))>0,$C$12*(1-$C$26*(EXP(A51/$C$20)-1)),0),IF($C$30*(1-$C$28*(EXP((A51-$C$22)/$C$21)-1))>0,$C$30*(1-$C$28*(EXP((A51-$C$22)/$C$21)-1)),0)) -> 343.98249 | G51: =IF(A51<=$C$22,($C$5-$C$8)*(F51/$C$12)^(1/$C$11)+$C$8, ($C$29-$C$8)*(F51/$C$30)^(1/$C$11)+$C$8) -> 17.818942 | H51: =IF($C$15=0,B51-$C$6/2, B51-$C$6*EXP(-B51/$C$15)/2) -> 6478.8271 | I51: =IF($C$15=0,B51+$C$6/2, B51+$C$6*EXP(-B51/$C$15)/2) -> 18921.173
A52: =A51+$C$4 -> 10000 | B52: =A52+3700 -> 13700 | E52: =IF(A52<=$C$22,$C$18*EXP(-A52/$C$20),$C$19*EXP(-(A52-$C$22)/$C$21)) -> 531.71798 | F52: =IF(A52<=$C$22,IF($C$12*(1-$C$26*(EXP(A52/$C$20)-1))>0,$C$12*(1-$C$26*(EXP(A52/$C$20)-1)),0),IF($C$30*(1-$C$28*(EXP((A52-$C$22)/$C$21)-1))>0,$C$30*(1-$C$28*(EXP((A52-$C$22)/$C$21)-1)),0)) -> 319.78746 | G52: =IF(A52<=$C$22,($C$5-$C$8)*(F52/$C$12)^(1/$C$11)+$C$8, ($C$29-$C$8)*(F52/$C$30)^(1/$C$11)+$C$8) -> 16.431892 | H52: =IF($C$15=0,B52-$C$6/2, B52-$C$6*EXP(-B52/$C$15)/2) -> 7682.7814 | I52: =IF($C$15=0,B52+$C$6/2, B52+$C$6*EXP(-B52/$C$15)/2) -> 19717.219
A53: =A52+$C$4 -> 11000 | B53: =A53+3700 -> 14700 | E53: =IF(A53<=$C$22,$C$18*EXP(-A53/$C$20),$C$19*EXP(-(A53-$C$22)/$C$21)) -> 495.80523 | F53: =IF(A53<=$C$22,IF($C$12*(1-$C$26*(EXP(A53/$C$20)-1))>0,$C$12*(1-$C$26*(EXP(A53/$C$20)-1)),0),IF($C$30*(1-$C$28*(EXP((A53-$C$22)/$C$21)-1))>0,$C$30*(1-$C$28*(EXP((A53-$C$22)/$C$21)-1)),0)) -> 293.8399 | G53: =IF(A53<=$C$22,($C$5-$C$8)*(F53/$C$12)^(1/$C$11)+$C$8, ($C$29-$C$8)*(F53/$C$30)^(1/$C$11)+$C$8) -> 14.95731 | H53: =IF($C$15=0,B53-$C$6/2, B53-$C$6*EXP(-B53/$C$15)/2) -> 8880.0493 | I53: =IF($C$15=0,B53+$C$6/2, B53+$C$6*EXP(-B53/$C$15)/2) -> 20519.951
A54: =A53+$C$4 -> 12000 | B54: =A54+3700 -> 15700 | E54: =IF(A54<=$C$22,$C$18*EXP(-A54/$C$20),$C$19*EXP(-(A54-$C$22)/$C$21)) -> 462.31806 | F54: =IF(A54<=$C$22,IF($C$12*(1-$C$26*(EXP(A54/$C$20)-1))>0,$C$12*(1-$C$26*(EXP(A54/$C$20)-1)),0),IF($C$30*(1-$C$28*(EXP((A54-$C$22)/$C$21)-1))>0,$C$30*(1-$C$28*(EXP((A54-$C$22)/$C$21)-1)),0)) -> 266.01288 | G54: =IF(A54<=$C$22,($C$5-$C$8)*(F54/$C$12)^(1/$C$11)+$C$8, ($C$29-$C$8)*(F54/$C$30)^(1/$C$11)+$C$8) -> 13.391971 | H54: =IF($C$15=0,B54-$C$6/2, B54-$C$6*EXP(-B54/$C$15)/2) -> 10070.85 | I54: =IF($C$15=0,B54+$C$6/2, B54+$C$6*EXP(-B54/$C$15)/2) -> 21329.15
... A168: =A167+$C$4 -> 126000 | B168: =A168+3700 -> 129700 | E168: =IF(A168<=$C$22,$C$18*EXP(-A168/$C$20),$C$19*EXP(-(A168-$C$22)/$C$21)) -> 0.15948987 | F168: =IF(A168<=$C$22,IF($C$12*(1-$C$26*(EXP(A168/$C$20)-1))>0,$C$12*(1-$C$26*(EXP(A168/$C$20)-1)),0),IF($C$30*(1-$C$28*(EXP((A168-$C$22)/$C$21)-1))>0,$C$30*(1-$C$28*(EXP((A168-$C$22)/$C$21)-1)),0)) -> 0 | G168: =IF(A168<=$C$22,($C$5-$C$8)*(F168/$C$12)^(1/$C$11)+$C$8, ($C$29-$C$8)*(F168/$C$30)^(1/$C$11)+$C$8) -> 0 | H168: =IF($C$15=0,B168-$C$6/2, B168-$C$6*EXP(-B168/$C$15)/2) -> 129574.07 | I168: =IF($C$15=0,B168+$C$6/2, B168+$C$6*EXP(-B168/$C$15)/2) -> 129825.93

Sheet 11-12-2007
A1: STEADY SALT INTRUSION MODEL (TA)
A2: Pangani 11-12-2007
A3: Input | F3: Measurements
A4: Step length | B4: dx | C4: 1000 | D4: m | F4: x (m) | G4: HWS | H4: x (m) | I4: LWS
A5: Sea salinity | B5: S0 | C5: 28 | D5: kg/m3 | F5: 3000 | G5: =(30.6+30.6+30.6+30.6)/4 -> 30.6 | H5: 3000 | I5: =(19.8+19.9+20.7+21.4)/4 -> 20.45
A6: Tidal Excursion | B6: E0 | C6: 15000 | D6: m | F6: 5280 | G6: =(30.6+30.6+30.6+30.6)/4 -> 30.6 | H6: 5280 | I6: =(16.7+17+18.7)/3 -> 17.466667
A7: Tidal Range | B7: H | C7: 3 | D7: m | F7: 7290 | G7: =(30.3+30.3+30.4+30.4)/4 -> 30.35 | H7: 7290 | I7: =(11.4+11.4+12.2)/3 -> 11.666667
A8: Fresh water salinity | B8: Cf | C8: 0 | D8: kg/m3 | F8: 10230 | G8: =(29.4+29.9+30.1+30.4)/4 -> 29.95 | H8: 10230 | I8: =(6.2+6.2+6.3+6.4)/4 -> 6.275
F9: 12400 | G9: =(21.8+26+28.2+28.5)/4 -> 26.125 | H9: 12400 | I9: =(3+3+3.2+3.5)/4 -> 3.175
A10: Calibration parameters | F10: 14140 | G10: =(17.9+19.9+21.4+21.6)/4 -> 20.2 | H10: 14140 | I10: =(1.3+1.3+1.4)/4 -> 1
A11: Van Den Burgh | B11: K | C11: 0.9 | F11: 16580 | G11: =(12.5+14.1+15.8+15.9)/4 -> 14.575 | H11: 16580 | I11: =(0.7+0.7+0.7)/3 -> 0.7
A12: Dispersion at mouth | B12: Do | C12: 300 | D12: m2/s | F12: 18390 | G12: =(5.8+9.7+10.6+10.7)/4 -> 9.2 | H12: 18390 | I12: =(0.5+0.5+0.5+0.5)/4 -> 0.5
A13: Discharge | B13: Q | C13: 11.1 | D13: m3/s | F13: 20790 | G13: =(3.8+4.1+5.6+5.9)/4 -> 4.85
A14: Alpha 0 | B14: α0 | C14: =C12/C13 -> 27.027027 | D14: 1/m
A15: Convergence Excursion | B15: e | C15: 30000 | D15: m
A17: Geometry
A18: Area at mouth | B18: A0 | C18: =Overview!D18 -> 1070 | D18: m2
A19: Area at x1 | B19: A1 | C19: =Overview!D19 -> 1070 | D19: m2
A20: Convergence length | B20: a1 | C20: =Overview!D20 -> 14300 | D20: m
A21: Convergence length 2 | B21: a2 | C21: =Overview!D21 -> 14300 | D21: m
A22: Inflection point | B22: x1 | C22: =Overview!D22 -> 0 | D22: m
A23: Depth | B23: h0 | C23: =Overview!D23 -> 3 | D23: m
A25: Calculations | F25: REMARKS
A26: Beta | B26: β | C26: =$C$11*$C$20/C$14/$C$18 -> 0.44503738 | F26: Curve shifted with 1500m
A27: Alpha 1 | B27: α1 | C27: =C30/C13 -> 27.027027 | D27: 1/m
A28: Beta1 | B28: β1 | C28: =C11*C21/C27/C19 -> 0.44503738
A29: Salinity at x1 | B29: S1 | C29: =($C$5-$C$8)*(C30/C12)^(1/$C$11)+$C$8 -> 28 | D29: kg/m3
A30: Dispersion at x1 | B30: D1 | C30: =C12*(1-C26*(EXP(C22/C20)-1)) -> 300
A32: x: | B32: Shifted x | E32: A | F32: D | G32: S | H32: xLWS | I32: xHWS
A33: =A34-$C$4-9000 -> -18000 | B33: =A33+1500 -> -16500 | E33: =IF(A33<=$C$22,$C$18*EXP(-A33/$C$20),$C$19*EXP(-(A33-$C$22)/$C$21)) -> 3767.4558 | F33: =IF(A33<=$C$22,IF($C$12*(1-$C$26*(EXP(A33/$C$20)-1))>0,$C$12*(1-$C$26*(EXP(A33/$C$20)-1)),0),IF($C$30*(1-$C$28*(EXP((A33-$C$22)/$C$21)-1))>0,$C$30*(1-$C$28*(EXP((A33-$C$22)/$C$21)-1)),0)) -> 395.59252 | G33: =IF(A33<=$C$22,($C$5-$C$8)*(F33/$C$12)^(1/$C$11)+$C$8, ($C$29-$C$8)*(F33/$C$30)^(1/$C$11)+$C$8) -> 38.07433 | H33: =IF($C$15=0,B33-$C$6/2, B33-$C$6*EXP(-B33/$C$15)/2) -> -29499.398 | I33: =IF($C$15=0,B33+$C$6/2, B33+$C$6*EXP(-B33/$C$15)/2) -> -3500.6024
A34: =A35-$C$4 -> -8000 | B34: =A34+1500 -> -6500 | E34: =IF(A34<=$C$22,$C$18*EXP(-A34/$C$20),$C$19*EXP(-(A34-$C$22)/$C$21)) -> 1872.1719 | F34: =IF(A34<=$C$22,IF($C$12*(1-$C$26*(EXP(A34/$C$20)-1))>0,$C$12*(1-$C$26*(EXP(A34/$C$20)-1)),0),IF($C$30*(1-$C$28*(EXP((A34-$C$22)/$C$21)-1))>0,$C$30*(1-$C$28*(EXP((A34-$C$22)/$C$21)-1)),0)) -> 357.20572 | G34: =IF(A34<=$C$22,($C$5-$C$8)*(F34/$C$12)^(1/$C$11)+$C$8, ($C$29-$C$8)*(F34/$C$30)^(1/$C$11)+$C$8) -> 33.992029 | H34: =IF($C$15=0,B34-$C$6/2, B34-$C$6*EXP(-B34/$C$15)/2) -> -15814.475 | I34: =IF($C$15=0,B34+$C$6/2, B34+$C$6*EXP(-B34/$C$15)/2) -> 2814.4754
A35: =A36-$C$4 -> -7000 | B35: =A35+1500 -> -5500 | E35: =IF(A35<=$C$22,$C$18*EXP(-A35/$C$20),$C$19*EXP(-(A35-$C$22)/$C$21)) -> 1745.7236 | F35: =IF(A35<=$C$22,IF($C$12*(1-$C$26*(EXP(A35/$C$20)-1))>0,$C$12*(1-$C$26*(EXP(A35/$C$20)-1)),0),IF($C$30*(1-$C$28*(EXP((A35-$C$22)/$C$21)-1))>0,$C$30*(1-$C$28*(EXP((A35-$C$22)/$C$21)-1)),0)) -> 351.67867 | G35: =IF(A35<=$C$22,($C$5-$C$8)*(F35/$C$12)^(1/$C$11)+$C$8, ($C$29-$C$8)*(F35/$C$30)^(1/$C$11)+$C$8) -> 33.408135 | H35: =IF($C$15=0,B35-$C$6/2, B35-$C$6*EXP(-B35/$C$15)/2) -> -14509.111 | I35: =IF($C$15=0,B35+$C$6/2, B35+$C$6*EXP(-B35/$C$15)/2) -> 3509.1106
A36: =A37-$C$4 -> -6000 | B36: =A36+1500 -> -4500 | E36: =IF(A36<=$C$22,$C$18*EXP(-A36/$C$20),$C$19*EXP(-(A36-$C$22)/$C$21)) -> 1627.8157 | F36: =IF(A36<=$C$22,IF($C$12*(1-$C$26*(EXP(A36/$C$20)-1))>0,$C$12*(1-$C$26*(EXP(A36/$C$20)-1)),0),IF($C$30*(1-$C$28*(EXP((A36-$C$22)/$C$21)-1))>0,$C$30*(1-$C$28*(EXP((A36-$C$22)/$C$21)-1)),0)) -> 345.75128 | G36: =IF(A36<=$C$22,($C$5-$C$8)*(F36/$C$12)^(1/$C$11)+$C$8, ($C$29-$C$8)*(F36/$C$30)^(1/$C$11)+$C$8) -> 32.783079 | H36: =IF($C$15=0,B36-$C$6/2, B36-$C$6*EXP(-B36/$C$15)/2) -> -13213.757 | I36: =IF($C$15=0,B36+$C$6/2, B36+$C$6*EXP(-B36/$C$15)/2) -> 4213.7568
A37: =A38-$C$4 -> -5000 | B37: =A37+1500 -> -3500 | E37: =IF(A37<=$C$22,$C$18*EXP(-A37/$C$20),$C$19*EXP(-(A37-$C$22)/$C$21)) -> 1517.8715 | F37: =IF(A37<=$C$22,IF($C$12*(1-$C$26*(EXP(A37/$C$20)-1))>0,$C$12*(1-$C$26*(EXP(A37/$C$20)-1)),0),IF($C$30*(1-$C$28*(EXP((A37-$C$22)/$C$21)-1))>0,$C$30*(1-$C$28*(EXP((A37-$C$22)/$C$21)-1)),0)) -> 339.39455 | G37: =IF(A37<=$C$22,($C$5-$C$8)*(F37/$C$12)^(1/$C$11)+$C$8, ($C$29-$C$8)*(F37/$C$30)^(1/$C$11)+$C$8) -> 32.114072 | H37: =IF($C$15=0,B37-$C$6/2, B37-$C$6*EXP(-B37/$C$15)/2) -> -11928.086 | I37: =IF($C$15=0,B37+$C$6/2, B37+$C$6*EXP(-B37/$C$15)/2) -> 4928.0859
A38: =A39-$C$4 -> -4000 | B38: =A38+1500 -> -2500 | E38: =IF(A38<=$C$22,$C$18*EXP(-A38/$C$20),$C$19*EXP(-(A38-$C$22)/$C$21)) -> 1415.3529 | F38: =IF(A38<=$C$22,IF($C$12*(1-$C$26*(EXP(A38/$C$20)-1))>0,$C$12*(1-$C$26*(EXP(A38/$C$20)-1)),0),IF($C$30*(1-$C$28*(EXP((A38-$C$22)/$C$21)-1))>0,$C$30*(1-$C$28*(EXP((A38-$C$22)/$C$21)-1)),0)) -> 332.57738 | G38: =IF(A38<=$C$22,($C$5-$C$8)*(F38/$C$12)^(1/$C$11)+$C$8, ($C$29-$C$8)*(F38/$C$30)^(1/$C$11)+$C$8) -> 31.398152 | H38: =IF($C$15=0,B38-$C$6/2, B38-$C$6*EXP(-B38/$C$15)/2) -> -10651.78 | I38: =IF($C$15=0,B38+$C$6/2, B38+$C$6*EXP(-B38/$C$15)/2) -> 5651.7804
A39: =A40-$C$4 -> -3000 | B39: =A39+1500 -> -1500 | E39: =IF(A39<=$C$22,$C$18*EXP(-A39/$C$20),$C$19*EXP(-(A39-$C$22)/$C$21)) -> 1319.7586 | F39: =IF(A39<=$C$22,IF($C$12*(1-$C$26*(EXP(A39/$C$20)-1))>0,$C$12*(1-$C$26*(EXP(A39/$C$20)-1)),0),IF($C$30*(1-$C$28*(EXP((A39-$C$22)/$C$21)-1))>0,$C$30*(1-$C$28*(EXP((A39-$C$22)/$C$21)-1)),0)) -> 325.26642 | G39: =IF(A39<=$C$22,($C$5-$C$8)*(F39/$C$12)^(1/$C$11)+$C$8, ($C$29-$C$8)*(F39/$C$30)^(1/$C$11)+$C$8) -> 30.632187 | H39: =IF($C$15=0,B39-$C$6/2, B39-$C$6*EXP(-B39/$C$15)/2) -> -9384.5332 | I39: =IF($C$15=0,B39+$C$6/2, B39+$C$6*EXP(-B39/$C$15)/2) -> 6384.5332
A40: =A41-$C$4 -> -2000 | B40: =A40+1500 -> -500 | E40: =IF(A40<=$C$22,$C$18*EXP(-A40/$C$20),$C$19*EXP(-(A40-$C$22)/$C$21)) -> 1230.6208 | F40: =IF(A40<=$C$22,IF($C$12*(1-$C$26*(EXP(A40/$C$20)-1))>0,$C$12*(1-$C$26*(EXP(A40/$C$20)-1)),0),IF($C$30*(1-$C$28*(EXP((A40-$C$22)/$C$21)-1))>0,$C$30*(1-$C$28*(EXP((A40-$C$22)/$C$21)-1)),0)) -> 317.42591 | G40: =IF(A40<=$C$22,($C$5-$C$8)*(F40/$C$12)^(1/$C$11)+$C$8, ($C$29-$C$8)*(F40/$C$30)^(1/$C$11)+$C$8) -> 29.812865 | H40: =IF($C$15=0,B40-$C$6/2, B40-$C$6*EXP(-B40/$C$15)/2) -> -8126.0475 | I40: =IF($C$15=0,B40+$C$6/2, B40+$C$6*EXP(-B40/$C$15)/2) -> 7126.0475
A41: =A42-$C$4 -> -1000 | B41: =A41+1500 -> 500 | E41: =IF(A41<=$C$22,$C$18*EXP(-A41/$C$20),$C$19*EXP(-(A41-$C$22)/$C$21)) -> 1147.5035 | F41: =IF(A41<=$C$22,IF($C$12*(1-$C$26*(EXP(A41/$C$20)-1))>0,$C$12*(1-$C$26*(EXP(A41/$C$20)-1)),0),IF($C$30*(1-$C$28*(EXP((A41-$C$22)/$C$21)-1))>0,$C$30*(1-$C$28*(EXP((A41-$C$22)/$C$21)-1)),0)) -> 309.01748 | G41: =IF(A41<=$C$22,($C$5-$C$8)*(F41/$C$12)^(1/$C$11)+$C$8, ($C$29-$C$8)*(F41/$C$30)^(1/$C$11)+$C$8) -> 28.936694 | H41: =IF($C$15=0,B41-$C$6/2, B41-$C$6*EXP(-B41/$C$15)/2) -> -6876.0359 | I41: =IF($C$15=0,B41+$C$6/2, B41+$C$6*EXP(-B41/$C$15)/2) -> 7876.0359
A42: 0 | B42: =A42+1500 -> 1500 | E42: =IF(A42<=$C$22,$C$18*EXP(-A42/$C$20),$C$19*EXP(-(A42-$C$22)/$C$21)) -> 1070 | F42: =IF(A42<=$C$22,IF($C$12*(1-$C$26*(EXP(A42/$C$20)-1))>0,$C$12*(1-$C$26*(EXP(A42/$C$20)-1)),0),IF($C$30*(1-$C$28*(EXP((A42-$C$22)/$C$21)-1))>0,$C$30*(1-$C$28*(EXP((A42-$C$22)/$C$21)-1)),0)) -> 300 | G42: =IF(A42<=$C$22,($C$5-$C$8)*(F42/$C$12)^(1/$C$11)+$C$8, ($C$29-$C$8)*(F42/$C$30)^(1/$C$11)+$C$8) -> 28 | H42: =IF($C$15=0,B42-$C$6/2, B42-$C$6*EXP(-B42/$C$15)/2) -> -5634.2207 | I42: =IF($C$15=0,B42+$C$6/2, B42+$C$6*EXP(-B42/$C$15)/2) -> 8634.2207
A43: =A42+$C$4 -> 1000 | B43: =A43+1500 -> 2500 | E43: =IF(A43<=$C$22,$C$18*EXP(-A43/$C$20),$C$19*EXP(-(A43-$C$22)/$C$21)) -> 997.73116 | F43: =IF(A43<=$C$22,IF($C$12*(1-$C$26*(EXP(A43/$C$20)-1))>0,$C$12*(1-$C$26*(EXP(A43/$C$20)-1)),0),IF($C$30*(1-$C$28*(EXP((A43-$C$22)/$C$21)-1))>0,$C$30*(1-$C$28*(EXP((A43-$C$22)/$C$21)-1)),0)) -> 290.32936 | G43: =IF(A43<=$C$22,($C$5-$C$8)*(F43/$C$12)^(1/$C$11)+$C$8, ($C$29-$C$8)*(F43/$C$30)^(1/$C$11)+$C$8) -> 26.998932 | H43: =IF($C$15=0,B43-$C$6/2, B43-$C$6*EXP(-B43/$C$15)/2) -> -4400.3331 | I43: =IF($C$15=0,B43+$C$6/2, B43+$C$6*EXP(-B43/$C$15)/2) -> 9400.3331
A44: =A43+$C$4 -> 2000 | B44: =A44+1500 -> 3500 | E44: =IF(A44<=$C$22,$C$18*EXP(-A44/$C$20),$C$19*EXP(-(A44-$C$22)/$C$21)) -> 930.34342 | F44: =IF(A44<=$C$22,IF($C$12*(1-$C$26*(EXP(A44/$C$20)-1))>0,$C$12*(1-$C$26*(EXP(A44/$C$20)-1)),0),IF($C$30*(1-$C$28*(EXP((A44-$C$22)/$C$21)-1))>0,$C$30*(1-$C$28*(EXP((A44-$C$22)/$C$21)-1)),0)) -> 279.95824 | G44: =IF(A44<=$C$22,($C$5-$C$8)*(F44/$C$12)^(1/$C$11)+$C$8, ($C$29-$C$8)*(F44/$C$30)^(1/$C$11)+$C$8) -> 25.929467 | H44: =IF($C$15=0,B44-$C$6/2, B44-$C$6*EXP(-B44/$C$15)/2) -> -3174.1133 | I44: =IF($C$15=0,B44+$C$6/2, B44+$C$6*EXP(-B44/$C$15)/2) -> 10174.113
A45: =A44+$C$4 -> 3000 | B45: =A45+1500 -> 4500 | E45: =IF(A45<=$C$22,$C$18*EXP(-A45/$C$20),$C$19*EXP(-(A45-$C$22)/$C$21)) -> 867.50712 | F45: =IF(A45<=$C$22,IF($C$12*(1-$C$26*(EXP(A45/$C$20)-1))>0,$C$12*(1-$C$26*(EXP(A45/$C$20)-1)),0),IF($C$30*(1-$C$28*(EXP((A45-$C$22)/$C$21)-1))>0,$C$30*(1-$C$28*(EXP((A45-$C$22)/$C$21)-1)),0)) -> 268.83591 | G45: =IF(A45<=$C$22,($C$5-$C$8)*(F45/$C$12)^(1/$C$11)+$C$8, ($C$29-$C$8)*(F45/$C$30)^(1/$C$11)+$C$8) -> 24.787424 | H45: =IF($C$15=0,B45-$C$6/2, B45-$C$6*EXP(-B45/$C$15)/2) -> -1955.3098 | I45: =IF($C$15=0,B45+$C$6/2, B45+$C$6*EXP(-B45/$C$15)/2) -> 10955.31
A46: =A45+$C$4 -> 4000 | B46: =A46+1500 -> 5500 | E46: =IF(A46<=$C$22,$C$18*EXP(-A46/$C$20),$C$19*EXP(-(A46-$C$22)/$C$21)) -> 808.91484 | F46: =IF(A46<=$C$22,IF($C$12*(1-$C$26*(EXP(A46/$C$20)-1))>0,$C$12*(1-$C$26*(EXP(A46/$C$20)-1)),0),IF($C$30*(1-$C$28*(EXP((A46-$C$22)/$C$21)-1))>0,$C$30*(1-$C$28*(EXP((A46-$C$22)/$C$21)-1)),0)) -> 256.90795 | G46: =IF(A46<=$C$22,($C$5-$C$8)*(F46/$C$12)^(1/$C$11)+$C$8, ($C$29-$C$8)*(F46/$C$30)^(1/$C$11)+$C$8) -> 23.568486 | H46: =IF($C$15=0,B46-$C$6/2, B46-$C$6*EXP(-B46/$C$15)/2) -> -743.67959 | I46: =IF($C$15=0,B46+$C$6/2, B46+$C$6*EXP(-B46/$C$15)/2) -> 11743.68
A47: =A46+$C$4 -> 5000 | B47: =A47+1500 -> 6500 | E47: =IF(A47<=$C$22,$C$18*EXP(-A47/$C$20),$C$19*EXP(-(A47-$C$22)/$C$21)) -> 754.27994 | F47: =IF(A47<=$C$22,IF($C$12*(1-$C$26*(EXP(A47/$C$20)-1))>0,$C$12*(1-$C$26*(EXP(A47/$C$20)-1)),0),IF($C$30*(1-$C$28*(EXP((A47-$C$22)/$C$21)-1))>0,$C$30*(1-$C$28*(EXP((A47-$C$22)/$C$21)-1)),0)) -> 244.11602 | G47: =IF(A47<=$C$22,($C$5-$C$8)*(F47/$C$12)^(1/$C$11)+$C$8, ($C$29-$C$8)*(F47/$C$30)^(1/$C$11)+$C$8) -> 22.268237 | H47: =IF($C$15=0,B47-$C$6/2, B47-$C$6*EXP(-B47/$C$15)/2) -> 461.01257 | I47: =IF($C$15=0,B47+$C$6/2, B47+$C$6*EXP(-B47/$C$15)/2) -> 12538.987
A48: =A47+$C$4 -> 6000 | B48: =A48+1500 -> 7500 | E48: =IF(A48<=$C$22,$C$18*EXP(-A48/$C$20),$C$19*EXP(-(A48-$C$22)/$C$21)) -> 703.33514 | F48: =IF(A48<=$C$22,IF($C$12*(1-$C$26*(EXP(A48/$C$20)-1))>0,$C$12*(1-$C$26*(EXP(A48/$C$20)-1)),0),IF($C$30*(1-$C$28*(EXP((A48-$C$22)/$C$21)-1))>0,$C$30*(1-$C$28*(EXP((A48-$C$22)/$C$21)-1)),0)) -> 230.39752 | G48: =IF(A48<=$C$22,($C$5-$C$8)*(F48/$C$12)^(1/$C$11)+$C$8, ($C$29-$C$8)*(F48/$C$30)^(1/$C$11)+$C$8) -> 20.882208 | H48: =IF($C$15=0,B48-$C$6/2, B48-$C$6*EXP(-B48/$C$15)/2) -> 1658.9941 | I48: =IF($C$15=0,B48+$C$6/2, B48+$C$6*EXP(-B48/$C$15)/2) -> 13341.006
A49: =A48+$C$4 -> 7000 | B49: =A49+1500 -> 8500 | E49: =IF(A49<=$C$22,$C$18*EXP(-A49/$C$20),$C$19*EXP(-(A49-$C$22)/$C$21)) -> 655.8312 | F49: =IF(A49<=$C$22,IF($C$12*(1-$C$26*(EXP(A49/$C$20)-1))>0,$C$12*(1-$C$26*(EXP(A49/$C$20)-1)),0),IF($C$30*(1-$C$28*(EXP((A49-$C$22)/$C$21)-1))>0,$C$30*(1-$C$28*(EXP((A49-$C$22)/$C$21)-1)),0)) -> 215.68535 | G49: =IF(A49<=$C$22,($C$5-$C$8)*(F49/$C$12)^(1/$C$11)+$C$8, ($C$29-$C$8)*(F49/$C$30)^(1/$C$11)+$C$8) -> 19.40596 | H49: =IF($C$15=0,B49-$C$6/2, B49-$C$6*EXP(-B49/$C$15)/2) -> 2850.4851 | I49: =IF($C$15=0,B49+$C$6/2, B49+$C$6*EXP(-B49/$C$15)/2) -> 14149.515
A50: =A49+$C$4 -> 8000 | B50: =A50+1500 -> 9500 | E50: =IF(A50<=$C$22,$C$18*EXP(-A50/$C$20),$C$19*EXP(-(A50-$C$22)/$C$21)) -> 611.53572 | F50: =IF(A50<=$C$22,IF($C$12*(1-$C$26*(EXP(A50/$C$20)-1))>0,$C$12*(1-$C$26*(EXP(A50/$C$20)-1)),0),IF($C$30*(1-$C$28*(EXP((A50-$C$22)/$C$21)-1))>0,$C$30*(1-$C$28*(EXP((A50-$C$22)/$C$21)-1)),0)) -> 199.90753 | G50: =IF(A50<=$C$22,($C$5-$C$8)*(F50/$C$12)^(1/$C$11)+$C$8, ($C$29-$C$8)*(F50/$C$30)^(1/$C$11)+$C$8) -> 17.835197 | H50: =IF($C$15=0,B50-$C$6/2, B50-$C$6*EXP(-B50/$C$15)/2) -> 4035.6982 | I50: =IF($C$15=0,B50+$C$6/2, B50+$C$6*EXP(-B50/$C$15)/2) -> 14964.302
A51: =A50+$C$4 -> 9000 | B51: =A51+1500 -> 10500 | E51: =IF(A51<=$C$22,$C$18*EXP(-A51/$C$20),$C$19*EXP(-(A51-$C$22)/$C$21)) -> 570.232 | F51: =IF(A51<=$C$22,IF($C$12*(1-$C$26*(EXP(A51/$C$20)-1))>0,$C$12*(1-$C$26*(EXP(A51/$C$20)-1)),0),IF($C$30*(1-$C$28*(EXP((A51-$C$22)/$C$21)-1))>0,$C$30*(1-$C$28*(EXP((A51-$C$22)/$C$21)-1)),0)) -> 182.98687 | G51: =IF(A51<=$C$22,($C$5-$C$8)*(F51/$C$12)^(1/$C$11)+$C$8, ($C$29-$C$8)*(F51/$C$30)^(1/$C$11)+$C$8) -> 16.165941 | H51: =IF($C$15=0,B51-$C$6/2, B51-$C$6*EXP(-B51/$C$15)/2) -> 5214.8393 | I51: =IF($C$15=0,B51+$C$6/2, B51+$C$6*EXP(-B51/$C$15)/2) -> 15785.161
A52: =A51+$C$4 -> 10000 | B52: =A52+1500 -> 11500 | E52: =IF(A52<=$C$22,$C$18*EXP(-A52/$C$20),$C$19*EXP(-(A52-$C$22)/$C$21)) -> 531.71798 | F52: =IF(A52<=$C$22,IF($C$12*(1-$C$26*(EXP(A52/$C$20)-1))>0,$C$12*(1-$C$26*(EXP(A52/$C$20)-1)),0),IF($C$30*(1-$C$28*(EXP((A52-$C$22)/$C$21)-1))>0,$C$30*(1-$C$28*(EXP((A52-$C$22)/$C$21)-1)),0)) -> 164.84059 | G52: =IF(A52<=$C$22,($C$5-$C$8)*(F52/$C$12)^(1/$C$11)+$C$8, ($C$29-$C$8)*(F52/$C$30)^(1/$C$11)+$C$8) -> 14.394802 | H52: =IF($C$15=0,B52-$C$6/2, B52-$C$6*EXP(-B52/$C$15)/2) -> 6388.1075 | I52: =IF($C$15=0,B52+$C$6/2, B52+$C$6*EXP(-B52/$C$15)/2) -> 16611.892
A53: =A52+$C$4 -> 11000 | B53: =A53+1500 -> 12500 | E53: =IF(A53<=$C$22,$C$18*EXP(-A53/$C$20),$C$19*EXP(-(A53-$C$22)/$C$21)) -> 495.80523 | F53: =IF(A53<=$C$22,IF($C$12*(1-$C$26*(EXP(A53/$C$20)-1))>0,$C$12*(1-$C$26*(EXP(A53/$C$20)-1)),0),IF($C$30*(1-$C$28*(EXP((A53-$C$22)/$C$21)-1))>0,$C$30*(1-$C$28*(EXP((A53-$C$22)/$C$21)-1)),0)) -> 145.37992 | G53: =IF(A53<=$C$22,($C$5-$C$8)*(F53/$C$12)^(1/$C$11)+$C$8, ($C$29-$C$8)*(F53/$C$30)^(1/$C$11)+$C$8) -> 12.519408 | H53: =IF($C$15=0,B53-$C$6/2, B53-$C$6*EXP(-B53/$C$15)/2) -> 7555.6953 | I53: =IF($C$15=0,B53+$C$6/2, B53+$C$6*EXP(-B53/$C$15)/2) -> 17444.305
A54: =A53+$C$4 -> 12000 | B54: =A54+1500 -> 13500 | E54: =IF(A54<=$C$22,$C$18*EXP(-A54/$C$20),$C$19*EXP(-(A54-$C$22)/$C$21)) -> 462.31806 | F54: =IF(A54<=$C$22,IF($C$12*(1-$C$26*(EXP(A54/$C$20)-1))>0,$C$12*(1-$C$26*(EXP(A54/$C$20)-1)),0),IF($C$30*(1-$C$28*(EXP((A54-$C$22)/$C$21)-1))>0,$C$30*(1-$C$28*(EXP((A54-$C$22)/$C$21)-1)),0)) -> 124.50966 | G54: =IF(A54<=$C$22,($C$5-$C$8)*(F54/$C$12)^(1/$C$11)+$C$8, ($C$29-$C$8)*(F54/$C$30)^(1/$C$11)+$C$8) -> 10.539123 | H54: =IF($C$15=0,B54-$C$6/2, B54-$C$6*EXP(-B54/$C$15)/2) -> 8717.7889 | I54: =IF($C$15=0,B54+$C$6/2, B54+$C$6*EXP(-B54/$C$15)/2) -> 18282.211
... A168: =A167+$C$4 -> 126000 | B168: =A168+1500 -> 127500 | E168: =IF(A168<=$C$22,$C$18*EXP(-A168/$C$20),$C$19*EXP(-(A168-$C$22)/$C$21)) -> 0.15948987 | F168: =IF(A168<=$C$22,IF($C$12*(1-$C$26*(EXP(A168/$C$20)-1))>0,$C$12*(1-$C$26*(EXP(A168/$C$20)-1)),0),IF($C$30*(1-$C$28*(EXP((A168-$C$22)/$C$21)-1))>0,$C$30*(1-$C$28*(EXP((A168-$C$22)/$C$21)-1)),0)) -> 0 | G168: =IF(A168<=$C$22,($C$5-$C$8)*(F168/$C$12)^(1/$C$11)+$C$8, ($C$29-$C$8)*(F168/$C$30)^(1/$C$11)+$C$8) -> 0 | H168: =IF($C$15=0,B168-$C$6/2, B168-$C$6*EXP(-B168/$C$15)/2) -> 127393.02 | I168: =IF($C$15=0,B168+$C$6/2, B168+$C$6*EXP(-B168/$C$15)/2) -> 127606.98
