Workbook

Sheet Overview
B2: This sheet is provided as a tool to calculate salt intrusion in alluvial estuaries. It uses the analytical model as described in Salinity and Tides by H.H.G Savenije 2005
B14: Estuary
B15: Westerschelde
B17: Geometry
B18: Area at mouth | C18: A0 | D18: 273000 | E18: m2
B19: Area at x1 | C19: A1 | D19: =D18*EXP(-D22/D20) -> 4643.1719 | E19: m2
B20: Convergence length | C20: a1 | D20: 27000 | E20: m
B21: Convergence length 2 | C21: a2 | D21: 18000 | E21: m
B22: Inflection point | C22: x1 | D22: 110000 | E22: m
B23: Depth | C23: h0 | D23: 10.5 | E23: m
B25: Measurements
B26: 36832
B27: Model Duc

Sheet 2 Nov 2000
A1: STEADY SALT INTRUSION MODEL (TA)
A2: Scheldt November 2000
A3: Input | F3: Measurements
A4: Step length | B4: dx | C4: 1000 | D4: m | F4: x (m) | G4: HWS | H4: x (m) | I4: LWS
A5: Sea salinity | B5: S0 | C5: 33 | D5: kg/m3 | F5: 30391.026 | G5: 30 | H5: 30391.026 | I5: 28.5
A6: Tidal Excursion | B6: E0 | C6: 12000 | D6: m | F6: 38391.026 | G6: 28 | H6: 38391.026 | I6: 26.1
A7: Tidal Range | B7: H | C7: 4 | D7: m | F7: 50141.026 | G7: 27 | H7: 60766.026 | I7: 17.9
A8: Fresh water salinity | B8: Cf | C8: 0 | D8: kg/m3 | F8: 60766.026 | G8: 23 | H8: 73141.026 | I8: 12.7
F9: 73141.026 | G9: 17.5 | H9: 81266.026 | I9: 13.9
A10: Calibration parameters | F10: 86766.026 | G10: 11 | H10: 86766.026 | I10: 8.3
A11: Van Den Burgh | B11: K | C11: 0.25 | F11: 94516.026 | G11: 9 | H11: 10641.026 | I11: 31.6
A12: Dispersion at mouth | B12: Do | C12: 450 | D12: m2/s | F12: 30391.026 | G12: 31.2 | H12: 14391.026 | I12: 30.8
A13: Discharge | B13: Q | C13: 220 | D13: m3/s | F13: 33391.026 | G13: 31.8 | H13: 26891.026 | I13: 29.7
A14: Alpha 0 | B14: α0 | C14: =C12/C13 -> 2.0454545 | D14: 1/m | F14: 36641.026 | G14: 30.3 | H14: 30391.026 | I14: 28.9
F15: 39641.026 | G15: 28.8 | H15: 33391.026 | I15: 29.8
A16: Geometry | F16: 45141.026 | G16: 26.7 | H16: 36641.026 | I16: 26.3
A17: Area at mouth | B17: A0 | C17: =Overview!D18 -> 273000 | D17: m2 | F17: 50141.026 | G17: 25.6 | H17: 45141.026 | I17: 23.4
A18: Area at x1 | B18: A1 | C18: =Overview!D19 -> 4643.1719 | D18: m2 | F18: 61141.026 | G18: 22.2 | H18: 50141.026 | I18: 22.9
A19: Convergence length | B19: a1 | C19: =Overview!D20 -> 27000 | D19: m | F19: 66516.026 | G19: 22.3 | H19: 53641.026 | I19: 21
A20: Convergence length 2 | B20: a2 | C20: =Overview!D21 -> 18000 | D20: m | F20: 77391.026 | G20: 16.1 | H20: 61141.026 | I20: 19.5
A21: Inflection point | B21: x1 | C21: =Overview!D22 -> 110000 | D21: m | H21: 66516.026 | I21: 17.6
A22: Depth | B22: h0 | C22: =Overview!D23 -> 10.5 | D22: m | H22: 73141.026 | I22: 13.5
H23: 77391.026 | I23: 12.1
H24: 83266.026 | I24: 10.2
H25: 86766.026 | I25: 9.1
H26: 91516.026 | I26: 7.7
H27: 94516.026 | I27: 6.4
H28: 97766.026 | I28: 5.1 | K28: Observation:
H29: 102891.03 | I29: 3.2 | K29: The green dots were done by a moving boat which was too slow. In the upstream part the observations were not made at LWS but later.
H30: 108391.03 | I30: 1
A33: Calculations | F33: REMARKS
A34: Beta | B34: β | C34: =$C$11*$C$19/C$14/$C$17 -> 0.012087912
A35: Alpha 1 | B35: α1 | C35: =C38/C13 -> 0.61643221 | D35: 1/m
A36: Beta1 | B36: β1 | C36: =C11*C20/C35/C18 -> 1.5722168
A37: Salinity at x1 | B37: S1 | C37: =($C$5-$C$8)*(C38/C12)^(1/$C$11)+$C$8 -> 0.27220487 | D37: kg/m3
A38: Dispersion at x1 | B38: D1 | C38: =C12*(1-C34*(EXP(C21/C19)-1)) -> 135.61509
A40: x: | B40: Shifted x | E40: A | F40: D | G40: S | H40: xLWS | I40: xHWS
A41: =A42-$C$4-9000 -> -18000 | E41: =IF(A41<=$C$21,$C$17*EXP(-A41/$C$19),$C$18*EXP(-(A41-$C$21)/$C$20)) -> 531731.39 | F41: =IF(A41<=$C$21,IF($C$12*(1-$C$34*(EXP(A41/$C$19)-1))>0,$C$12*(1-$C$34*(EXP(A41/$C$19)-1)),0),IF($C$38*(1-$C$36*(EXP((A41-$C$21)/$C$20)-1))>0,$C$38*(1-$C$36*(EXP((A41-$C$21)/$C$20)-1)),0)) -> 452.6468 | G41: =IF(A41<=$C$21,($C$5-$C$8)*(F41/$C$12)^(1/$C$11)+$C$8, ($C$37-$C$8)*(F41/$C$38)^(1/$C$11)+$C$8) -> 33.783271 | H41: =A41-$C$6/2 -> -24000 | I41: =A41+$C$6/2 -> -12000
A42: =A43-$C$4 -> -8000 | E42: =IF(A42<=$C$21,$C$17*EXP(-A42/$C$19),$C$18*EXP(-(A42-$C$21)/$C$20)) -> 367149.12 | F42: =IF(A42<=$C$21,IF($C$12*(1-$C$34*(EXP(A42/$C$19)-1))>0,$C$12*(1-$C$34*(EXP(A42/$C$19)-1)),0),IF($C$38*(1-$C$36*(EXP((A42-$C$21)/$C$20)-1))>0,$C$38*(1-$C$36*(EXP((A42-$C$21)/$C$20)-1)),0)) -> 451.39488 | G42: =IF(A42<=$C$21,($C$5-$C$8)*(F42/$C$12)^(1/$C$11)+$C$8, ($C$37-$C$8)*(F42/$C$38)^(1/$C$11)+$C$8) -> 33.411072 | H42: =A42-$C$6/2 -> -14000 | I42: =A42+$C$6/2 -> -2000
A43: =A44-$C$4 -> -7000 | E43: =IF(A43<=$C$21,$C$17*EXP(-A43/$C$19),$C$18*EXP(-(A43-$C$21)/$C$20)) -> 353799.74 | F43: =IF(A43<=$C$21,IF($C$12*(1-$C$34*(EXP(A43/$C$19)-1))>0,$C$12*(1-$C$34*(EXP(A43/$C$19)-1)),0),IF($C$38*(1-$C$36*(EXP((A43-$C$21)/$C$20)-1))>0,$C$38*(1-$C$36*(EXP((A43-$C$21)/$C$20)-1)),0)) -> 451.24227 | G43: =IF(A43<=$C$21,($C$5-$C$8)*(F43/$C$12)^(1/$C$11)+$C$8, ($C$37-$C$8)*(F43/$C$38)^(1/$C$11)+$C$8) -> 33.365911 | H43: =A43-$C$6/2 -> -13000 | I43: =A43+$C$6/2 -> -1000
A44: =A45-$C$4 -> -6000 | E44: =IF(A44<=$C$21,$C$17*EXP(-A44/$C$19),$C$18*EXP(-(A44-$C$21)/$C$20)) -> 340935.74 | F44: =IF(A44<=$C$21,IF($C$12*(1-$C$34*(EXP(A44/$C$19)-1))>0,$C$12*(1-$C$34*(EXP(A44/$C$19)-1)),0),IF($C$38*(1-$C$36*(EXP((A44-$C$21)/$C$20)-1))>0,$C$38*(1-$C$36*(EXP((A44-$C$21)/$C$20)-1)),0)) -> 451.0839 | G44: =IF(A44<=$C$21,($C$5-$C$8)*(F44/$C$12)^(1/$C$11)+$C$8, ($C$37-$C$8)*(F44/$C$38)^(1/$C$11)+$C$8) -> 33.319095 | H44: =A44-$C$6/2 -> -12000 | I44: =A44+$C$6/2 -> 0
A45: =A46-$C$4 -> -5000 | E45: =IF(A45<=$C$21,$C$17*EXP(-A45/$C$19),$C$18*EXP(-(A45-$C$21)/$C$20)) -> 328539.47 | F45: =IF(A45<=$C$21,IF($C$12*(1-$C$34*(EXP(A45/$C$19)-1))>0,$C$12*(1-$C$34*(EXP(A45/$C$19)-1)),0),IF($C$38*(1-$C$36*(EXP((A45-$C$21)/$C$20)-1))>0,$C$38*(1-$C$36*(EXP((A45-$C$21)/$C$20)-1)),0)) -> 450.91956 | G45: =IF(A45<=$C$21,($C$5-$C$8)*(F45/$C$12)^(1/$C$11)+$C$8, ($C$37-$C$8)*(F45/$C$38)^(1/$C$11)+$C$8) -> 33.270564 | H45: =A45-$C$6/2 -> -11000 | I45: =A45+$C$6/2 -> 1000
A46: =A47-$C$4 -> -4000 | E46: =IF(A46<=$C$21,$C$17*EXP(-A46/$C$19),$C$18*EXP(-(A46-$C$21)/$C$20)) -> 316593.92 | F46: =IF(A46<=$C$21,IF($C$12*(1-$C$34*(EXP(A46/$C$19)-1))>0,$C$12*(1-$C$34*(EXP(A46/$C$19)-1)),0),IF($C$38*(1-$C$36*(EXP((A46-$C$21)/$C$20)-1))>0,$C$38*(1-$C$36*(EXP((A46-$C$21)/$C$20)-1)),0)) -> 450.74901 | G46: =IF(A46<=$C$21,($C$5-$C$8)*(F46/$C$12)^(1/$C$11)+$C$8, ($C$37-$C$8)*(F46/$C$38)^(1/$C$11)+$C$8) -> 33.220259 | H46: =A46-$C$6/2 -> -10000 | I46: =A46+$C$6/2 -> 2000
A47: =A48-$C$4 -> -3000 | E47: =IF(A47<=$C$21,$C$17*EXP(-A47/$C$19),$C$18*EXP(-(A47-$C$21)/$C$20)) -> 305082.71 | F47: =IF(A47<=$C$21,IF($C$12*(1-$C$34*(EXP(A47/$C$19)-1))>0,$C$12*(1-$C$34*(EXP(A47/$C$19)-1)),0),IF($C$38*(1-$C$36*(EXP((A47-$C$21)/$C$20)-1))>0,$C$38*(1-$C$36*(EXP((A47-$C$21)/$C$20)-1)),0)) -> 450.57203 | G47: =IF(A47<=$C$21,($C$5-$C$8)*(F47/$C$12)^(1/$C$11)+$C$8, ($C$37-$C$8)*(F47/$C$38)^(1/$C$11)+$C$8) -> 33.168115 | H47: =A47-$C$6/2 -> -9000 | I47: =A47+$C$6/2 -> 3000
A48: =A49-$C$4 -> -2000 | E48: =IF(A48<=$C$21,$C$17*EXP(-A48/$C$19),$C$18*EXP(-(A48-$C$21)/$C$20)) -> 293990.03 | F48: =IF(A48<=$C$21,IF($C$12*(1-$C$34*(EXP(A48/$C$19)-1))>0,$C$12*(1-$C$34*(EXP(A48/$C$19)-1)),0),IF($C$38*(1-$C$36*(EXP((A48-$C$21)/$C$20)-1))>0,$C$38*(1-$C$36*(EXP((A48-$C$21)/$C$20)-1)),0)) -> 450.38837 | G48: =IF(A48<=$C$21,($C$5-$C$8)*(F48/$C$12)^(1/$C$11)+$C$8, ($C$37-$C$8)*(F48/$C$38)^(1/$C$11)+$C$8) -> 33.114069 | H48: =A48-$C$6/2 -> -8000 | I48: =A48+$C$6/2 -> 4000
A49: =A50-$C$4 -> -1000 | E49: =IF(A49<=$C$21,$C$17*EXP(-A49/$C$19),$C$18*EXP(-(A49-$C$21)/$C$20)) -> 283300.69 | F49: =IF(A49<=$C$21,IF($C$12*(1-$C$34*(EXP(A49/$C$19)-1))>0,$C$12*(1-$C$34*(EXP(A49/$C$19)-1)),0),IF($C$38*(1-$C$36*(EXP((A49-$C$21)/$C$20)-1))>0,$C$38*(1-$C$36*(EXP((A49-$C$21)/$C$20)-1)),0)) -> 450.19778 | G49: =IF(A49<=$C$21,($C$5-$C$8)*(F49/$C$12)^(1/$C$11)+$C$8, ($C$37-$C$8)*(F49/$C$38)^(1/$C$11)+$C$8) -> 33.058054 | H49: =A49-$C$6/2 -> -7000 | I49: =A49+$C$6/2 -> 5000
A50: 0 | E50: =IF(A50<=$C$21,$C$17*EXP(-A50/$C$19),$C$18*EXP(-(A50-$C$21)/$C$20)) -> 273000 | F50: =IF(A50<=$C$21,IF($C$12*(1-$C$34*(EXP(A50/$C$19)-1))>0,$C$12*(1-$C$34*(EXP(A50/$C$19)-1)),0),IF($C$38*(1-$C$36*(EXP((A50-$C$21)/$C$20)-1))>0,$C$38*(1-$C$36*(EXP((A50-$C$21)/$C$20)-1)),0)) -> 450 | G50: =IF(A50<=$C$21,($C$5-$C$8)*(F50/$C$12)^(1/$C$11)+$C$8, ($C$37-$C$8)*(F50/$C$38)^(1/$C$11)+$C$8) -> 33 | H50: =A50-$C$6/2 -> -6000 | I50: =A50+$C$6/2 -> 6000
A51: =A50+$C$4 -> 1000 | E51: =IF(A51<=$C$21,$C$17*EXP(-A51/$C$19),$C$18*EXP(-(A51-$C$21)/$C$20)) -> 263073.84 | F51: =IF(A51<=$C$21,IF($C$12*(1-$C$34*(EXP(A51/$C$19)-1))>0,$C$12*(1-$C$34*(EXP(A51/$C$19)-1)),0),IF($C$38*(1-$C$36*(EXP((A51-$C$21)/$C$20)-1))>0,$C$38*(1-$C$36*(EXP((A51-$C$21)/$C$20)-1)),0)) -> 449.79476 | G51: =IF(A51<=$C$21,($C$5-$C$8)*(F51/$C$12)^(1/$C$11)+$C$8, ($C$37-$C$8)*(F51/$C$38)^(1/$C$11)+$C$8) -> 32.939837 | H51: =A51-$C$6/2 -> -5000 | I51: =A51+$C$6/2 -> 7000
A52: =A51+$C$4 -> 2000 | E52: =IF(A52<=$C$21,$C$17*EXP(-A52/$C$19),$C$18*EXP(-(A52-$C$21)/$C$20)) -> 253508.59 | F52: =IF(A52<=$C$21,IF($C$12*(1-$C$34*(EXP(A52/$C$19)-1))>0,$C$12*(1-$C$34*(EXP(A52/$C$19)-1)),0),IF($C$38*(1-$C$36*(EXP((A52-$C$21)/$C$20)-1))>0,$C$38*(1-$C$36*(EXP((A52-$C$21)/$C$20)-1)),0)) -> 449.58177 | G52: =IF(A52<=$C$21,($C$5-$C$8)*(F52/$C$12)^(1/$C$11)+$C$8, ($C$37-$C$8)*(F52/$C$38)^(1/$C$11)+$C$8) -> 32.87749 | H52: =A52-$C$6/2 -> -4000 | I52: =A52+$C$6/2 -> 8000
A53: =A52+$C$4 -> 3000 | E53: =IF(A53<=$C$21,$C$17*EXP(-A53/$C$19),$C$18*EXP(-(A53-$C$21)/$C$20)) -> 244291.13 | F53: =IF(A53<=$C$21,IF($C$12*(1-$C$34*(EXP(A53/$C$19)-1))>0,$C$12*(1-$C$34*(EXP(A53/$C$19)-1)),0),IF($C$38*(1-$C$36*(EXP((A53-$C$21)/$C$20)-1))>0,$C$38*(1-$C$36*(EXP((A53-$C$21)/$C$20)-1)),0)) -> 449.36075 | G53: =IF(A53<=$C$21,($C$5-$C$8)*(F53/$C$12)^(1/$C$11)+$C$8, ($C$37-$C$8)*(F53/$C$38)^(1/$C$11)+$C$8) -> 32.812885 | H53: =A53-$C$6/2 -> -3000 | I53: =A53+$C$6/2 -> 9000
A54: =A53+$C$4 -> 4000 | E54: =IF(A54<=$C$21,$C$17*EXP(-A54/$C$19),$C$18*EXP(-(A54-$C$21)/$C$20)) -> 235408.82 | F54: =IF(A54<=$C$21,IF($C$12*(1-$C$34*(EXP(A54/$C$19)-1))>0,$C$12*(1-$C$34*(EXP(A54/$C$19)-1)),0),IF($C$38*(1-$C$36*(EXP((A54-$C$21)/$C$20)-1))>0,$C$38*(1-$C$36*(EXP((A54-$C$21)/$C$20)-1)),0)) -> 449.13139 | G54: =IF(A54<=$C$21,($C$5-$C$8)*(F54/$C$12)^(1/$C$11)+$C$8, ($C$37-$C$8)*(F54/$C$38)^(1/$C$11)+$C$8) -> 32.745943 | H54: =A54-$C$6/2 -> -2000 | I54: =A54+$C$6/2 -> 10000
A55: =A54+$C$4 -> 5000 | E55: =IF(A55<=$C$21,$C$17*EXP(-A55/$C$19),$C$18*EXP(-(A55-$C$21)/$C$20)) -> 226849.46 | F55: =IF(A55<=$C$21,IF($C$12*(1-$C$34*(EXP(A55/$C$19)-1))>0,$C$12*(1-$C$34*(EXP(A55/$C$19)-1)),0),IF($C$38*(1-$C$36*(EXP((A55-$C$21)/$C$20)-1))>0,$C$38*(1-$C$36*(EXP((A55-$C$21)/$C$20)-1)),0)) -> 448.89337 | G55: =IF(A55<=$C$21,($C$5-$C$8)*(F55/$C$12)^(1/$C$11)+$C$8, ($C$37-$C$8)*(F55/$C$38)^(1/$C$11)+$C$8) -> 32.676584 | H55: =A55-$C$6/2 -> -1000 | I55: =A55+$C$6/2 -> 11000
A56: =A55+$C$4 -> 6000 | E56: =IF(A56<=$C$21,$C$17*EXP(-A56/$C$19),$C$18*EXP(-(A56-$C$21)/$C$20)) -> 218601.31 | F56: =IF(A56<=$C$21,IF($C$12*(1-$C$34*(EXP(A56/$C$19)-1))>0,$C$12*(1-$C$34*(EXP(A56/$C$19)-1)),0),IF($C$38*(1-$C$36*(EXP((A56-$C$21)/$C$20)-1))>0,$C$38*(1-$C$36*(EXP((A56-$C$21)/$C$20)-1)),0)) -> 448.64637 | G56: =IF(A56<=$C$21,($C$5-$C$8)*(F56/$C$12)^(1/$C$11)+$C$8, ($C$37-$C$8)*(F56/$C$38)^(1/$C$11)+$C$8) -> 32.604724 | H56: =A56-$C$6/2 -> 0 | I56: =A56+$C$6/2 -> 12000
A57: =A56+$C$4 -> 7000 | E57: =IF(A57<=$C$21,$C$17*EXP(-A57/$C$19),$C$18*EXP(-(A57-$C$21)/$C$20)) -> 210653.06 | F57: =IF(A57<=$C$21,IF($C$12*(1-$C$34*(EXP(A57/$C$19)-1))>0,$C$12*(1-$C$34*(EXP(A57/$C$19)-1)),0),IF($C$38*(1-$C$36*(EXP((A57-$C$21)/$C$20)-1))>0,$C$38*(1-$C$36*(EXP((A57-$C$21)/$C$20)-1)),0)) -> 448.39005 | G57: =IF(A57<=$C$21,($C$5-$C$8)*(F57/$C$12)^(1/$C$11)+$C$8, ($C$37-$C$8)*(F57/$C$38)^(1/$C$11)+$C$8) -> 32.530278 | H57: =A57-$C$6/2 -> 1000 | I57: =A57+$C$6/2 -> 13000
A58: =A57+$C$4 -> 8000 | E58: =IF(A58<=$C$21,$C$17*EXP(-A58/$C$19),$C$18*EXP(-(A58-$C$21)/$C$20)) -> 202993.81 | F58: =IF(A58<=$C$21,IF($C$12*(1-$C$34*(EXP(A58/$C$19)-1))>0,$C$12*(1-$C$34*(EXP(A58/$C$19)-1)),0),IF($C$38*(1-$C$36*(EXP((A58-$C$21)/$C$20)-1))>0,$C$38*(1-$C$36*(EXP((A58-$C$21)/$C$20)-1)),0)) -> 448.12407 | G58: =IF(A58<=$C$21,($C$5-$C$8)*(F58/$C$12)^(1/$C$11)+$C$8, ($C$37-$C$8)*(F58/$C$38)^(1/$C$11)+$C$8) -> 32.453158 | H58: =A58-$C$6/2 -> 2000 | I58: =A58+$C$6/2 -> 14000
A59: =A58+$C$4 -> 9000 | E59: =IF(A59<=$C$21,$C$17*EXP(-A59/$C$19),$C$18*EXP(-(A59-$C$21)/$C$20)) -> 195613.05 | F59: =IF(A59<=$C$21,IF($C$12*(1-$C$34*(EXP(A59/$C$19)-1))>0,$C$12*(1-$C$34*(EXP(A59/$C$19)-1)),0),IF($C$38*(1-$C$36*(EXP((A59-$C$21)/$C$20)-1))>0,$C$38*(1-$C$36*(EXP((A59-$C$21)/$C$20)-1)),0)) -> 447.84804 | G59: =IF(A59<=$C$21,($C$5-$C$8)*(F59/$C$12)^(1/$C$11)+$C$8, ($C$37-$C$8)*(F59/$C$38)^(1/$C$11)+$C$8) -> 32.373273 | H59: =A59-$C$6/2 -> 3000 | I59: =A59+$C$6/2 -> 15000
A60: =A59+$C$4 -> 10000 | E60: =IF(A60<=$C$21,$C$17*EXP(-A60/$C$19),$C$18*EXP(-(A60-$C$21)/$C$20)) -> 188500.64 | F60: =IF(A60<=$C$21,IF($C$12*(1-$C$34*(EXP(A60/$C$19)-1))>0,$C$12*(1-$C$34*(EXP(A60/$C$19)-1)),0),IF($C$38*(1-$C$36*(EXP((A60-$C$21)/$C$20)-1))>0,$C$38*(1-$C$36*(EXP((A60-$C$21)/$C$20)-1)),0)) -> 447.5616 | G60: =IF(A60<=$C$21,($C$5-$C$8)*(F60/$C$12)^(1/$C$11)+$C$8, ($C$37-$C$8)*(F60/$C$38)^(1/$C$11)+$C$8) -> 32.29053 | H60: =A60-$C$6/2 -> 4000 | I60: =A60+$C$6/2 -> 16000
A61: =A60+$C$4 -> 11000 | E61: =IF(A61<=$C$21,$C$17*EXP(-A61/$C$19),$C$18*EXP(-(A61-$C$21)/$C$20)) -> 181646.84 | F61: =IF(A61<=$C$21,IF($C$12*(1-$C$34*(EXP(A61/$C$19)-1))>0,$C$12*(1-$C$34*(EXP(A61/$C$19)-1)),0),IF($C$38*(1-$C$36*(EXP((A61-$C$21)/$C$20)-1))>0,$C$38*(1-$C$36*(EXP((A61-$C$21)/$C$20)-1)),0)) -> 447.26436 | G61: =IF(A61<=$C$21,($C$5-$C$8)*(F61/$C$12)^(1/$C$11)+$C$8, ($C$37-$C$8)*(F61/$C$38)^(1/$C$11)+$C$8) -> 32.204832 | H61: =A61-$C$6/2 -> 5000 | I61: =A61+$C$6/2 -> 17000
A62: =A61+$C$4 -> 12000 | E62: =IF(A62<=$C$21,$C$17*EXP(-A62/$C$19),$C$18*EXP(-(A62-$C$21)/$C$20)) -> 175042.25 | F62: =IF(A62<=$C$21,IF($C$12*(1-$C$34*(EXP(A62/$C$19)-1))>0,$C$12*(1-$C$34*(EXP(A62/$C$19)-1)),0),IF($C$38*(1-$C$36*(EXP((A62-$C$21)/$C$20)-1))>0,$C$38*(1-$C$36*(EXP((A62-$C$21)/$C$20)-1)),0)) -> 446.95589 | G62: =IF(A62<=$C$21,($C$5-$C$8)*(F62/$C$12)^(1/$C$11)+$C$8, ($C$37-$C$8)*(F62/$C$38)^(1/$C$11)+$C$8) -> 32.116082 | H62: =A62-$C$6/2 -> 6000 | I62: =A62+$C$6/2 -> 18000
... A176: =A175+$C$4 -> 126000 | E176: =IF(A176<=$C$21,$C$17*EXP(-A176/$C$19),$C$18*EXP(-(A176-$C$21)/$C$20)) -> 1908.865 | F176: =IF(A176<=$C$21,IF($C$12*(1-$C$34*(EXP(A176/$C$19)-1))>0,$C$12*(1-$C$34*(EXP(A176/$C$19)-1)),0),IF($C$38*(1-$C$36*(EXP((A176-$C$21)/$C$20)-1))>0,$C$38*(1-$C$36*(EXP((A176-$C$21)/$C$20)-1)),0)) -> 0 | G176: =IF(A176<=$C$21,($C$5-$C$8)*(F176/$C$12)^(1/$C$11)+$C$8, ($C$37-$C$8)*(F176/$C$38)^(1/$C$11)+$C$8) -> 0 | H176: =A176-$C$6/2 -> 120000 | I176: =A176+$C$6/2 -> 132000

Sheet Duc
A1: STEADY SALT INTRUSION MODEL (TA)
A2: Scheldt
A3: Input | F3: Measurements
A4: Step length | B4: dx | C4: 1000 | D4: m | F4: x (m) | G4: HWS | H4: x (m) | I4: LWS
A5: Sea salinity | B5: S0 | C5: 33 | D5: kg/m3 | F5: 0 | G5: 34.068 | H5: 0 | I5: 32.603
A6: Tidal Excursion | B6: E0 | C6: 11500 | D6: m | F6: 2176 | G6: 33.877 | H6: 2176 | I6: 31.532
A7: Tidal Range | B7: H | C7: 3.5 | D7: m | F7: 4938.1674 | G7: 33.547 | H7: 4938.1674 | I7: 30.614
A8: Fresh water salinity | B8: Cf | C8: 0 | D8: kg/m3 | F8: 8288.2649 | G8: 33.182 | H8: 8288.2649 | I8: 29.59
F9: 11305.958 | G9: 32.712 | H9: 11305.958 | I9: 28.581
A10: Calibration parameters | F10: 13672.613 | G10: 32.18 | H10: 13672.613 | I10: 27.891
A11: Van Den Burgh | B11: K | C11: 0.25 | F11: 15728.669 | G11: 31.764 | H11: 15728.669 | I11: 27.721
A12: Dispersion at mouth | B12: Do | C12: 150 | D12: m2/s | F12: 18491.226 | G12: 30.686 | H12: 18491.226 | I12: 26.854
A13: Discharge | B13: Q | C13: 150 | D13: m3/s | F13: 20142.252 | G13: 30.153 | H13: 20142.252 | I13: 26.439
A14: Alpha 0 | B14: α0 | C14: =C12/C13 -> 1 | D14: 1/m | F14: 22009.108 | G14: 29.507 | H14: 22009.108 | I14: 26.116
A15: Convergence Excursion | B15: e | C15: 10000000 | D15: m
F16: 23745.077 | G16: 28.658 | H16: 23745.077 | I16: 24.854
A17: Geometry | F17: 25462.088 | G17: 28.505 | H17: 25462.088 | I17: 25.283
A18: Area at mouth | B18: A0 | C18: =Overview!D18 -> 273000 | D18: m2 | F18: 27865.653 | G18: 27.736 | H18: 27865.653 | I18: 24.601
A19: Area at x1 | B19: A1 | C19: =Overview!D19 -> 4643.1719 | D19: m2 | F19: 30523.547 | G19: 26.937 | H19: 30523.547 | I19: 23.389
A20: Convergence length | B20: a1 | C20: =Overview!D20 -> 27000 | D20: m | F20: 32573.985 | G20: 26.504 | H20: 32573.985 | I20: 23.087
A21: Convergence length 2 | B21: a2 | C21: =Overview!D21 -> 18000 | D21: m | F21: 34101.414 | G21: 26.259 | H21: 34101.414 | I21: 22.75
A22: Inflection point | B22: x1 | C22: =Overview!D22 -> 110000 | D22: m | F22: 35815.974 | G22: 24.104 | H22: 35815.974 | I22: 21.075
A23: Depth | B23: h0 | C23: =Overview!D23 -> 10.5 | D23: m | F23: 38013.327 | H23: 38013.327
F24: 41018.907 | G24: 23.378 | H24: 41018.907 | I24: 20.116
F25: 43003.485 | G25: 22.12 | H25: 43003.485 | I25: 18.686
F26: 45208.952 | G26: 23.716 | H26: 45208.952 | I26: 19.954
F27: 47857.937 | G27: 22.737 | H27: 47857.937 | I27: 18.472
F28: 49748.018 | G28: 21.298 | H28: 49748.018 | I28: 17.226
F29: 51049.457 | G29: 20.42 | H29: 51049.457 | I29: 15.647
F30: 52753.684 | G30: 20.183 | H30: 52753.684 | I30: 14.498
F31: 54063.249 | G31: 19.184 | H31: 54063.249 | I31: 13.142
F32: 56808.128 | G32: 18.944 | H32: 56808.128 | I32: 12.407
F33: 59055.469 | G33: 17.459 | H33: 59055.469 | I33: 10.882
F34: 60399.293 | G34: 17.152 | H34: 60399.293 | I34: 10.168
F35: 61680.621 | G35: 16.481 | H35: 61680.621 | I35: 9.6917
... F53: 103188.79 | G53: 0.033723 | H53: 103188.79 | I53: 0.027662
A55: Calculations | F55: REMARKS
A56: Beta | B56: β | C56: =$C$11*$C$20/C$14/$C$18 -> 0.024725275
A57: Alpha 1 | B57: α1 | C57: =C60/C13 -> -0.42902234 | D57: 1/m
A58: Beta1 | B58: β1 | C58: =C11*C21/C57/C19 -> -2.2590084
A59: Salinity at x1 | B59: S1 | C59: =($C$5-$C$8)*(C60/C12)^(1/$C$11)+$C$8 -> 1.1179788 | D59: kg/m3
A60: Dispersion at x1 | B60: D1 | C60: =C12*(1-C56*(EXP(C22/C20)-1)) -> -64.353351
A62: x: | B62: Shifted x | E62: A | F62: D | G62: S | H62: xLWS | I62: xHWS
A63: =A64-$C$4-9000 -> -18000 | E63: =IF(A63<=$C$22,$C$18*EXP(-A63/$C$20),$C$19*EXP(-(A63-$C$22)/$C$21)) -> 531731.39 | F63: =IF(A63<=$C$22,IF($C$12*(1-$C$56*(EXP(A63/$C$20)-1))>0,$C$12*(1-$C$56*(EXP(A63/$C$20)-1)),0),IF($C$60*(1-$C$58*(EXP((A63-$C$22)/$C$21)-1))>0,$C$60*(1-$C$58*(EXP((A63-$C$22)/$C$21)-1)),0)) -> 151.80463 | G63: =IF(A63<=$C$22,($C$5-$C$8)*(F63/$C$12)^(1/$C$11)+$C$8, ($C$59-$C$8)*(F63/$C$60)^(1/$C$11)+$C$8) -> 34.616968 | H63: =IF($C$15=0,A63-$C$6/2, A63-$C$6*EXP(-A63/$C$15)/2) -> -23760.359 | I63: =IF($C$15=0,A63+$C$6/2, A63+$C$6*EXP(-A63/$C$15)/2) -> -12239.641
A64: =A65-$C$4 -> -8000 | E64: =IF(A64<=$C$22,$C$18*EXP(-A64/$C$20),$C$19*EXP(-(A64-$C$22)/$C$21)) -> 367149.12 | F64: =IF(A64<=$C$22,IF($C$12*(1-$C$56*(EXP(A64/$C$20)-1))>0,$C$12*(1-$C$56*(EXP(A64/$C$20)-1)),0),IF($C$60*(1-$C$58*(EXP((A64-$C$22)/$C$21)-1))>0,$C$60*(1-$C$58*(EXP((A64-$C$22)/$C$21)-1)),0)) -> 150.95106 | G64: =IF(A64<=$C$22,($C$5-$C$8)*(F64/$C$12)^(1/$C$11)+$C$8, ($C$59-$C$8)*(F64/$C$60)^(1/$C$11)+$C$8) -> 33.844923 | H64: =IF($C$15=0,A64-$C$6/2, A64-$C$6*EXP(-A64/$C$15)/2) -> -13754.602 | I64: =IF($C$15=0,A64+$C$6/2, A64+$C$6*EXP(-A64/$C$15)/2) -> -2245.3982
A65: =A66-$C$4 -> -7000 | E65: =IF(A65<=$C$22,$C$18*EXP(-A65/$C$20),$C$19*EXP(-(A65-$C$22)/$C$21)) -> 353799.74 | F65: =IF(A65<=$C$22,IF($C$12*(1-$C$56*(EXP(A65/$C$20)-1))>0,$C$12*(1-$C$56*(EXP(A65/$C$20)-1)),0),IF($C$60*(1-$C$58*(EXP((A65-$C$22)/$C$21)-1))>0,$C$60*(1-$C$58*(EXP((A65-$C$22)/$C$21)-1)),0)) -> 150.847 | G65: =IF(A65<=$C$22,($C$5-$C$8)*(F65/$C$12)^(1/$C$11)+$C$8, ($C$59-$C$8)*(F65/$C$60)^(1/$C$11)+$C$8) -> 33.7517 | H65: =IF($C$15=0,A65-$C$6/2, A65-$C$6*EXP(-A65/$C$15)/2) -> -12754.026 | I65: =IF($C$15=0,A65+$C$6/2, A65+$C$6*EXP(-A65/$C$15)/2) -> -1245.9736
A66: =A67-$C$4 -> -6000 | E66: =IF(A66<=$C$22,$C$18*EXP(-A66/$C$20),$C$19*EXP(-(A66-$C$22)/$C$21)) -> 340935.74 | F66: =IF(A66<=$C$22,IF($C$12*(1-$C$56*(EXP(A66/$C$20)-1))>0,$C$12*(1-$C$56*(EXP(A66/$C$20)-1)),0),IF($C$60*(1-$C$58*(EXP((A66-$C$22)/$C$21)-1))>0,$C$60*(1-$C$58*(EXP((A66-$C$22)/$C$21)-1)),0)) -> 150.73902 | G66: =IF(A66<=$C$22,($C$5-$C$8)*(F66/$C$12)^(1/$C$11)+$C$8, ($C$59-$C$8)*(F66/$C$60)^(1/$C$11)+$C$8) -> 33.655163 | H66: =IF($C$15=0,A66-$C$6/2, A66-$C$6*EXP(-A66/$C$15)/2) -> -11753.451 | I66: =IF($C$15=0,A66+$C$6/2, A66+$C$6*EXP(-A66/$C$15)/2) -> -246.54896
A67: =A68-$C$4 -> -5000 | E67: =IF(A67<=$C$22,$C$18*EXP(-A67/$C$20),$C$19*EXP(-(A67-$C$22)/$C$21)) -> 328539.47 | F67: =IF(A67<=$C$22,IF($C$12*(1-$C$56*(EXP(A67/$C$20)-1))>0,$C$12*(1-$C$56*(EXP(A67/$C$20)-1)),0),IF($C$60*(1-$C$58*(EXP((A67-$C$22)/$C$21)-1))>0,$C$60*(1-$C$58*(EXP((A67-$C$22)/$C$21)-1)),0)) -> 150.62697 | G67: =IF(A67<=$C$22,($C$5-$C$8)*(F67/$C$12)^(1/$C$11)+$C$8, ($C$59-$C$8)*(F67/$C$60)^(1/$C$11)+$C$8) -> 33.555202 | H67: =IF($C$15=0,A67-$C$6/2, A67-$C$6*EXP(-A67/$C$15)/2) -> -10752.876 | I67: =IF($C$15=0,A67+$C$6/2, A67+$C$6*EXP(-A67/$C$15)/2) -> 752.87572
A68: =A69-$C$4 -> -4000 | E68: =IF(A68<=$C$22,$C$18*EXP(-A68/$C$20),$C$19*EXP(-(A68-$C$22)/$C$21)) -> 316593.92 | F68: =IF(A68<=$C$22,IF($C$12*(1-$C$56*(EXP(A68/$C$20)-1))>0,$C$12*(1-$C$56*(EXP(A68/$C$20)-1)),0),IF($C$60*(1-$C$58*(EXP((A68-$C$22)/$C$21)-1))>0,$C$60*(1-$C$58*(EXP((A68-$C$22)/$C$21)-1)),0)) -> 150.51069 | G68: =IF(A68<=$C$22,($C$5-$C$8)*(F68/$C$12)^(1/$C$11)+$C$8, ($C$59-$C$8)*(F68/$C$60)^(1/$C$11)+$C$8) -> 33.451706 | H68: =IF($C$15=0,A68-$C$6/2, A68-$C$6*EXP(-A68/$C$15)/2) -> -9752.3005 | I68: =IF($C$15=0,A68+$C$6/2, A68+$C$6*EXP(-A68/$C$15)/2) -> 1752.3005
A69: =A70-$C$4 -> -3000 | E69: =IF(A69<=$C$22,$C$18*EXP(-A69/$C$20),$C$19*EXP(-(A69-$C$22)/$C$21)) -> 305082.71 | F69: =IF(A69<=$C$22,IF($C$12*(1-$C$56*(EXP(A69/$C$20)-1))>0,$C$12*(1-$C$56*(EXP(A69/$C$20)-1)),0),IF($C$60*(1-$C$58*(EXP((A69-$C$22)/$C$21)-1))>0,$C$60*(1-$C$58*(EXP((A69-$C$22)/$C$21)-1)),0)) -> 150.39002 | G69: =IF(A69<=$C$22,($C$5-$C$8)*(F69/$C$12)^(1/$C$11)+$C$8, ($C$59-$C$8)*(F69/$C$60)^(1/$C$11)+$C$8) -> 33.344558 | H69: =IF($C$15=0,A69-$C$6/2, A69-$C$6*EXP(-A69/$C$15)/2) -> -8751.7253 | I69: =IF($C$15=0,A69+$C$6/2, A69+$C$6*EXP(-A69/$C$15)/2) -> 2751.7253
A70: =A71-$C$4 -> -2000 | E70: =IF(A70<=$C$22,$C$18*EXP(-A70/$C$20),$C$19*EXP(-(A70-$C$22)/$C$21)) -> 293990.03 | F70: =IF(A70<=$C$22,IF($C$12*(1-$C$56*(EXP(A70/$C$20)-1))>0,$C$12*(1-$C$56*(EXP(A70/$C$20)-1)),0),IF($C$60*(1-$C$58*(EXP((A70-$C$22)/$C$21)-1))>0,$C$60*(1-$C$58*(EXP((A70-$C$22)/$C$21)-1)),0)) -> 150.2648 | G70: =IF(A70<=$C$22,($C$5-$C$8)*(F70/$C$12)^(1/$C$11)+$C$8, ($C$59-$C$8)*(F70/$C$60)^(1/$C$11)+$C$8) -> 33.233639 | H70: =IF($C$15=0,A70-$C$6/2, A70-$C$6*EXP(-A70/$C$15)/2) -> -7751.1501 | I70: =IF($C$15=0,A70+$C$6/2, A70+$C$6*EXP(-A70/$C$15)/2) -> 3751.1501
A71: =A72-$C$4 -> -1000 | E71: =IF(A71<=$C$22,$C$18*EXP(-A71/$C$20),$C$19*EXP(-(A71-$C$22)/$C$21)) -> 283300.69 | F71: =IF(A71<=$C$22,IF($C$12*(1-$C$56*(EXP(A71/$C$20)-1))>0,$C$12*(1-$C$56*(EXP(A71/$C$20)-1)),0),IF($C$60*(1-$C$58*(EXP((A71-$C$22)/$C$21)-1))>0,$C$60*(1-$C$58*(EXP((A71-$C$22)/$C$21)-1)),0)) -> 150.13485 | G71: =IF(A71<=$C$22,($C$5-$C$8)*(F71/$C$12)^(1/$C$11)+$C$8, ($C$59-$C$8)*(F71/$C$60)^(1/$C$11)+$C$8) -> 33.118828 | H71: =IF($C$15=0,A71-$C$6/2, A71-$C$6*EXP(-A71/$C$15)/2) -> -6750.575 | I71: =IF($C$15=0,A71+$C$6/2, A71+$C$6*EXP(-A71/$C$15)/2) -> 4750.575
A72: 0 | E72: =IF(A72<=$C$22,$C$18*EXP(-A72/$C$20),$C$19*EXP(-(A72-$C$22)/$C$21)) -> 273000 | F72: =IF(A72<=$C$22,IF($C$12*(1-$C$56*(EXP(A72/$C$20)-1))>0,$C$12*(1-$C$56*(EXP(A72/$C$20)-1)),0),IF($C$60*(1-$C$58*(EXP((A72-$C$22)/$C$21)-1))>0,$C$60*(1-$C$58*(EXP((A72-$C$22)/$C$21)-1)),0)) -> 150 | G72: =IF(A72<=$C$22,($C$5-$C$8)*(F72/$C$12)^(1/$C$11)+$C$8, ($C$59-$C$8)*(F72/$C$60)^(1/$C$11)+$C$8) -> 33 | H72: =IF($C$15=0,A72-$C$6/2, A72-$C$6*EXP(-A72/$C$15)/2) -> -5750 | I72: =IF($C$15=0,A72+$C$6/2, A72+$C$6*EXP(-A72/$C$15)/2) -> 5750
A73: =A72+$C$4 -> 1000 | E73: =IF(A73<=$C$22,$C$18*EXP(-A73/$C$20),$C$19*EXP(-(A73-$C$22)/$C$21)) -> 263073.84 | F73: =IF(A73<=$C$22,IF($C$12*(1-$C$56*(EXP(A73/$C$20)-1))>0,$C$12*(1-$C$56*(EXP(A73/$C$20)-1)),0),IF($C$60*(1-$C$58*(EXP((A73-$C$22)/$C$21)-1))>0,$C$60*(1-$C$58*(EXP((A73-$C$22)/$C$21)-1)),0)) -> 149.86006 | G73: =IF(A73<=$C$22,($C$5-$C$8)*(F73/$C$12)^(1/$C$11)+$C$8, ($C$59-$C$8)*(F73/$C$60)^(1/$C$11)+$C$8) -> 32.877027 | H73: =IF($C$15=0,A73-$C$6/2, A73-$C$6*EXP(-A73/$C$15)/2) -> -4749.425 | I73: =IF($C$15=0,A73+$C$6/2, A73+$C$6*EXP(-A73/$C$15)/2) -> 6749.425
A74: =A73+$C$4 -> 2000 | E74: =IF(A74<=$C$22,$C$18*EXP(-A74/$C$20),$C$19*EXP(-(A74-$C$22)/$C$21)) -> 253508.59 | F74: =IF(A74<=$C$22,IF($C$12*(1-$C$56*(EXP(A74/$C$20)-1))>0,$C$12*(1-$C$56*(EXP(A74/$C$20)-1)),0),IF($C$60*(1-$C$58*(EXP((A74-$C$22)/$C$21)-1))>0,$C$60*(1-$C$58*(EXP((A74-$C$22)/$C$21)-1)),0)) -> 149.71484 | G74: =IF(A74<=$C$22,($C$5-$C$8)*(F74/$C$12)^(1/$C$11)+$C$8, ($C$59-$C$8)*(F74/$C$60)^(1/$C$11)+$C$8) -> 32.749777 | H74: =IF($C$15=0,A74-$C$6/2, A74-$C$6*EXP(-A74/$C$15)/2) -> -3748.8501 | I74: =IF($C$15=0,A74+$C$6/2, A74+$C$6*EXP(-A74/$C$15)/2) -> 7748.8501
A75: =A74+$C$4 -> 3000 | E75: =IF(A75<=$C$22,$C$18*EXP(-A75/$C$20),$C$19*EXP(-(A75-$C$22)/$C$21)) -> 244291.13 | F75: =IF(A75<=$C$22,IF($C$12*(1-$C$56*(EXP(A75/$C$20)-1))>0,$C$12*(1-$C$56*(EXP(A75/$C$20)-1)),0),IF($C$60*(1-$C$58*(EXP((A75-$C$22)/$C$21)-1))>0,$C$60*(1-$C$58*(EXP((A75-$C$22)/$C$21)-1)),0)) -> 149.56415 | G75: =IF(A75<=$C$22,($C$5-$C$8)*(F75/$C$12)^(1/$C$11)+$C$8, ($C$59-$C$8)*(F75/$C$60)^(1/$C$11)+$C$8) -> 32.618117 | H75: =IF($C$15=0,A75-$C$6/2, A75-$C$6*EXP(-A75/$C$15)/2) -> -2748.2753 | I75: =IF($C$15=0,A75+$C$6/2, A75+$C$6*EXP(-A75/$C$15)/2) -> 8748.2753
A76: =A75+$C$4 -> 4000 | E76: =IF(A76<=$C$22,$C$18*EXP(-A76/$C$20),$C$19*EXP(-(A76-$C$22)/$C$21)) -> 235408.82 | F76: =IF(A76<=$C$22,IF($C$12*(1-$C$56*(EXP(A76/$C$20)-1))>0,$C$12*(1-$C$56*(EXP(A76/$C$20)-1)),0),IF($C$60*(1-$C$58*(EXP((A76-$C$22)/$C$21)-1))>0,$C$60*(1-$C$58*(EXP((A76-$C$22)/$C$21)-1)),0)) -> 149.40776 | G76: =IF(A76<=$C$22,($C$5-$C$8)*(F76/$C$12)^(1/$C$11)+$C$8, ($C$59-$C$8)*(F76/$C$60)^(1/$C$11)+$C$8) -> 32.48191 | H76: =IF($C$15=0,A76-$C$6/2, A76-$C$6*EXP(-A76/$C$15)/2) -> -1747.7005 | I76: =IF($C$15=0,A76+$C$6/2, A76+$C$6*EXP(-A76/$C$15)/2) -> 9747.7005
A77: =A76+$C$4 -> 5000 | E77: =IF(A77<=$C$22,$C$18*EXP(-A77/$C$20),$C$19*EXP(-(A77-$C$22)/$C$21)) -> 226849.46 | F77: =IF(A77<=$C$22,IF($C$12*(1-$C$56*(EXP(A77/$C$20)-1))>0,$C$12*(1-$C$56*(EXP(A77/$C$20)-1)),0),IF($C$60*(1-$C$58*(EXP((A77-$C$22)/$C$21)-1))>0,$C$60*(1-$C$58*(EXP((A77-$C$22)/$C$21)-1)),0)) -> 149.24548 | G77: =IF(A77<=$C$22,($C$5-$C$8)*(F77/$C$12)^(1/$C$11)+$C$8, ($C$59-$C$8)*(F77/$C$60)^(1/$C$11)+$C$8) -> 32.341014 | H77: =IF($C$15=0,A77-$C$6/2, A77-$C$6*EXP(-A77/$C$15)/2) -> -747.12572 | I77: =IF($C$15=0,A77+$C$6/2, A77+$C$6*EXP(-A77/$C$15)/2) -> 10747.126
A78: =A77+$C$4 -> 6000 | E78: =IF(A78<=$C$22,$C$18*EXP(-A78/$C$20),$C$19*EXP(-(A78-$C$22)/$C$21)) -> 218601.31 | F78: =IF(A78<=$C$22,IF($C$12*(1-$C$56*(EXP(A78/$C$20)-1))>0,$C$12*(1-$C$56*(EXP(A78/$C$20)-1)),0),IF($C$60*(1-$C$58*(EXP((A78-$C$22)/$C$21)-1))>0,$C$60*(1-$C$58*(EXP((A78-$C$22)/$C$21)-1)),0)) -> 149.07707 | G78: =IF(A78<=$C$22,($C$5-$C$8)*(F78/$C$12)^(1/$C$11)+$C$8, ($C$59-$C$8)*(F78/$C$60)^(1/$C$11)+$C$8) -> 32.195288 | H78: =IF($C$15=0,A78-$C$6/2, A78-$C$6*EXP(-A78/$C$15)/2) -> 253.44897 | I78: =IF($C$15=0,A78+$C$6/2, A78+$C$6*EXP(-A78/$C$15)/2) -> 11746.551
A79: =A78+$C$4 -> 7000 | E79: =IF(A79<=$C$22,$C$18*EXP(-A79/$C$20),$C$19*EXP(-(A79-$C$22)/$C$21)) -> 210653.06 | F79: =IF(A79<=$C$22,IF($C$12*(1-$C$56*(EXP(A79/$C$20)-1))>0,$C$12*(1-$C$56*(EXP(A79/$C$20)-1)),0),IF($C$60*(1-$C$58*(EXP((A79-$C$22)/$C$21)-1))>0,$C$60*(1-$C$58*(EXP((A79-$C$22)/$C$21)-1)),0)) -> 148.90231 | G79: =IF(A79<=$C$22,($C$5-$C$8)*(F79/$C$12)^(1/$C$11)+$C$8, ($C$59-$C$8)*(F79/$C$60)^(1/$C$11)+$C$8) -> 32.044584 | H79: =IF($C$15=0,A79-$C$6/2, A79-$C$6*EXP(-A79/$C$15)/2) -> 1254.0236 | I79: =IF($C$15=0,A79+$C$6/2, A79+$C$6*EXP(-A79/$C$15)/2) -> 12745.976
A80: =A79+$C$4 -> 8000 | E80: =IF(A80<=$C$22,$C$18*EXP(-A80/$C$20),$C$19*EXP(-(A80-$C$22)/$C$21)) -> 202993.81 | F80: =IF(A80<=$C$22,IF($C$12*(1-$C$56*(EXP(A80/$C$20)-1))>0,$C$12*(1-$C$56*(EXP(A80/$C$20)-1)),0),IF($C$60*(1-$C$58*(EXP((A80-$C$22)/$C$21)-1))>0,$C$60*(1-$C$58*(EXP((A80-$C$22)/$C$21)-1)),0)) -> 148.72095 | G80: =IF(A80<=$C$22,($C$5-$C$8)*(F80/$C$12)^(1/$C$11)+$C$8, ($C$59-$C$8)*(F80/$C$60)^(1/$C$11)+$C$8) -> 31.888755 | H80: =IF($C$15=0,A80-$C$6/2, A80-$C$6*EXP(-A80/$C$15)/2) -> 2254.5982 | I80: =IF($C$15=0,A80+$C$6/2, A80+$C$6*EXP(-A80/$C$15)/2) -> 13745.402
A81: =A80+$C$4 -> 9000 | E81: =IF(A81<=$C$22,$C$18*EXP(-A81/$C$20),$C$19*EXP(-(A81-$C$22)/$C$21)) -> 195613.05 | F81: =IF(A81<=$C$22,IF($C$12*(1-$C$56*(EXP(A81/$C$20)-1))>0,$C$12*(1-$C$56*(EXP(A81/$C$20)-1)),0),IF($C$60*(1-$C$58*(EXP((A81-$C$22)/$C$21)-1))>0,$C$60*(1-$C$58*(EXP((A81-$C$22)/$C$21)-1)),0)) -> 148.53276 | G81: =IF(A81<=$C$22,($C$5-$C$8)*(F81/$C$12)^(1/$C$11)+$C$8, ($C$59-$C$8)*(F81/$C$60)^(1/$C$11)+$C$8) -> 31.727647 | H81: =IF($C$15=0,A81-$C$6/2, A81-$C$6*EXP(-A81/$C$15)/2) -> 3255.1727 | I81: =IF($C$15=0,A81+$C$6/2, A81+$C$6*EXP(-A81/$C$15)/2) -> 14744.827
A82: =A81+$C$4 -> 10000 | E82: =IF(A82<=$C$22,$C$18*EXP(-A82/$C$20),$C$19*EXP(-(A82-$C$22)/$C$21)) -> 188500.64 | F82: =IF(A82<=$C$22,IF($C$12*(1-$C$56*(EXP(A82/$C$20)-1))>0,$C$12*(1-$C$56*(EXP(A82/$C$20)-1)),0),IF($C$60*(1-$C$58*(EXP((A82-$C$22)/$C$21)-1))>0,$C$60*(1-$C$58*(EXP((A82-$C$22)/$C$21)-1)),0)) -> 148.33746 | G82: =IF(A82<=$C$22,($C$5-$C$8)*(F82/$C$12)^(1/$C$11)+$C$8, ($C$59-$C$8)*(F82/$C$60)^(1/$C$11)+$C$8) -> 31.561106 | H82: =IF($C$15=0,A82-$C$6/2, A82-$C$6*EXP(-A82/$C$15)/2) -> 4255.7471 | I82: =IF($C$15=0,A82+$C$6/2, A82+$C$6*EXP(-A82/$C$15)/2) -> 15744.253
A83: =A82+$C$4 -> 11000 | E83: =IF(A83<=$C$22,$C$18*EXP(-A83/$C$20),$C$19*EXP(-(A83-$C$22)/$C$21)) -> 181646.84 | F83: =IF(A83<=$C$22,IF($C$12*(1-$C$56*(EXP(A83/$C$20)-1))>0,$C$12*(1-$C$56*(EXP(A83/$C$20)-1)),0),IF($C$60*(1-$C$58*(EXP((A83-$C$22)/$C$21)-1))>0,$C$60*(1-$C$58*(EXP((A83-$C$22)/$C$21)-1)),0)) -> 148.13479 | G83: =IF(A83<=$C$22,($C$5-$C$8)*(F83/$C$12)^(1/$C$11)+$C$8, ($C$59-$C$8)*(F83/$C$60)^(1/$C$11)+$C$8) -> 31.388976 | H83: =IF($C$15=0,A83-$C$6/2, A83-$C$6*EXP(-A83/$C$15)/2) -> 5256.3215 | I83: =IF($C$15=0,A83+$C$6/2, A83+$C$6*EXP(-A83/$C$15)/2) -> 16743.678
A84: =A83+$C$4 -> 12000 | E84: =IF(A84<=$C$22,$C$18*EXP(-A84/$C$20),$C$19*EXP(-(A84-$C$22)/$C$21)) -> 175042.25 | F84: =IF(A84<=$C$22,IF($C$12*(1-$C$56*(EXP(A84/$C$20)-1))>0,$C$12*(1-$C$56*(EXP(A84/$C$20)-1)),0),IF($C$60*(1-$C$58*(EXP((A84-$C$22)/$C$21)-1))>0,$C$60*(1-$C$58*(EXP((A84-$C$22)/$C$21)-1)),0)) -> 147.92447 | G84: =IF(A84<=$C$22,($C$5-$C$8)*(F84/$C$12)^(1/$C$11)+$C$8, ($C$59-$C$8)*(F84/$C$60)^(1/$C$11)+$C$8) -> 31.211097 | H84: =IF($C$15=0,A84-$C$6/2, A84-$C$6*EXP(-A84/$C$15)/2) -> 6256.8959 | I84: =IF($C$15=0,A84+$C$6/2, A84+$C$6*EXP(-A84/$C$15)/2) -> 17743.104
... A198: =A197+$C$4 -> 126000 | E198: =IF(A198<=$C$22,$C$18*EXP(-A198/$C$20),$C$19*EXP(-(A198-$C$22)/$C$21)) -> 1908.865 | F198: =IF(A198<=$C$22,IF($C$12*(1-$C$56*(EXP(A198/$C$20)-1))>0,$C$12*(1-$C$56*(EXP(A198/$C$20)-1)),0),IF($C$60*(1-$C$58*(EXP((A198-$C$22)/$C$21)-1))>0,$C$60*(1-$C$58*(EXP((A198-$C$22)/$C$21)-1)),0)) -> 0 | G198: =IF(A198<=$C$22,($C$5-$C$8)*(F198/$C$12)^(1/$C$11)+$C$8, ($C$59-$C$8)*(F198/$C$60)^(1/$C$11)+$C$8) -> 0 | H198: =IF($C$15=0,A198-$C$6/2, A198-$C$6*EXP(-A198/$C$15)/2) -> 120322 | I198: =IF($C$15=0,A198+$C$6/2, A198+$C$6*EXP(-A198/$C$15)/2) -> 131678
