Workbook

Sheet Overview
B2: This sheet is provided as a tool to calculate salt intrusion in alluvial estuaries. It uses the analytical model as described in Salinity and Tides by H.H.G Savenije 2005
B14: Estuary
B15: Westerschelde
B17: Geometry
B18: Area at mouth | C18: A0 | D18: 273000 | E18: m2
B19: Area at x1 | C19: A1 | D19: =D18*EXP(-D22/D20) -> 4643.1719 | E19: m2
B20: Convergence length | C20: a1 | D20: 27000 | E20: m
B21: Convergence length 2 | C21: a2 | D21: 18000 | E21: m
B22: Inflection point | C22: x1 | D22: 110000 | E22: m
B23: Depth | C23: h0 | D23: 10.5 | E23: m
B25: Measurements
B26: 36832
B27: Model Duc

Sheet 2 Nov 2000
A1: STEADY SALT INTRUSION MODEL (TA)
A2: Scheldt November 2000
A3: Input | F3: Measurements
A4: Step length | B4: dx | C4: 1000 | D4: m | F4: x (m) | G4: HWS | H4: x (m) | I4: LWS
A5: Sea salinity | B5: S0 | C5: 33 | D5: kg/m3 | F5: 30391.026 | G5: 30 | H5: 30391.026 | I5: 28.5
A6: Tidal Excursion | B6: E0 | C6: 12000 | D6: m | F6: 38391.026 | G6: 28 | H6: 38391.026 | I6: 26.1
A7: Tidal Range | B7: H | C7: 4 | D7: m | F7: 50141.026 | G7: 27 | H7: 60766.026 | I7: 17.9
A8: Fresh water salinity | B8: Cf | C8: 0 | D8: kg/m3 | F8: 60766.026 | G8: 23 | H8: 73141.026 | I8: 12.7
F9: 73141.026 | G9: 17.5 | H9: 81266.026 | I9: 13.9
A10: Calibration parameters | F10: 86766.026 | G10: 11 | H10: 86766.026 | I10: 8.3
A11: Van Den Burgh | B11: K | C11: 0.25 | F11: 94516.026 | G11: 9 | H11: 10641.026 | I11: 31.6
A12: Dispersion at mouth | B12: Do | C12: 450 | D12: m2/s | F12: 30391.026 | G12: 31.2 | H12: 14391.026 | I12: 30.8
A13: Discharge | B13: Q | C13: 220 | D13: m3/s | F13: 33391.026 | G13: 31.8 | H13: 26891.026 | I13: 29.7
A14: Alpha 0 | B14: α0 | C14: =C12/C13 -> 2.0454545 | D14: 1/m | F14: 36641.026 | G14: 30.3 | H14: 30391.026 | I14: 28.9
F15: 39641.026 | G15: 28.8 | H15: 33391.026 | I15: 29.8
A16: Geometry | F16: 45141.026 | G16: 26.7 | H16: 36641.026 | I16: 26.3
A17: Area at mouth | B17: A0 | C17: =Overview!D18 -> 273000 | D17: m2 | F17: 50141.026 | G17: 25.6 | H17: 45141.026 | I17: 23.4
A18: Area at x1 | B18: A1 | C18: =Overview!D19 -> 4643.1719 | D18: m2 | F18: 61141.026 | G18: 22.2 | H18: 50141.026 | I18: 22.9
A19: Convergence length | B19: a1 | C19: =Overview!D20 -> 27000 | D19: m | F19: 66516.026 | G19: 22.3 | H19: 53641.026 | I19: 21
A20: Convergence length 2 | B20: a2 | C20: =Overview!D21 -> 18000 | D20: m | F20: 77391.026 | G20: 16.1 | H20: 61141.026 | I20: 19.5
A21: Inflection point | B21: x1 | C21: =Overview!D22 -> 110000 | D21: m | H21: 66516.026 | I21: 17.6
A22: Depth | B22: h0 | C22: =Overview!D23 -> 10.5 | D22: m | H22: 73141.026 | I22: 13.5
H23: 77391.026 | I23: 12.1
H24: 83266.026 | I24: 10.2
H25: 86766.026 | I25: 9.1
H26: 91516.026 | I26: 7.7
H27: 94516.026 | I27: 6.4
H28: 97766.026 | I28: 5.1 | K28: Observation:
H29: 102891.03 | I29: 3.2 | K29: The green dots were done by a moving boat which was too slow. In the upstream part the observations were not made at LWS but later.
H30: 108391.03 | I30: 1
A33: Calculations | F33: REMARKS
A34: Beta | B34: β | C34: =$C$11*$C$19/C$14/$C$17 -> 0.012087912
A35: Alpha 1 | B35: α1 | C35: =C38/C13 -> 0.61643221 | D35: 1/m
A36: Beta1 | B36: β1 | C36: =C11*C20/C35/C18 -> 1.5722168
A37: Salinity at x1 | B37: S1 | C37: =($C$5-$C$8)*(C38/C12)^(1/$C$11)+$C$8 -> 0.27220487 | D37: kg/m3
A38: Dispersion at x1 | B38: D1 | C38: =C12*(1-C34*(EXP(C21/C19)-1)) -> 135.61509
A40: x: | B40: Shifted x | E40: A | F40: D | G40: S | H40: xLWS | I40: xHWS
A41: =A42-$C$4-9000 -> -18000 | E41: =IF(A41<=$C$21,$C$17*EXP(-A41/$C$19),$C$18*EXP(-(A41-$C$21)/$C$20)) -> 531731.39 | F41: =IF(A41<=$C$21,IF($C$12*(1-$C$34*(EXP(A41/$C$19)-1))>0,$C$12*(1-$C$34*(EXP(A41/$C$19)-1)),0),IF($C$38*(1-$C$36*(EXP((A41-$C$21)/$C$20)-1))>0,$C$38*(1-$C$36*(EXP((A41-$C$21)/$C$20)-1)),0)) -> 452.6468 | G41: =IF(A41<=$C$21,($C$5-$C$8)*(F41/$C$12)^(1/$C$11)+$C$8, ($C$37-$C$8)*(F41/$C$38)^(1/$C$11)+$C$8) -> 33.783271 | H41: =A41-$C$6/2 -> -24000 | I41: =A41+$C$6/2 -> -12000
A42: =A43-$C$4 -> -8000 | E42: =IF(A42<=$C$21,$C$17*EXP(-A42/$C$19),$C$18*EXP(-(A42-$C$21)/$C$20)) -> 367149.12 | F42: =IF(A42<=$C$21,IF($C$12*(1-$C$34*(EXP(A42/$C$19)-1))>0,$C$12*(1-$C$34*(EXP(A42/$C$19)-1)),0),IF($C$38*(1-$C$36*(EXP((A42-$C$21)/$C$20)-1))>0,$C$38*(1-$C$36*(EXP((A42-$C$21)/$C$20)-1)),0)) -> 451.39488 | G42: =IF(A42<=$C$21,($C$5-$C$8)*(F42/$C$12)^(1/$C$11)+$C$8, ($C$37-$C$8)*(F42/$C$38)^(1/$C$11)+$C$8) -> 33.411072 | H42: =A42-$C$6/2 -> -14000 | I42: =A42+$C$6/2 -> -2000
A43: =A44-$C$4 -> -7000 | E43: =IF(A43<=$C$21,$C$17*EXP(-A43/$C$19),$C$18*EXP(-(A43-$C$21)/$C$20)) -> 353799.74 | F43: =IF(A43<=$C$21,IF($C$12*(1-$C$34*(EXP(A43/$C$19)-1))>0,$C$12*(1-$C$34*(EXP(A43/$C$19)-1)),0),IF($C$38*(1-$C$36*(EXP((A43-$C$21)/$C$20)-1))>0,$C$38*(1-$C$36*(EXP((A43-$C$21)/$C$20)-1)),0)) -> 451.24227 | G43: =IF(A43<=$C$21,($C$5-$C$8)*(F43/$C$12)^(1/$C$11)+$C$8, ($C$37-$C$8)*(F43/$C$38)^(1/$C$11)+$C$8) -> 33.365911 | H43: =A43-$C$6/2 -> -13000 | I43: =A43+$C$6/2 -> -1000
...

Sheet Duc
A1: STEADY SALT INTRUSION MODEL (TA)
A2: Scheldt
A3: Input | F3: Measurements
A4: Step length | B4: dx | C4: 1000 | D4: m | F4: x (m) | G4: HWS | H4: x (m) | I4: LWS
A5: Sea salinity | B5: S0 | C5: 33 | D5: kg/m3 | F5: 0 | G5: 34.068 | H5: 0 | I5: 32.603
A6: Tidal Excursion | B6: E0 | C6: 11500 | D6: m | F6: 2176 | G6: 33.877 | H6: 2176 | I6: 31.532
A7: Tidal Range | B7: H | C7: 3.5 | D7: m | F7: 4938.1674 | G7: 33.547 | H7: 4938.1674 | I7: 30.614
A8: Fresh water salinity | B8: Cf | C8: 0 | D8: kg/m3 | F8: 8288.2649 | G8: 33.182 | H8: 8288.2649 | I8: 29.59
F9: 11305.958 | G9: 32.712 | H9: 11305.958 | I9: 28.581
A10: Calibration parameters | F10: 13672.613 | G10: 32.18 | H10: 13672.613 | I10: 27.891
A11: Van Den Burgh | B11: K | C11: 0.25 | F11: 15728.669 | G11: 31.764 | H11: 15728.669 | I11: 27.721
A12: Dispersion at mouth | B12: Do | C12: 150 | D12: m2/s | F12: 18491.226 | G12: 30.686 | H12: 18491.226 | I12: 26.854
A13: Discharge | B13: Q | C13: 150 | D13: m3/s | F13: 20142.252 | G13: 30.153 | H13: 20142.252 | I13: 26.439
A14: Alpha 0 | B14: α0 | C14: =C12/C13 -> 1 | D14: 1/m | F14: 22009.108 | G14: 29.507 | H14: 22009.108 | I14: 26.116
A15: Convergence Excursion | B15: e | C15: 10000000 | D15: m
F16: 23745.077 | G16: 28.658 | H16: 23745.077 | I16: 24.854
A17: Geometry | F17: 25462.088 | G17: 28.505 | H17: 25462.088 | I17: 25.283
A18: Area at mouth | B18: A0 | C18: =Overview!D18 -> 273000 | D18: m2 | F18: 27865.653 | G18: 27.736 | H18: 27865.653 | I18: 24.601
A19: Area at x1 | B19: A1 | C19: =Overview!D19 -> 4643.1719 | D19: m2 | F19: 30523.547 | G19: 26.937 | H19: 30523.547 | I19: 23.389
A20: Convergence length | B20: a1 | C20: =Overview!D20 -> 27000 | D20: m | F20: 32573.985 | G20: 26.504 | H20: 32573.985 | I20: 23.087
A21: Convergence length 2 | B21: a2 | C21: =Overview!D21 -> 18000 | D21: m | F21: 34101.414 | G21: 26.259 | H21: 34101.414 | I21: 22.75
A22: Inflection point | B22: x1 | C22: =Overview!D22 -> 110000 | D22: m | F22: 35815.974 | G22: 24.104 | H22: 35815.974 | I22: 21.075
A23: Depth | B23: h0 | C23: =Overview!D23 -> 10.5 | D23: m | F23: 38013.327 | H23: 38013.327
F24: 41018.907 | G24: 23.378 | H24: 41018.907 | I24: 20.116
F25: 43003.485 | G25: 22.12 | H25: 43003.485 | I25: 18.686
F26: 45208.952 | G26: 23.716 | H26: 45208.952 | I26: 19.954
F27: 47857.937 | G27: 22.737 | H27: 47857.937 | I27: 18.472
F28: 49748.018 | G28: 21.298 | H28: 49748.018 | I28: 17.226
F29: 51049.457 | G29: 20.42 | H29: 51049.457 | I29: 15.647
F30: 52753.684 | G30: 20.183 | H30: 52753.684 | I30: 14.498
F31: 54063.249 | G31: 19.184 | H31: 54063.249 | I31: 13.142
F32: 56808.128 | G32: 18.944 | H32: 56808.128 | I32: 12.407
F33: 59055.469 | G33: 17.459 | H33: 59055.469 | I33: 10.882
F34: 60399.293 | G34: 17.152 | H34: 60399.293 | I34: 10.168
F35: 61680.621 | G35: 16.481 | H35: 61680.621 | I35: 9.6917
... F53: 103188.79 | G53: 0.033723 | H53: 103188.79 | I53: 0.027662
A55: Calculations | F55: REMARKS
A56: Beta | B56: β | C56: =$C$11*$C$20/C$14/$C$18 -> 0.024725275
A57: Alpha 1 | B57: α1 | C57: =C60/C13 -> -0.42902234 | D57: 1/m
A58: Beta1 | B58: β1 | C58: =C11*C21/C57/C19 -> -2.2590084
...
